Workbook

Sheet 메뉴별 기관수집량(07월31일 기준)
A1: 대메뉴 | B1: 총합 | C1: 철도미디어 | D1: 철도소식 | E1: 전문자료 | F1: 취업정보 | G1: 인재개발 | H1: 레일광장 | I1: 철도역사관 | J1: 해외철도정보 | K1: 철도통계 | L1: 고객센터 | M1: 레일포털 | N1: 철도 Biz
A2: 총계 | B2: =SUM(C2:N2) -> 371856 | C2: =금월!$E4 -> 66 | D2: =금월!$E10 -> 37584 | E2: =금월!$E26 -> 110179 | F2: =금월!$E35 -> 5648 | G2: =금월!$E40 -> 482 | H2: =금월!$E53 -> 14391 | I2: =금월!$E64 -> 5267 | J2: =금월!$E83 -> 112690 | K2: =금월!$E90 -> 38801 | L2: =금월!$E100 -> 1026 | M2: =금월!$E120 -> 10213 | N2: =금월!$E153 -> 35509
A3: 국토교통부 | B3: =SUM(C3:N3) -> 2298 | C3: =금월!$F4 -> 0 | D3: =금월!$F10 -> 1762 | E3: =금월!F26 -> 30 | F3: =금월!F35 -> 365 | G3: =금월!F40 -> 0 | H3: =금월!F53 -> 4 | I3: =금월!F64 -> 23 | J3: =금월!F83 -> 1 | K3: =금월!F90 -> 66 | L3: =금월!F100 -> 0 | M3: =금월!F120 -> 0 | N3: =금월!F153 -> 47
A4: 국가철도공단 | B4: =SUM(C4:N4) -> 38040 | C4: =금월!$G4 -> 0 | D4: =금월!$G10 -> 3917 | E4: =금월!G26 -> 30173 | F4: =금월!G35 -> 130 | G4: =금월!G40 -> 0 | H4: =금월!G53 -> 12 | I4: =금월!G64 -> 34 | J4: =금월!G83 -> 865 | K4: =금월!G90 -> 35 | L4: =금월!G100 -> 4 | M4: =금월!G120 -> 0 | N4: =금월!G153 -> 2870
A5: 한국철도공사 | B5: =SUM(C5:N5) -> 35077 | C5: =금월!$H4 -> 0 | D5: =금월!$H10 -> 5665 | E5: =금월!H26 -> 14078 | F5: =금월!H35 -> 1283 | G5: =금월!H40 -> 0 | H5: =금월!H53 -> 280 | I5: =금월!H64 -> 12 | J5: =금월!H83 -> 125 | K5: =금월!H90 -> 48 | L5: =금월!H100 -> 0 | M5: =금월!H120 -> 0 | N5: =금월!H153 -> 13586
A6: 한국철도기술연구원 | B6: =SUM(C6:N6) -> 5295 | C6: =금월!$I4 -> 0 | D6: =금월!$I10 -> 705 | E6: =금월!I26 -> 2730 | F6: =금월!I35 -> 91 | G6: =금월!I40 -> 0 | H6: =금월!I53 -> 84 | I6: =금월!I64 -> 0 | J6: =금월!I83 -> 99 | K6: =금월!I90 -> 0 | L6: =금월!I100 -> 0 | M6: =금월!I120 -> 0 | N6: =금월!I153 -> 1586
A7: 공항철도 | B7: =SUM(C7:N7) -> 1213 | C7: =금월!$J4 -> 0 | D7: =금월!$J10 -> 632 | E7: =금월!J26 -> 323 | F7: =금월!J35 -> 62 | G7: =금월!J40 -> 0 | H7: =금월!J53 -> 2 | I7: =금월!J64 -> 1 | J7: =금월!J83 -> 24 | K7: =금월!J90 -> 0 | L7: =금월!J100 -> 0 | M7: =금월!J120 -> 0 | N7: =금월!J153 -> 169
A8: 서울교통공사(서울메트로) | B8: =SUM(C8:N8) -> 448 | C8: =금월!$K4 -> 0 | D8: =금월!$K10 -> 234 | E8: =금월!K26 -> 0 | F8: =금월!K35 -> 214 | G8: =금월!K40 -> 0 | H8: =금월!K53 -> 0 | I8: =금월!K64 -> 0 | J8: =금월!K83 -> 0 | K8: =금월!K90 -> 0 | L8: =금월!K100 -> 0 | M8: =금월!K120 -> 0 | N8: =금월!K153 -> 0
A9: 대구교통공사 | B9: =SUM(C9:N9) -> 2610 | C9: =금월!$L4 -> 0 | D9: =금월!$L10 -> 1291 | E9: =금월!L26 -> 985 | F9: =금월!L35 -> 147 | G9: =금월!L40 -> 0 | H9: =금월!L53 -> 1 | I9: =금월!L64 -> 1 | J9: =금월!L83 -> 0 | K9: =금월!L90 -> 0 | L9: =금월!L100 -> 0 | M9: =금월!L120 -> 0 | N9: =금월!L153 -> 185
A10: 대전교통공사 | B10: =SUM(C10:N10) -> 1757 | C10: =금월!$M4 -> 0 | D10: =금월!$M10 -> 842 | E10: =금월!M26 -> 586 | F10: =금월!M35 -> 148 | G10: =금월!M40 -> 0 | H10: =금월!M53 -> 1 | I10: =금월!M64 -> 0 | J10: =금월!M83 -> 9 | K10: =금월!M90 -> 0 | L10: =금월!M100 -> 0 | M10: =금월!M120 -> 0 | N10: =금월!M153 -> 171
A11: 광주교통공사 | B11: =SUM(C11:N11) -> 4215 | C11: =금월!$N4 -> 0 | D11: =금월!$N10 -> 1621 | E11: =금월!N26 -> 2359 | F11: =금월!N35 -> 135 | G11: =금월!N40 -> 0 | H11: =금월!N53 -> 1 | I11: =금월!N64 -> 0 | J11: =금월!N83 -> 5 | K11: =금월!N90 -> 0 | L11: =금월!N100 -> 0 | M11: =금월!N120 -> 0 | N11: =금월!N153 -> 94
A12: 부산교통공사 | B12: =SUM(C12:N12) -> 4658 | C12: =금월!$O4 -> 0 | D12: =금월!$O10 -> 1416 | E12: =금월!O26 -> 2665 | F12: =금월!O35 -> 153 | G12: =금월!O40 -> 0 | H12: =금월!O53 -> 1 | I12: =금월!O64 -> 1 | J12: =금월!O83 -> 28 | K12: =금월!O90 -> 0 | L12: =금월!O100 -> 0 | M12: =금월!O120 -> 0 | N12: =금월!O153 -> 394
A13: 인천교통공사 | B13: =SUM(C13:N13) -> 3061 | C13: =금월!$P4 -> 0 | D13: =금월!$P10 -> 1502 | E13: =금월!P26 -> 986 | F13: =금월!P35 -> 298 | G13: =금월!P40 -> 0 | H13: =금월!P53 -> 1 | I13: =금월!P64 -> 2 | J13: =금월!P83 -> 0 | K13: =금월!P90 -> 0 | L13: =금월!P100 -> 0 | M13: =금월!P120 -> 0 | N13: =금월!P153 -> 272
A14: 서울교통공사(서울도시철도공사) | B14: =SUM(C14:N14) -> 535 | C14: =금월!$Q4 -> 0 | D14: =금월!$Q10 -> 355 | E14: =금월!Q26 -> 0 | F14: =금월!Q35 -> 179 | G14: =금월!Q40 -> 0 | H14: =금월!Q53 -> 0 | I14: =금월!Q64 -> 1 | J14: =금월!Q83 -> 0 | K14: =금월!Q90 -> 0 | L14: =금월!Q100 -> 0 | M14: =금월!Q120 -> 0 | N14: =금월!Q153 -> 0
A15: 서울교통공사 | B15: =SUM(C15:N15) -> 4055 | C15: =금월!$R4 -> 0 | D15: =금월!$R10 -> 1037 | E15: =금월!R26 -> 1229 | F15: =금월!R35 -> 482 | G15: =금월!R40 -> 0 | H15: =금월!R53 -> 1 | I15: =금월!R64 -> 2 | J15: =금월!R83 -> 0 | K15: =금월!R90 -> 0 | L15: =금월!R100 -> 0 | M15: =금월!R120 -> 0 | N15: =금월!R153 -> 1304
A16: 서울시메트로9호선 | B16: =SUM(C16:N16) -> 211 | C16: =금월!$S4 -> 0 | D16: =금월!$S10 -> 55 | E16: =금월!S26 -> 0 | F16: =금월!S35 -> 94 | G16: =금월!S40 -> 0 | H16: =금월!S53 -> 1 | I16: =금월!S64 -> 1 | J16: =금월!S83 -> 0 | K16: =금월!S90 -> 0 | L16: =금월!S100 -> 0 | M16: =금월!S120 -> 0 | N16: =금월!S153 -> 60
A17: 서울9호선운영 | B17: =SUM(C17:N17) -> 5 | C17: =금월!$T4 -> 0 | D17: =금월!$T10 -> 0 | E17: =금월!T26 -> 1 | F17: =금월!T35 -> 3 | G17: =금월!T40 -> 0 | H17: =금월!T53 -> 0 | I17: =금월!T64 -> 1 | J17: =금월!T83 -> 0 | K17: =금월!T90 -> 0 | L17: =금월!T100 -> 0 | M17: =금월!T120 -> 0 | N17: =금월!T153 -> 0
A18: 의정부경전철 | B18: =SUM(C18:N18) -> 37 | C18: =금월!$U4 -> 0 | D18: =금월!$U10 -> 16 | E18: =금월!U26 -> 14 | F18: =금월!U35 -> 5 | G18: =금월!U40 -> 0 | H18: =금월!U53 -> 1 | I18: =금월!U64 -> 0 | J18: =금월!U83 -> 0 | K18: =금월!U90 -> 0 | L18: =금월!U100 -> 0 | M18: =금월!U120 -> 0 | N18: =금월!U153 -> 1
A19: 부산김해경전철 | B19: =SUM(C19:N19) -> 240 | C19: =금월!$V4 -> 0 | D19: =금월!$V10 -> 115 | E19: =금월!V26 -> 10 | F19: =금월!V35 -> 54 | G19: =금월!V40 -> 0 | H19: =금월!V53 -> 1 | I19: =금월!V64 -> 0 | J19: =금월!V83 -> 0 | K19: =금월!V90 -> 0 | L19: =금월!V100 -> 0 | M19: =금월!V120 -> 0 | N19: =금월!V153 -> 60
A20: 용인경량전철 | B20: =SUM(C20:N20) -> 59 | C20: =금월!$W4 -> 0 | D20: =금월!$W10 -> 33 | E20: =금월!W26 -> 1 | F20: =금월!W35 -> 24 | G20: =금월!W40 -> 0 | H20: =금월!W53 -> 1 | I20: =금월!W64 -> 0 | J20: =금월!W83 -> 0 | K20: =금월!W90 -> 0 | L20: =금월!W100 -> 0 | M20: =금월!W120 -> 0 | N20: =금월!W153 -> 0
A21: ㈜SR | B21: =SUM(C21:N21) -> 1577 | C21: =금월!$X4 -> 0 | D21: =금월!$X10 -> 1164 | E21: =금월!X26 -> 267 | F21: =금월!X35 -> 87 | G21: =금월!X40 -> 0 | H21: =금월!X53 -> 1 | I21: =금월!X64 -> 0 | J21: =금월!X83 -> 0 | K21: =금월!X90 -> 0 | L21: =금월!X100 -> 0 | M21: =금월!X120 -> 0 | N21: =금월!X153 -> 58
A22: 네오트랜스 | B22: =SUM(C22:N22) -> 108 | C22: =금월!$Y4 -> 0 | D22: =금월!$Y10 -> 22 | E22: =금월!Y$26 -> 2 | F22: =금월!Y35 -> 83 | G22: =금월!Y40 -> 0 | H22: =금월!Y53 -> 1 | I22: =금월!Y64 -> 0 | J22: =금월!Y83 -> 0 | K22: =금월!Y90 -> 0 | L22: =금월!Y100 -> 0 | M22: =금월!Y120 -> 0 | N22: =금월!Y153 -> 0
A23: 김포골드라인㈜ | B23: =SUM(C23:N23) -> 179 | C23: =금월!$Z4 -> 0 | D23: =금월!$Z10 -> 13 | E23: =금월!$Z$26 -> 113 | F23: =금월!$Z$35 -> 33 | G23: =금월!$Z$40 -> 0 | H23: =금월!$Z$53 -> 1 | I23: =금월!$Z$64 -> 0 | J23: =금월!$Z$83 -> 0 | K23: =금월!$Z$90 -> 0 | L23: =금월!$Z$100 -> 0 | M23: =금월!$Z$120 -> 0 | N23: =금월!$Z$153 -> 19
A24: 남서울경전철㈜ | B24: =SUM(C24:N24) -> 26 | C24: =금월!$AA4 -> 0 | D24: =금월!$AA10 -> 5 | E24: =금월!$AA$26 -> 5 | F24: =금월!$AA$35 -> 11 | G24: =금월!$AA$40 -> 0 | H24: =금월!$AA$53 -> 0 | I24: =금월!$AA$64 -> 0 | J24: =금월!$AA$83 -> 0 | K24: =금월!$AA$90 -> 0 | L24: =금월!$AA$100 -> 0 | M24: =금월!$AA$120 -> 0 | N24: =금월!$AA$153 -> 5
A25: 새서울철도㈜ | B25: =SUM(C25:N25) -> 0 | C25: =금월!$AB4 -> 0 | D25: =금월!$AB10 -> 0 | E25: =금월!$AB$26 -> 0 | F25: =금월!$AB$35 -> 0 | G25: =금월!$AB$40 -> 0 | H25: =금월!$AB$53 -> 0 | I25: =금월!$AB$64 -> 0 | J25: =금월!$AB$83 -> 0 | K25: =금월!$AB$90 -> 0 | L25: =금월!$AB$100 -> 0 | M25: =금월!$AB$120 -> 0 | N25: =금월!$AB$153 -> 0
A26: 신분당선㈜ | B26: =SUM(C26:N26) -> 6 | C26: =금월!$AC4 -> 0 | D26: =금월!$AC10 -> 3 | E26: =금월!$AC$26 -> 0 | F26: =금월!$AC$35 -> 3 | G26: =금월!$AC$40 -> 0 | H26: =금월!$AC$53 -> 0 | I26: =금월!$AC$64 -> 0 | J26: =금월!$AC$83 -> 0 | K26: =금월!$AC$90 -> 0 | L26: =금월!$AC$100 -> 0 | M26: =금월!$AC$120 -> 0 | N26: =금월!$AC$153 -> 0
A27: 서해철도㈜ | B27: =SUM(C27:N27) -> 354 | C27: =금월!$AD4 -> 0 | D27: =금월!$AD10 -> 17 | E27: =금월!$AD$26 -> 285 | F27: =금월!$AD$35 -> 31 | G27: =금월!$AD$40 -> 0 | H27: =금월!$AD$53 -> 1 | I27: =금월!$AD$64 -> 1 | J27: =금월!$AD$83 -> 0 | K27: =금월!$AD$90 -> 0 | L27: =금월!$AD$100 -> 0 | M27: =금월!$AD$120 -> 0 | N27: =금월!$AD$153 -> 19
A28: 이레일㈜ | B28: =SUM(C28:N28) -> 0 | C28: =금월!$AE4 -> 0 | D28: =금월!$AE10 -> 0 | E28: =금월!$AE$26 -> 0 | F28: =금월!$AE$35 -> 0 | G28: =금월!$AE$40 -> 0 | H28: =금월!$AE$53 -> 0 | I28: =금월!$AE$64 -> 0 | J28: =금월!$AE$83 -> 0 | K28: =금월!$AE$90 -> 0 | L28: =금월!$AE$100 -> 0 | M28: =금월!$AE$120 -> 0 | N28: =금월!$AE$153 -> 0
A29: 우이신설경전철㈜ | B29: =SUM(C29:N29) -> 88 | C29: =금월!$AF4 -> 0 | D29: =금월!$AF10 -> 10 | E29: =금월!$AF$26 -> 2 | F29: =금월!$AF$35 -> 65 | G29: =금월!$AF$40 -> 0 | H29: =금월!$AF$53 -> 2 | I29: =금월!$AF$64 -> 0 | J29: =금월!$AF$83 -> 0 | K29: =금월!$AF$90 -> 0 | L29: =금월!$AF$100 -> 0 | M29: =금월!$AF$120 -> 0 | N29: =금월!$AF$153 -> 9
A30: 에스지레일㈜ | B30: =SUM(C30:N30) -> 0 | C30: =금월!$AG4 -> 0 | D30: =금월!$AG10 -> 0 | E30: =금월!$AG$26 -> 0 | F30: =금월!$AG$35 -> 0 | G30: =금월!$AG$40 -> 0 | H30: =금월!$AG$53 -> 0 | I30: =금월!$AG$64 -> 0 | J30: =금월!$AG$83 -> 0 | K30: =금월!$AG$90 -> 0 | L30: =금월!$AG$100 -> 0 | M30: =금월!$AG$120 -> 0 | N30: =금월!$AG$153 -> 0
A31: 지티엑스에이운영㈜ | B31: =SUM(C31:N31) -> 0 | C31: =금월!$AH4 -> 0 | D31: =금월!$AH10 -> 0 | E31: =금월!$AH$26 -> 0 | F31: =금월!$AH$35 -> 0 | G31: =금월!$AH$40 -> 0 | H31: =금월!$AH$53 -> 0 | I31: =금월!$AH$64 -> 0 | J31: =금월!$AH$83 -> 0 | K31: =금월!$AH$90 -> 0 | L31: =금월!$AH$100 -> 0 | M31: =금월!$AH$120 -> 0 | N31: =금월!$AH$153 -> 0
A32: KIND | B32: =SUM(C32:N32) -> 97 | C32: =금월!$AI4 -> 0 | D32: =금월!$AI10 -> 0 | E32: =금월!AI$26 -> 0 | F32: =금월!AI35 -> 5 | G32: =금월!AI40 -> 0 | H32: =금월!AI53 -> 0 | I32: =금월!AI64 -> 0 | J32: =금월!AI83 -> 92 | K32: =금월!AI90 -> 0 | L32: =금월!AI100 -> 0 | M32: =금월!AI120 -> 0 | N32: =금월!AI153 -> 0
A33: 한국교통안전공단 | B33: =SUM(C33:N33) -> 2504 | C33: =금월!$AJ4 -> 0 | D33: =금월!$AJ10 -> 17 | E33: =금월!AJ26 -> 1134 | F33: =금월!AJ35 -> 1278 | G33: =금월!AJ40 -> 3 | H33: =금월!AJ53 -> 1 | I33: =금월!AJ64 -> 0 | J33: =금월!AJ83 -> 0 | K33: =금월!AJ90 -> 71 | L33: =금월!AJ100 -> 0 | M33: =금월!AJ120 -> 0 | N33: =금월!AJ153 -> 0
A34: 한국철도학회 | B34: =SUM(C34:N34) -> 14589 | C34: =금월!$AK4 -> 0 | D34: =금월!$AK10 -> 250 | E34: =금월!AK26 -> 14331 | F34: =금월!AK35 -> 1 | G34: =금월!AK40 -> 0 | H34: =금월!AK53 -> 0 | I34: =금월!AK64 -> 0 | J34: =금월!AK83 -> 7 | K34: =금월!AK90 -> 0 | L34: =금월!AK100 -> 0 | M34: =금월!AK120 -> 0 | N34: =금월!AK153 -> 0
A35: 철도산업정보센터 | B35: =SUM(C35:N35) -> 24941 | C35: =금월!$AL4 -> 66 | D35: =금월!$AL10 -> 18 | E35: =금월!AL26 -> 11017 | F35: =금월!AL35 -> 88 | G35: =금월!AL40 -> 0 | H35: =금월!AL53 -> 198 | I35: =금월!AL64 -> 1 | J35: =금월!AL83 -> 2313 | K35: =금월!AL90 -> 1 | L35: =금월!AL100 -> 1021 | M35: =금월!AL120 -> 10213 | N35: =금월!AL153 -> 5
A36: 해외건설협회 | B36: =SUM(C36:N36) -> 6689 | C36: =금월!$AM4 -> 0 | D36: =금월!$AM10 -> 0 | E36: =금월!AM26 -> 0 | F36: =금월!AM35 -> 0 | G36: =금월!AM40 -> 163 | H36: =금월!AM53 -> 0 | I36: =금월!AM64 -> 0 | J36: =금월!AM83 -> 6489 | K36: =금월!AM90 -> 0 | L36: =금월!AM100 -> 0 | M36: =금월!AM120 -> 0 | N36: =금월!AM153 -> 37
A37: 한국철도협회 | B37: =SUM(C37:N37) -> 749 | C37: =금월!$AN4 -> 0 | D37: =금월!$AN10 -> 6 | E37: =금월!AN26 -> 1 | F37: =금월!AN35 -> 2 | G37: =금월!AN40 -> 160 | H37: =금월!AN53 -> 0 | I37: =금월!AN64 -> 0 | J37: =금월!AN83 -> 578 | K37: =금월!AN90 -> 0 | L37: =금월!AN100 -> 0 | M37: =금월!AN120 -> 0 | N37: =금월!AN153 -> 2
A38: 중소벤처기업부 | B38: =SUM(C38:N38) -> 5456 | C38: =금월!$AO4 -> 0 | D38: =금월!$AO10 -> 0 | E38: =금월!AO26 -> 0 | F38: =금월!AO35 -> 0 | G38: =금월!AO40 -> 0 | H38: =금월!AO53 -> 0 | I38: =금월!AO64 -> 0 | J38: =금월!AO83 -> 5058 | K38: =금월!AO90 -> 0 | L38: =금월!AO100 -> 0 | M38: =금월!AO120 -> 0 | N38: =금월!AO153 -> 398
A39: 외교부 | B39: =SUM(C39:N39) -> 707 | C39: =금월!$AP4 -> 0 | D39: =금월!$AP10 -> 0 | E39: =금월!AP26 -> 0 | F39: =금월!AP35 -> 0 | G39: =금월!AP40 -> 0 | H39: =금월!AP53 -> 0 | I39: =금월!AP64 -> 0 | J39: =금월!AP83 -> 707 | K39: =금월!AP90 -> 0 | L39: =금월!AP100 -> 0 | M39: =금월!AP120 -> 0 | N39: =금월!AP153 -> 0
A40: 철도경제신문 | B40: =SUM(C40:N40) -> 3402 | C40: =금월!$AQ4 -> 0 | D40: =금월!$AQ10 -> 3109 | E40: =금월!AQ26 -> 0 | F40: =금월!AQ35 -> 0 | G40: =금월!AQ40 -> 0 | H40: =금월!AQ53 -> 0 | I40: =금월!AQ64 -> 0 | J40: =금월!AQ83 -> 293 | K40: =금월!AQ90 -> 0 | L40: =금월!AQ100 -> 0 | M40: =금월!AQ120 -> 0 | N40: =금월!AQ153 -> 0
...

Sheet 메뉴별 기관수집량(월간)
A1: 대메뉴 | B1: 총합 | C1: 철도미디어 | D1: 철도소식 | E1: 전문자료 | F1: 취업정보 | G1: 인재개발 | H1: 레일광장 | I1: 철도역사관 | J1: 해외철도정보 | K1: 철도통계 | L1: 고객센터 | M1: 레일포털 | N1: 철도 Biz
A2: 총계 | B2: =SUM(C2:N2) -> 3186 | C2: =월간수집!E4 -> 13 | D2: =월간수집!E10 -> 218 | E2: =월간수집!E26 -> 973 | F2: =월간수집!E35 -> 39 | G2: =월간수집!E40 -> 2 | H2: =월간수집!E53 -> 6 | I2: =월간수집!E64 -> 0 | J2: =월간수집!E83 -> 1511 | K2: =월간수집!E90 -> 0 | L2: =월간수집!E100 -> 2 | M2: =월간수집!E120 -> 8 | N2: =월간수집!E153 -> 414
A3: 국토교통부 | B3: =SUM(C3:N3) -> 12 | C3: =월간수집!$F4 -> 0 | D3: =월간수집!F10 -> 11 | E3: =월간수집!F26 -> 0 | F3: =월간수집!F35 -> 3 | G3: =월간수집!F40 -> 0 | H3: =월간수집!F53 -> 0 | I3: =월간수집!F64 -> 0 | J3: =월간수집!F83 -> 0 | K3: =월간수집!F90 -> 0 | L3: =월간수집!F100 -> 0 | M3: =월간수집!F120 -> 0 | N3: =월간수집!F153 -> -2
A4: 국가철도공단 | B4: =SUM(C4:N4) -> 71 | C4: =월간수집!$G4 -> 0 | D4: =월간수집!G10 -> 12 | E4: =월간수집!G26 -> 28 | F4: =월간수집!G35 -> 0 | G4: =월간수집!G40 -> 0 | H4: =월간수집!G53 -> 0 | I4: =월간수집!G64 -> 0 | J4: =월간수집!G83 -> 0 | K4: =월간수집!G90 -> 0 | L4: =월간수집!G100 -> 0 | M4: =월간수집!G120 -> 0 | N4: =월간수집!G153 -> 31
A5: 한국철도공사 | B5: =SUM(C5:N5) -> 339 | C5: =월간수집!$H4 -> 0 | D5: =월간수집!H10 -> 26 | E5: =월간수집!H26 -> 40 | F5: =월간수집!H35 -> 4 | G5: =월간수집!H40 -> 0 | H5: =월간수집!H53 -> 5 | I5: =월간수집!H64 -> 0 | J5: =월간수집!H83 -> 1 | K5: =월간수집!H90 -> 0 | L5: =월간수집!H100 -> 0 | M5: =월간수집!H120 -> 0 | N5: =월간수집!H153 -> 263
A6: 한국철도기술연구원 | B6: =SUM(C6:N6) -> 22 | C6: =월간수집!$I4 -> 0 | D6: =월간수집!I10 -> 7 | E6: =월간수집!I26 -> 0 | F6: =월간수집!I35 -> 0 | G6: =월간수집!I40 -> 0 | H6: =월간수집!I53 -> 0 | I6: =월간수집!I64 -> 0 | J6: =월간수집!I83 -> 0 | K6: =월간수집!I90 -> 0 | L6: =월간수집!I100 -> 0 | M6: =월간수집!I120 -> 0 | N6: =월간수집!I153 -> 15
A7: 공항철도 | B7: =SUM(C7:N7) -> 31 | C7: =월간수집!$J4 -> 0 | D7: =월간수집!J10 -> 0 | E7: =월간수집!J26 -> 10 | F7: =월간수집!J35 -> 0 | G7: =월간수집!J40 -> 0 | H7: =월간수집!J53 -> 0 | I7: =월간수집!J64 -> 0 | J7: =월간수집!J83 -> 0 | K7: =월간수집!J90 -> 0 | L7: =월간수집!J100 -> 0 | M7: =월간수집!J120 -> 0 | N7: =월간수집!J153 -> 21
A8: 서울메트로 | B8: =SUM(C8:N8) -> 0 | C8: =월간수집!$K4 -> 0 | D8: =월간수집!K10 -> 0 | E8: =월간수집!K26 -> 0 | F8: =월간수집!K35 -> 0 | G8: =월간수집!K40 -> 0 | H8: =월간수집!K53 -> 0 | I8: =월간수집!K64 -> 0 | J8: =월간수집!K83 -> 0 | K8: =월간수집!K90 -> 0 | L8: =월간수집!K100 -> 0 | M8: =월간수집!K120 -> 0 | N8: =월간수집!K153 -> 0
A9: 대구교통공사 | B9: =SUM(C9:N9) -> 47 | C9: =월간수집!$L4 -> 0 | D9: =월간수집!L10 -> 9 | E9: =월간수집!L26 -> 35 | F9: =월간수집!L35 -> 3 | G9: =월간수집!L40 -> 0 | H9: =월간수집!L53 -> 0 | I9: =월간수집!L64 -> 0 | J9: =월간수집!L83 -> 0 | K9: =월간수집!L90 -> 0 | L9: =월간수집!L100 -> 0 | M9: =월간수집!L120 -> 0 | N9: =월간수집!L153 -> 0
A10: 대전교통공사 | B10: =SUM(C10:N10) -> 38 | C10: =월간수집!$M4 -> 0 | D10: =월간수집!M10 -> 9 | E10: =월간수집!M26 -> 21 | F10: =월간수집!M35 -> 2 | G10: =월간수집!M40 -> 0 | H10: =월간수집!M53 -> 0 | I10: =월간수집!M64 -> 0 | J10: =월간수집!M83 -> 0 | K10: =월간수집!M90 -> 0 | L10: =월간수집!M100 -> 0 | M10: =월간수집!M120 -> 0 | N10: =월간수집!M153 -> 6
A11: 광주도시철도공사 | B11: =SUM(C11:N11) -> 26 | C11: =월간수집!$N4 -> 0 | D11: =월간수집!N10 -> 17 | E11: =월간수집!N26 -> 13 | F11: =월간수집!N35 -> 0 | G11: =월간수집!N40 -> 0 | H11: =월간수집!N53 -> 0 | I11: =월간수집!N64 -> 0 | J11: =월간수집!N83 -> 0 | K11: =월간수집!N90 -> 0 | L11: =월간수집!N100 -> 0 | M11: =월간수집!N120 -> 0 | N11: =월간수집!N153 -> -4
A12: 부산교통공사 | B12: =SUM(C12:N12) -> 39 | C12: =월간수집!$O4 -> 0 | D12: =월간수집!O10 -> 8 | E12: =월간수집!O26 -> 22 | F12: =월간수집!O35 -> 2 | G12: =월간수집!O40 -> 0 | H12: =월간수집!O53 -> 0 | I12: =월간수집!O64 -> 0 | J12: =월간수집!O83 -> 0 | K12: =월간수집!O90 -> 0 | L12: =월간수집!O100 -> 0 | M12: =월간수집!O120 -> 0 | N12: =월간수집!O153 -> 7
A13: 인천교통공사 | B13: =SUM(C13:N13) -> 51 | C13: =월간수집!$P4 -> 0 | D13: =월간수집!P10 -> 17 | E13: =월간수집!P26 -> 26 | F13: =월간수집!P35 -> 2 | G13: =월간수집!P40 -> 0 | H13: =월간수집!P53 -> 0 | I13: =월간수집!P64 -> 0 | J13: =월간수집!P83 -> 0 | K13: =월간수집!P90 -> 0 | L13: =월간수집!P100 -> 0 | M13: =월간수집!P120 -> 0 | N13: =월간수집!P153 -> 6
A14: 서울도시철도공사 | B14: =SUM(C14:N14) -> 0 | C14: =월간수집!$Q4 -> 0 | D14: =월간수집!Q10 -> 0 | E14: =월간수집!Q26 -> 0 | F14: =월간수집!Q35 -> 0 | G14: =월간수집!Q40 -> 0 | H14: =월간수집!Q53 -> 0 | I14: =월간수집!Q64 -> 0 | J14: =월간수집!Q83 -> 0 | K14: =월간수집!Q90 -> 0 | L14: =월간수집!Q100 -> 0 | M14: =월간수집!Q120 -> 0 | N14: =월간수집!Q153 -> 0
A15: 서울교통공사 | B15: =SUM(C15:N15) -> 65 | C15: =월간수집!$R4 -> 0 | D15: =월간수집!R10 -> 16 | E15: =월간수집!R26 -> 28 | F15: =월간수집!R35 -> 7 | G15: =월간수집!R40 -> 0 | H15: =월간수집!R53 -> 0 | I15: =월간수집!R64 -> 0 | J15: =월간수집!R83 -> 0 | K15: =월간수집!R90 -> 0 | L15: =월간수집!R100 -> 0 | M15: =월간수집!R120 -> 0 | N15: =월간수집!R153 -> 14
A16: 서울시메트로9호선 | B16: =SUM(C16:N16) -> -15 | C16: =월간수집!$S4 -> 0 | D16: =월간수집!S10 -> 1 | E16: =월간수집!S26 -> 0 | F16: =월간수집!S35 -> 1 | G16: =월간수집!S40 -> 0 | H16: =월간수집!S53 -> 0 | I16: =월간수집!S64 -> 0 | J16: =월간수집!S83 -> 0 | K16: =월간수집!S90 -> 0 | L16: =월간수집!S100 -> 0 | M16: =월간수집!S120 -> 0 | N16: =월간수집!S153 -> -17
A17: 서울9호선운영 | B17: =SUM(C17:N17) -> 0 | C17: =월간수집!$T4 -> 0 | D17: =월간수집!T10 -> 0 | E17: =월간수집!T26 -> 0 | F17: =월간수집!T35 -> 0 | G17: =월간수집!T40 -> 0 | H17: =월간수집!T53 -> 0 | I17: =월간수집!T64 -> 0 | J17: =월간수집!T83 -> 0 | K17: =월간수집!T90 -> 0 | L17: =월간수집!T100 -> 0 | M17: =월간수집!T120 -> 0 | N17: =월간수집!T153 -> 0
A18: 의정부경전철 | B18: =SUM(C18:N18) -> 0 | C18: =월간수집!$U4 -> 0 | D18: =월간수집!U10 -> 0 | E18: =월간수집!U26 -> 0 | F18: =월간수집!U35 -> 0 | G18: =월간수집!U40 -> 0 | H18: =월간수집!U53 -> 0 | I18: =월간수집!U64 -> 0 | J18: =월간수집!U83 -> 0 | K18: =월간수집!U90 -> 0 | L18: =월간수집!U100 -> 0 | M18: =월간수집!U120 -> 0 | N18: =월간수집!U153 -> 0
A19: 부산김해경전철 | B19: =SUM(C19:N19) -> 10 | C19: =월간수집!$V4 -> 0 | D19: =월간수집!V10 -> 1 | E19: =월간수집!V26 -> 0 | F19: =월간수집!V35 -> 0 | G19: =월간수집!V40 -> 0 | H19: =월간수집!V53 -> 0 | I19: =월간수집!V64 -> 0 | J19: =월간수집!V83 -> 0 | K19: =월간수집!V90 -> 0 | L19: =월간수집!V100 -> 0 | M19: =월간수집!V120 -> 0 | N19: =월간수집!V153 -> 9
A20: 용인경량전철 | B20: =SUM(C20:N20) -> 0 | C20: =월간수집!$W4 -> 0 | D20: =월간수집!W10 -> 0 | E20: =월간수집!W26 -> 0 | F20: =월간수집!W35 -> 0 | G20: =월간수집!W40 -> 0 | H20: =월간수집!W53 -> 0 | I20: =월간수집!W64 -> 0 | J20: =월간수집!W83 -> 0 | K20: =월간수집!W90 -> 0 | L20: =월간수집!W100 -> 0 | M20: =월간수집!W120 -> 0 | N20: =월간수집!W153 -> 0
A21: ㈜SR | B21: =SUM(C21:N21) -> 14 | C21: =월간수집!$X4 -> 0 | D21: =월간수집!X10 -> 3 | E21: =월간수집!X26 -> 7 | F21: =월간수집!X35 -> 0 | G21: =월간수집!X40 -> 0 | H21: =월간수집!X53 -> 0 | I21: =월간수집!X64 -> 0 | J21: =월간수집!X83 -> 0 | K21: =월간수집!X90 -> 0 | L21: =월간수집!X100 -> 0 | M21: =월간수집!X120 -> 0 | N21: =월간수집!X153 -> 4
A22: 네오트랜스 | B22: =SUM(C22:N22) -> 2 | C22: =월간수집!$Y4 -> 0 | D22: =월간수집!Y$10 -> 0 | E22: =월간수집!Y$26 -> 0 | F22: =월간수집!Y35 -> 2 | G22: =월간수집!Y40 -> 0 | H22: =월간수집!Y53 -> 0 | I22: =월간수집!Y64 -> 0 | J22: =월간수집!Y83 -> 0 | K22: =월간수집!Y90 -> 0 | L22: =월간수집!Y100 -> 0 | M22: =월간수집!Y120 -> 0 | N22: =월간수집!Y153 -> 0
A23: 김포골드라인㈜ | B23: =SUM(C23:N23) -> 7 | C23: =월간수집!$Z4 -> 0 | D23: =월간수집!Z10 -> 0 | E23: =월간수집!$Z$26 -> 0 | F23: =월간수집!$Z$35 -> 1 | G23: =월간수집!$Z$40 -> 0 | H23: =월간수집!$Z$53 -> 0 | I23: =월간수집!$Z$64 -> 0 | J23: =월간수집!$Z$83 -> 0 | K23: =월간수집!$Z$90 -> 0 | L23: =월간수집!$Z$100 -> 0 | M23: =월간수집!$Z$120 -> 0 | N23: =월간수집!$Z$153 -> 6
A24: 남서울경전철㈜ | B24: =SUM(C24:N24) -> 5 | C24: =월간수집!$AA4 -> 0 | D24: =월간수집!AA10 -> 0 | E24: =월간수집!$AA$26 -> 0 | F24: =월간수집!$AA$35 -> 4 | G24: =월간수집!$AA$40 -> 0 | H24: =월간수집!$AA$53 -> 0 | I24: =월간수집!$AA$64 -> 0 | J24: =월간수집!$AA$83 -> 0 | K24: =월간수집!$AA$90 -> 0 | L24: =월간수집!$AA$100 -> 0 | M24: =월간수집!$AA$120 -> 0 | N24: =월간수집!$AA$153 -> 1
A25: 새서울철도㈜ | B25: =SUM(C25:N25) -> 0 | C25: =월간수집!$AB4 -> 0 | D25: =월간수집!AB$10 -> 0 | E25: =월간수집!$AB$26 -> 0 | F25: =월간수집!$AB$35 -> 0 | G25: =월간수집!$AB$40 -> 0 | H25: =월간수집!$AB$53 -> 0 | I25: =월간수집!$AB$64 -> 0 | J25: =월간수집!$AB$83 -> 0 | K25: =월간수집!$AB$90 -> 0 | L25: =월간수집!$AB$100 -> 0 | M25: =월간수집!$AB$120 -> 0 | N25: =월간수집!$AB$153 -> 0
A26: 신분당선㈜ | B26: =SUM(C26:N26) -> 0 | C26: =월간수집!$AC4 -> 0 | D26: =월간수집!AC$10 -> 0 | E26: =월간수집!$AC$26 -> 0 | F26: =월간수집!$AC$35 -> 0 | G26: =월간수집!$AC$40 -> 0 | H26: =월간수집!$AC$53 -> 0 | I26: =월간수집!$AC$64 -> 0 | J26: =월간수집!$AC$83 -> 0 | K26: =월간수집!$AC$90 -> 0 | L26: =월간수집!$AC$100 -> 0 | M26: =월간수집!$AC$120 -> 0 | N26: =월간수집!$AC$153 -> 0
A27: 서해철도㈜ | B27: =SUM(C27:N27) -> 41 | C27: =월간수집!$AD4 -> 0 | D27: =월간수집!AD$10 -> 0 | E27: =월간수집!$AD$26 -> 39 | F27: =월간수집!$AD$35 -> 0 | G27: =월간수집!$AD$40 -> 0 | H27: =월간수집!$AD$53 -> 0 | I27: =월간수집!$AD$64 -> 0 | J27: =월간수집!$AD$83 -> 0 | K27: =월간수집!$AD$90 -> 0 | L27: =월간수집!$AD$100 -> 0 | M27: =월간수집!$AD$120 -> 0 | N27: =월간수집!$AD$153 -> 2
A28: 이레일㈜ | B28: =SUM(C28:N28) -> 0 | C28: =월간수집!$AE4 -> 0 | D28: =월간수집!AE$10 -> 0 | E28: =월간수집!$AE$26 -> 0 | F28: =월간수집!$AE$35 -> 0 | G28: =월간수집!$AE$40 -> 0 | H28: =월간수집!$AE$53 -> 0 | I28: =월간수집!$AE$64 -> 0 | J28: =월간수집!$AE$83 -> 0 | K28: =월간수집!$AE$90 -> 0 | L28: =월간수집!$AE$100 -> 0 | M28: =월간수집!$AE$120 -> 0 | N28: =월간수집!$AE$153 -> 0
A29: 우이신설경전철㈜ | B29: =SUM(C29:N29) -> 3 | C29: =월간수집!$AF4 -> 0 | D29: =월간수집!AF$10 -> 0 | E29: =월간수집!$AF$26 -> 0 | F29: =월간수집!$AF$35 -> 3 | G29: =월간수집!$AF$40 -> 0 | H29: =월간수집!$AF$53 -> 0 | I29: =월간수집!$AF$64 -> 0 | J29: =월간수집!$AF$83 -> 0 | K29: =월간수집!$AF$90 -> 0 | L29: =월간수집!$AF$100 -> 0 | M29: =월간수집!$AF$120 -> 0 | N29: =월간수집!$AF$153 -> 0
A30: 에스지레일㈜ | B30: =SUM(C30:N30) -> 0 | C30: =월간수집!$AG4 -> 0 | D30: =월간수집!AG$10 -> 0 | E30: =월간수집!$AG$26 -> 0 | F30: =월간수집!$AG$35 -> 0 | G30: =월간수집!$AG$40 -> 0 | H30: =월간수집!$AG$53 -> 0 | I30: =월간수집!$AG$64 -> 0 | J30: =월간수집!$AG$83 -> 0 | K30: =월간수집!$AG$90 -> 0 | L30: =월간수집!$AG$100 -> 0 | M30: =월간수집!$AG$120 -> 0 | N30: =월간수집!$AG$153 -> 0
A31: 지티엑스에이운영㈜ | B31: =SUM(C31:N31) -> 0 | C31: =월간수집!$AH4 -> 0 | D31: =월간수집!AH$10 -> 0 | E31: =월간수집!$AH$26 -> 0 | F31: =월간수집!$AH$35 -> 0 | G31: =월간수집!$AH$40 -> 0 | H31: =월간수집!$AH$53 -> 0 | I31: =월간수집!$AH$64 -> 0 | J31: =월간수집!$AH$83 -> 0 | K31: =월간수집!$AH$90 -> 0 | L31: =월간수집!$AH$100 -> 0 | M31: =월간수집!$AH$120 -> 0 | N31: =월간수집!$AH$153 -> 0
A32: KIND | B32: =SUM(C32:N32) -> 0 | C32: =월간수집!$AI4 -> 0 | D32: =월간수집!AI10 -> 0 | E32: =월간수집!AI$26 -> 0 | F32: =월간수집!AI35 -> 0 | G32: =월간수집!AI40 -> 0 | H32: =월간수집!AI53 -> 0 | I32: =월간수집!AI64 -> 0 | J32: =월간수집!AI83 -> 0 | K32: =월간수집!AI90 -> 0 | L32: =월간수집!AI100 -> 0 | M32: =월간수집!AI120 -> 0 | N32: =월간수집!AI153 -> 0
A33: 한국교통안전공단 | B33: =SUM(C33:N33) -> 19 | C33: =월간수집!$AJ4 -> 0 | D33: =월간수집!AJ10 -> 0 | E33: =월간수집!AJ26 -> 18 | F33: =월간수집!AJ35 -> 1 | G33: =월간수집!AJ40 -> 0 | H33: =월간수집!AJ53 -> 0 | I33: =월간수집!AJ64 -> 0 | J33: =월간수집!AJ83 -> 0 | K33: =월간수집!AJ90 -> 0 | L33: =월간수집!AJ100 -> 0 | M33: =월간수집!AJ120 -> 0 | N33: =월간수집!AJ153 -> 0
A34: 한국철도학회 | B34: =SUM(C34:N34) -> 2 | C34: =월간수집!$AK4 -> 0 | D34: =월간수집!AK10 -> 2 | E34: =월간수집!AK26 -> 0 | F34: =월간수집!AK35 -> 0 | G34: =월간수집!AK40 -> 0 | H34: =월간수집!AK53 -> 0 | I34: =월간수집!AK64 -> 0 | J34: =월간수집!AK83 -> 0 | K34: =월간수집!AK90 -> 0 | L34: =월간수집!AK100 -> 0 | M34: =월간수집!AK120 -> 0 | N34: =월간수집!AK153 -> 0
A35: 철도산업정보센터 | B35: =SUM(C35:N35) -> 128 | C35: =월간수집!$AL4 -> 13 | D35: =월간수집!AL10 -> 0 | E35: =월간수집!AL26 -> 0 | F35: =월간수집!AL35 -> 0 | G35: =월간수집!AL40 -> 0 | H35: =월간수집!AL53 -> 1 | I35: =월간수집!AL64 -> 0 | J35: =월간수집!AL83 -> 104 | K35: =월간수집!AL90 -> 0 | L35: =월간수집!AL100 -> 2 | M35: =월간수집!AL120 -> 8 | N35: =월간수집!AL153 -> 0
A36: 해외건설협회 | B36: =SUM(C36:N36) -> 43 | C36: =월간수집!$AM4 -> 0 | D36: =월간수집!AM10 -> 0 | E36: =월간수집!AM26 -> 0 | F36: =월간수집!AM35 -> 0 | G36: =월간수집!AM40 -> 2 | H36: =월간수집!AM53 -> 0 | I36: =월간수집!AM64 -> 0 | J36: =월간수집!AM83 -> 41 | K36: =월간수집!AM90 -> 0 | L36: =월간수집!AM100 -> 0 | M36: =월간수집!AM120 -> 0 | N36: =월간수집!AM153 -> 0
A37: 한국철도협회 | B37: =SUM(C37:N37) -> 0 | C37: =월간수집!$AN4 -> 0 | D37: =월간수집!AN10 -> 0 | E37: =월간수집!AN26 -> 0 | F37: =월간수집!AN35 -> 0 | G37: =월간수집!AN40 -> 0 | H37: =월간수집!AN53 -> 0 | I37: =월간수집!AN64 -> 0 | J37: =월간수집!AN83 -> 0 | K37: =월간수집!AN90 -> 0 | L37: =월간수집!AN100 -> 0 | M37: =월간수집!AN120 -> 0 | N37: =월간수집!AN153 -> 0
A38: 중소벤처기업부 | B38: =SUM(C38:N38) -> 5 | C38: =월간수집!$AO4 -> 0 | D38: =월간수집!AO10 -> 0 | E38: =월간수집!AO26 -> 0 | F38: =월간수집!AO35 -> 0 | G38: =월간수집!AO40 -> 0 | H38: =월간수집!AO53 -> 0 | I38: =월간수집!AO64 -> 0 | J38: =월간수집!AO83 -> 0 | K38: =월간수집!AO90 -> 0 | L38: =월간수집!AO100 -> 0 | M38: =월간수집!AO120 -> 0 | N38: =월간수집!AO153 -> 5
A39: 외교부 | B39: =SUM(C39:N39) -> 29 | C39: =월간수집!$AP4 -> 0 | D39: =월간수집!AP10 -> 0 | E39: =월간수집!AP26 -> 0 | F39: =월간수집!AP35 -> 0 | G39: =월간수집!AP40 -> 0 | H39: =월간수집!AP53 -> 0 | I39: =월간수집!AP64 -> 0 | J39: =월간수집!AP83 -> 29 | K39: =월간수집!AP90 -> 0 | L39: =월간수집!AP100 -> 0 | M39: =월간수집!AP120 -> 0 | N39: =월간수집!AP153 -> 0
A40: 철도경제신문 | B40: =SUM(C40:N40) -> 66 | C40: =월간수집!$AQ4 -> 0 | D40: =월간수집!AQ10 -> 64 | E40: =월간수집!AQ26 -> 0 | F40: =월간수집!AQ35 -> 0 | G40: =월간수집!AQ40 -> 0 | H40: =월간수집!AQ53 -> 0 | I40: =월간수집!AQ64 -> 0 | J40: =월간수집!AQ83 -> 2 | K40: =월간수집!AQ90 -> 0 | L40: =월간수집!AQ100 -> 0 | M40: =월간수집!AQ120 -> 0 | N40: =월간수집!AQ153 -> 0
...

Sheet 전월
A1: 콘텐츠 | E1: 계 | F1: 국토교통부 | G1: 국가철도공단 | H1: 한국철도공사 | I1: 한국철도 기술연구원 | J1: 공항철도 | K1: 서울교통공사(서울메트로) | L1: 대구 교통공사 | M1: 대전 교통공사 | N1: 광주 교통공사 | O1: 부산 교통공사 | P1: 인천 교통공사 | Q1: 서울교통공사(서울도철) | R1: 서울 교통공사 | S1: 서울시 메트로9호선 | T1: 서울9호선 운영 | U1: 의정부 경전철 | V1: 부산김해 경전철 | W1: 용인 경량전철 | X1: ㈜SR | Y1: 네오트랜스 | Z1: 김포 골드라인㈜ | AA1: 남서울 경전철㈜ | AB1: 새서울 철도㈜ | AC1: 신분당선㈜ | AD1: 서해철도㈜ | AE1: 이레일㈜ | AF1: 우이신설 경전철㈜ | AG1: 에스지레일㈜ | AH1: 지티엑스에이운영㈜ | AI1: KIND | AJ1: 한국교통 안전공단 | AK1: 한국철도학회 | AL1: 철도산업 정보센터 | AM1: 해외건설협회 | AN1: 한국철도산업협회 | AO1: 중소벤처 기업부 | AP1: 외교부 | AQ1: 철도경제 신문 | AR1: 철도신문 | AS1: 레일뉴스 | AT1: 국가법령 정보센터 | AU1: 한국산업 인력공단 | AV1: UIC | AW1: KOTRA | AX1: 관세청 | AY1: 전자관보 | AZ1: 철도박물관 | BA1: 국토교통과학 기술진흥원 | BB1: 한국관광공사 | BC1: TED | BD1: Railway- technology | BE1: Global Railway Review | BF1: Mass Transit | BG1: Railway Gazette | BH1: InnoTrans | BI1: 기타
E2: 368670 | F2: 2286 | G2: 37969 | H2: 34738 | I2: 5273 | J2: 1182 | K2: 448 | L2: 2563 | M2: 1719 | N2: 4189 | O2: 4619 | P2: 3010 | Q2: 535 | R2: 3990 | S2: 226 | T2: 5 | U2: 37 | V2: 230 | W2: 59 | X2: 1563 | Y2: 106 | Z2: 172 | AA2: 21 | AB2: 0 | AC2: 6 | AD2: 313 | AE2: 0 | AF2: 85 | AG2: 0 | AH2: 0 | AI2: 97 | AJ2: 2485 | AK2: 14587 | AL2: 24813 | AM2: 6646 | AN2: 749 | AO2: 5451 | AP2: 678 | AQ2: 3336 | AR2: 2374 | AS2: 8978 | AT2: 108 | AU2: 91 | AV2: 6000 | AW2: 1211 | AX2: 19384 | AY2: 1646 | AZ2: 135 | BA2: 77 | BB2: 418 | BC2: 54000 | BD2: 503 | BE2: 75 | BF2: 15 | BG2: 3687 | BH2: 2677 | BI2: 103105
A3: 철도미디어 | B3: 철도미디어 | E3: 53 | AL3: 53
C4: FALSE | D4: 0 | E4: 53 | F4: 0 | G4: 0 | H4: 0 | I4: 0 | J4: 0 | K4: 0 | L4: 0 | M4: 0 | N4: 0 | O4: 0 | P4: 0 | Q4: 0 | R4: 0 | S4: 0 | T4: 0 | U4: 0 | V4: 0 | W4: 0 | X4: 0 | Y4: 0 | Z4: 0 | AA4: 0 | AB4: 0 | AC4: 0 | AD4: 0 | AE4: 0 | AF4: 0 | AG4: 0 | AH4: 0 | AI4: 0 | AJ4: 0 | AK4: 0 | AL4: 53 | AM4: 0 | AN4: 0 | AO4: 0 | AP4: 0 | AQ4: 0 | AR4: 0 | AS4: 0 | AT4: 0 | AU4: 0 | AV4: 0 | AW4: 0 | AX4: 0 | AY4: 0 | AZ4: 0 | BA4: 0 | BB4: 0 | BC4: 0 | BD4: 0 | BE4: 0 | BF4: 0 | BG4: 0 | BH4: 0 | BI4: 0
A5: 철도소식 | B5: 철도뉴스 | E5: 30941 | F5: 1740 | G5: 3901 | H5: 3830 | I5: 658 | J5: 632 | K5: 234 | L5: 1280 | M5: 833 | N5: 1604 | O5: 1400 | P5: 1485 | Q5: 355 | R5: 1020 | S5: 54 | U5: 16 | V5: 114 | W5: 33 | X5: 1161 | Y5: 22 | Z5: 13 | AA5: 5 | AC5: 3 | AD5: 17 | AF5: 10 | AJ5: 17 | AK5: 8 | AL5: 6 | AQ5: 2558 | AR5: 867 | AS5: 7052 | BI5: 13
B6: 철도칼럼 | E6: 1157 | AQ6: 486 | AR6: 516 | AS6: 110 | BI6: 45
B7: 행사일정 | E7: 5131 | F7: 11 | G7: 4 | H7: 1809 | I7: 40 | L7: 2 | O7: 8 | R7: 1 | AK7: 240 | AL7: 1 | AN7: 6 | AQ7: 1 | AV7: 4 | BD7: 2 | BE7: 4 | BG7: 234 | BI7: 2764
B8: 정보센터소식 | E8: 126 | BI8: 126
B9: 철도산업동향 | E9: 11 | AL9: 11
C10: 1 | D10: 37366 | E10: 37366 | F10: 1751 | G10: 3905 | H10: 5639 | I10: 698 | J10: 632 | K10: 234 | L10: 1282 | M10: 833 | N10: 1604 | O10: 1408 | P10: 1485 | Q10: 355 | R10: 1021 | S10: 54 | T10: 0 | U10: 16 | V10: 114 | W10: 33 | X10: 1161 | Y10: 22 | Z10: 13 | AA10: 5 | AB10: 0 | AC10: 3 | AD10: 17 | AE10: 0 | AF10: 10 | AG10: 0 | AH10: 0 | AI10: 0 | AJ10: 17 | AK10: 248 | AL10: 18 | AM10: 0 | AN10: 6 | AO10: 0 | AP10: 0 | AQ10: 3045 | AR10: 1383 | AS10: 7162 | AT10: 0 | AU10: 0 | AV10: 4 | AW10: 0 | AX10: 0 | AY10: 0 | AZ10: 0 | BA10: 0 | BB10: 0 | BC10: 0 | BD10: 2 | BE10: 4 | BF10: 0 | BG10: 234 | BH10: 0 | BI10: 2948
A11: 전문자료 | B11: 기술자료 | E11: 48633 | F11: 30 | G11: 27632 | H11: 13173 | I11: 2021 | J11: 91 | K11: 0 | L11: 46 | M11: 30 | N11: 1719 | O11: 1543 | P11: 2 | Q11: 0 | R11: 32 | S11: 0 | T11: 1 | U11: 0 | V11: 1 | W11: 0 | X11: 3 | AD11: 4 | AJ11: 12 | AK11: 1607 | AL11: 375 | AM11: 0 | AN11: 1 | AO11: 0 | AP11: 0 | AR11: 0 | AS11: 0 | AT11: 0 | AU11: 0 | AV11: 0 | BI11: 310
B12: 논문 | E12: 24123 | BI12: 24123
B13: 한국철도학회 논문 | E13: 12724 | AK13: 12724
B14: 연구보고서 | E14: 686 | G14: 297 | H14: 11 | I14: 364 | N14: 7 | O14: 5 | AL14: 2
B15: 안전/사고정보 | E15: 589 | AJ15: 589
B16: 관보 | E16: 1643 | AY16: 1643
B17: 건설기준 | E17: 1203 | G17: 1203
B18: 규정 | E18: 8771 | G18: 1013 | H18: 843 | I18: 345 | J18: 222 | L18: 888 | M18: 526 | N18: 618 | O18: 1077 | P18: 956 | R18: 1127 | U18: 13 | V18: 8 | X18: 257 | Y18: 2 | Z18: 113 | AA18: 4 | AD18: 242 | AF18: 2 | AJ18: 515
B19: 용어사전 | E19: 10631 | AL19: 10631
B20: 차량도감 | C20: 고속차량 | E20: 7 | H20: 1 | BI20: 6
C21: 기관차 | E21: 25 | BI21: 25
C22: 동차 | E22: 10 | BI22: 10
C23: 전동차 | E23: 47 | O23: 1 | BI23: 46
C24: 경전철 | E24: 10 | L24: 1 | P24: 2 | U24: 1 | V24: 1 | W24: 1 | AA24: 1 | BI24: 3
B25: 국내철도현황 | E25: 104 | H25: 10 | L25: 15 | M25: 9 | N25: 2 | O25: 17 | R25: 42 | AL25: 9
C26: 1 | D26: 109206 | E26: 109206 | F26: 30 | G26: 30145 | H26: 14038 | I26: 2730 | J26: 313 | K26: 0 | L26: 950 | M26: 565 | N26: 2346 | O26: 2643 | P26: 960 | Q26: 0 | R26: 1201 | S26: 0 | T26: 1 | U26: 14 | V26: 10 | W26: 1 | X26: 260 | Y26: 2 | Z26: 113 | AA26: 5 | AB26: 0 | AC26: 0 | AD26: 246 | AE26: 0 | AF26: 2 | AG26: 0 | AH26: 0 | AI26: 0 | AJ26: 1116 | AK26: 14331 | AL26: 11017 | AM26: 0 | AN26: 1 | AO26: 0 | AP26: 0 | AQ26: 0 | AR26: 0 | AS26: 0 | AT26: 0 | AU26: 0 | AV26: 0 | AW26: 0 | AX26: 0 | AY26: 1643 | AZ26: 0 | BA26: 0 | BB26: 0 | BC26: 0 | BD26: 0 | BE26: 0 | BF26: 0 | BG26: 0 | BH26: 0 | BI26: 24523
A27: 취업정보 | B27: 채용공고 | C27: 공공기관 | E27: 5434 | F27: 362 | G27: 130 | H27: 1279 | I27: 91 | J27: 62 | K27: 214 | L27: 144 | M27: 146 | N27: 135 | O27: 151 | P27: 296 | Q27: 179 | R27: 475 | S27: 93 | T27: 3 | U27: 5 | V27: 54 | W27: 24 | X27: 87 | Y27: 81 | Z27: 32 | AA27: 7 | AC27: 3 | AD27: 31 | AF27: 62 | AI27: 5 | AJ27: 1277 | AK27: 1 | AN27: 2 | BI27: 3
C28: 산업체 회원 | E28: 1 | BI28: 1
C29: 민간기업 | E29: 12 | BI29: 12
B30: 인재정보 | C30: 인재검색 | E30: 0 | BI30: 0
C31: 내이력 등록/수정 | E31: 0
B32: 직업정보 | E32: 52 | BI32: 52
B33: 합격수기 | E33: 92 | AL33: 88 | BI33: 4
B34: 철도관련기관 | E34: 18 | BI34: 18
C35: 1 | D35: 5609 | E35: 5609 | F35: 362 | G35: 130 | H35: 1279 | I35: 91 | J35: 62 | K35: 214 | L35: 144 | M35: 146 | N35: 135 | O35: 151 | P35: 296 | Q35: 179 | R35: 475 | S35: 93 | T35: 3 | U35: 5 | V35: 54 | W35: 24 | X35: 87 | Y35: 81 | Z35: 32 | AA35: 7 | AB35: 0 | AC35: 3 | AD35: 31 | AE35: 0 | AF35: 62 | AG35: 0 | AH35: 0 | AI35: 5 | AJ35: 1277 | AK35: 1 | AL35: 88 | AM35: 0 | AN35: 2 | AO35: 0 | AP35: 0 | AQ35: 0 | AR35: 0 | AS35: 0 | AT35: 0 | AU35: 0 | AV35: 0 | AW35: 0 | AX35: 0 | AY35: 0 | AZ35: 0 | BA35: 0 | BB35: 0 | BC35: 0 | BD35: 0 | BE35: 0 | BF35: 0 | BG35: 0 | BH35: 0 | BI35: 90
A36: 인재개발 | B36: 교육과정안내 | E36: 321 | AM36: 161 | AN36: 160
B37: 자격증정보 | E37: 101 | AJ37: 3 | AU37: 91 | BI37: 7
B38: 전자문제집 CBT | E38: 1 | BI38: 1
B39: 철도관련대학 | E39: 57 | BI39: 57
C40: 1 | D40: 480 | E40: 480 | F40: 0 | G40: 0 | H40: 0 | I40: 0 | J40: 0 | K40: 0 | L40: 0 | M40: 0 | N40: 0 | O40: 0 | P40: 0 | Q40: 0 | R40: 0 | S40: 0 | T40: 0 | U40: 0 | V40: 0 | W40: 0 | X40: 0 | Y40: 0 | Z40: 0 | AA40: 0 | AB40: 0 | AC40: 0 | AD40: 0 | AE40: 0 | AF40: 0 | AG40: 0 | AH40: 0 | AI40: 0 | AJ40: 3 | AK40: 0 | AL40: 0 | AM40: 161 | AN40: 160 | AO40: 0 | AP40: 0 | AQ40: 0 | AR40: 0 | AS40: 0 | AT40: 0 | AU40: 91 | AV40: 0 | AW40: 0 | AX40: 0 | AY40: 0 | AZ40: 0 | BA40: 0 | BB40: 0 | BC40: 0 | BD40: 0 | BE40: 0 | BF40: 0 | BG40: 0 | BH40: 0 | BI40: 65
...

Sheet 금월
A1: 콘텐츠 | E1: 계 | F1: 국토교통부 | G1: 국가철도공단 | H1: 한국철도공사 | I1: 한국철도 기술연구원 | J1: 공항철도 | K1: 서울교통공사(서울메트로) | L1: 대구 교통공사 | M1: 대전 교통공사 | N1: 광주 교통공사 | O1: 부산 교통공사 | P1: 인천 교통공사 | Q1: 서울교통공사(서울도철) | R1: 서울 교통공사 | S1: 서울시 메트로9호선 | T1: 서울9호선 운영 | U1: 의정부 경전철 | V1: 부산김해 경전철 | W1: 용인 경량전철 | X1: ㈜SR | Y1: 네오트랜스 | Z1: 김포 골드라인㈜ | AA1: 남서울 경전철㈜ | AB1: 새서울 철도㈜ | AC1: 신분당선㈜ | AD1: 서해철도㈜ | AE1: 이레일㈜ | AF1: 우이신설 경전철㈜ | AG1: 에스지레일㈜ | AH1: 지티엑스에이운영㈜ | AI1: KIND | AJ1: 한국교통 안전공단 | AK1: 한국철도학회 | AL1: 철도산업 정보센터 | AM1: 해외건설협회 | AN1: 한국철도산업협회 | AO1: 중소벤처 기업부 | AP1: 외교부 | AQ1: 철도경제 신문 | AR1: 철도신문 | AS1: 레일뉴스 | AT1: 국가법령 정보센터 | AU1: 한국산업 인력공단 | AV1: UIC | AW1: KOTRA | AX1: 관세청 | AY1: 전자관보 | AZ1: 철도박물관 | BA1: 국토교통과학 기술진흥원 | BB1: 한국관광공사 | BC1: TED | BD1: Railway- technology | BE1: Global Railway Review | BF1: Mass Transit | BG1: Railway Gazette | BH1: InnoTrans | BI1: 기타
E2: 371856 | F2: 2298 | G2: 38040 | H2: 35077 | I2: 5295 | J2: 1213 | K2: 448 | L2: 2610 | M2: 1757 | N2: 4215 | O2: 4658 | P2: 3061 | Q2: 535 | R2: 4055 | S2: 211 | T2: 5 | U2: 37 | V2: 240 | W2: 59 | X2: 1577 | Y2: 108 | Z2: 179 | AA2: 26 | AB2: 0 | AC2: 6 | AD2: 354 | AE2: 0 | AF2: 88 | AG2: 0 | AH2: 0 | AI2: 97 | AJ2: 2504 | AK2: 14589 | AL2: 24941 | AM2: 6689 | AN2: 749 | AO2: 5456 | AP2: 707 | AQ2: 3402 | AR2: 2374 | AS2: 8978 | AT2: 108 | AU2: 91 | AV2: 6208 | AW2: 1211 | AX2: 19502 | AY2: 1658 | AZ2: 135 | BA2: 77 | BB2: 418 | BC2: 54974 | BD2: 503 | BE2: 75 | BF2: 15 | BG2: 3687 | BH2: 2677 | BI2: 103879
A3: 철도미디어 | B3: 철도미디어 | E3: 66 | AL3: 66
C4: FALSE | D4: 0 | E4: 66 | F4: 0 | G4: 0 | H4: 0 | I4: 0 | J4: 0 | K4: 0 | L4: 0 | M4: 0 | N4: 0 | O4: 0 | P4: 0 | Q4: 0 | R4: 0 | S4: 0 | T4: 0 | U4: 0 | V4: 0 | W4: 0 | X4: 0 | Y4: 0 | Z4: 0 | AA4: 0 | AB4: 0 | AC4: 0 | AD4: 0 | AE4: 0 | AF4: 0 | AG4: 0 | AH4: 0 | AI4: 0 | AJ4: 0 | AK4: 0 | AL4: 66 | AM4: 0 | AN4: 0 | AO4: 0 | AP4: 0 | AQ4: 0 | AR4: 0 | AS4: 0 | AT4: 0 | AU4: 0 | AV4: 0 | AW4: 0 | AX4: 0 | AY4: 0 | AZ4: 0 | BA4: 0 | BB4: 0 | BC4: 0 | BD4: 0 | BE4: 0 | BF4: 0 | BG4: 0 | BH4: 0 | BI4: 0
A5: 철도소식 | B5: 철도뉴스 | E5: 31119 | F5: 1751 | G5: 3913 | H5: 3856 | I5: 665 | J5: 632 | K5: 234 | L5: 1289 | M5: 842 | N5: 1621 | O5: 1408 | P5: 1502 | Q5: 355 | R5: 1036 | S5: 55 | U5: 16 | V5: 115 | W5: 33 | X5: 1164 | Y5: 22 | Z5: 13 | AA5: 5 | AC5: 3 | AD5: 17 | AF5: 10 | AJ5: 17 | AK5: 8 | AL5: 6 | AQ5: 2599 | AR5: 867 | AS5: 7052 | BI5: 13
B6: 철도칼럼 | E6: 1180 | AQ6: 509 | AR6: 516 | AS6: 110 | BI6: 45
B7: 행사일정 | E7: 5141 | F7: 11 | G7: 4 | H7: 1809 | I7: 40 | L7: 2 | O7: 8 | R7: 1 | AK7: 242 | AL7: 1 | AN7: 6 | AQ7: 1 | AV7: 4 | BD7: 2 | BE7: 4 | BG7: 234 | BI7: 2772
B8: 정보센터소식 | E8: 133 | BI8: 133
B9: 철도산업동향 | E9: 11 | AL9: 11
C10: 1 | D10: 37584 | E10: 37584 | F10: 1762 | G10: 3917 | H10: 5665 | I10: 705 | J10: 632 | K10: 234 | L10: 1291 | M10: 842 | N10: 1621 | O10: 1416 | P10: 1502 | Q10: 355 | R10: 1037 | S10: 55 | T10: 0 | U10: 16 | V10: 115 | W10: 33 | X10: 1164 | Y10: 22 | Z10: 13 | AA10: 5 | AB10: 0 | AC10: 3 | AD10: 17 | AE10: 0 | AF10: 10 | AG10: 0 | AH10: 0 | AI10: 0 | AJ10: 17 | AK10: 250 | AL10: 18 | AM10: 0 | AN10: 6 | AO10: 0 | AP10: 0 | AQ10: 3109 | AR10: 1383 | AS10: 7162 | AT10: 0 | AU10: 0 | AV10: 4 | AW10: 0 | AX10: 0 | AY10: 0 | AZ10: 0 | BA10: 0 | BB10: 0 | BC10: 0 | BD10: 2 | BE10: 4 | BF10: 0 | BG10: 234 | BH10: 0 | BI10: 2963
A11: 전문자료 | B11: 기술자료 | E11: 48856 | F11: 30 | G11: 27650 | H11: 13203 | I11: 2021 | J11: 95 | K11: 0 | L11: 78 | M11: 43 | N11: 1732 | O11: 1564 | P11: 14 | Q11: 0 | R11: 54 | S11: 0 | T11: 1 | U11: 0 | V11: 1 | W11: 0 | X11: 8 | AD11: 43 | AJ11: 26 | AK11: 1607 | AL11: 375 | AM11: 0 | AN11: 1 | AO11: 0 | AP11: 0 | AR11: 0 | AS11: 0 | AT11: 0 | AU11: 0 | AV11: 0 | BI11: 310
B12: 논문 | E12: 24797 | BI12: 24797
B13: 한국철도학회 논문 | E13: 12724 | AK13: 12724
B14: 연구보고서 | E14: 687 | G14: 298 | H14: 11 | I14: 364 | N14: 7 | O14: 5 | AL14: 2
B15: 안전/사고정보 | E15: 589 | AJ15: 589
B16: 관보 | E16: 1655 | AY16: 1655
B17: 건설기준 | E17: 1212 | G17: 1212
B18: 규정 | E18: 8824 | G18: 1013 | H18: 853 | I18: 345 | J18: 228 | L18: 891 | M18: 534 | N18: 618 | O18: 1078 | P18: 970 | R18: 1132 | U18: 13 | V18: 8 | X18: 259 | Y18: 2 | Z18: 113 | AA18: 4 | AD18: 242 | AF18: 2 | AJ18: 519
B19: 용어사전 | E19: 10631 | AL19: 10631
B20: 차량도감 | C20: 고속차량 | E20: 7 | H20: 1 | BI20: 6
C21: 기관차 | E21: 25 | BI21: 25
C22: 동차 | E22: 10 | BI22: 10
C23: 전동차 | E23: 47 | O23: 1 | BI23: 46
C24: 경전철 | E24: 10 | L24: 1 | P24: 2 | U24: 1 | V24: 1 | W24: 1 | AA24: 1 | BI24: 3
B25: 국내철도현황 | E25: 105 | H25: 10 | L25: 15 | M25: 9 | N25: 2 | O25: 17 | R25: 43 | AL25: 9
C26: 1 | D26: 110179 | E26: 110179 | F26: 30 | G26: 30173 | H26: 14078 | I26: 2730 | J26: 323 | K26: 0 | L26: 985 | M26: 586 | N26: 2359 | O26: 2665 | P26: 986 | Q26: 0 | R26: 1229 | S26: 0 | T26: 1 | U26: 14 | V26: 10 | W26: 1 | X26: 267 | Y26: 2 | Z26: 113 | AA26: 5 | AB26: 0 | AC26: 0 | AD26: 285 | AE26: 0 | AF26: 2 | AG26: 0 | AH26: 0 | AI26: 0 | AJ26: 1134 | AK26: 14331 | AL26: 11017 | AM26: 0 | AN26: 1 | AO26: 0 | AP26: 0 | AQ26: 0 | AR26: 0 | AS26: 0 | AT26: 0 | AU26: 0 | AV26: 0 | AW26: 0 | AX26: 0 | AY26: 1655 | AZ26: 0 | BA26: 0 | BB26: 0 | BC26: 0 | BD26: 0 | BE26: 0 | BF26: 0 | BG26: 0 | BH26: 0 | BI26: 25197
A27: 취업정보 | B27: 채용공고 | C27: 공공기관 | E27: 5469 | F27: 365 | G27: 130 | H27: 1283 | I27: 91 | J27: 62 | K27: 214 | L27: 147 | M27: 148 | N27: 135 | O27: 153 | P27: 298 | Q27: 179 | R27: 482 | S27: 94 | T27: 3 | U27: 5 | V27: 54 | W27: 24 | X27: 87 | Y27: 83 | Z27: 33 | AA27: 11 | AC27: 3 | AD27: 31 | AF27: 65 | AI27: 5 | AJ27: 1278 | AK27: 1 | AN27: 2 | BI27: 3
C28: 산업체 회원 | E28: 1 | BI28: 1
C29: 민간기업 | E29: 16 | BI29: 16
B30: 인재정보 | C30: 인재검색 | E30: 0 | BI30: 0
C31: 내이력 등록/수정 | E31: 0
B32: 직업정보 | E32: 52 | BI32: 52
B33: 합격수기 | E33: 92 | AL33: 88 | BI33: 4
B34: 철도관련기관 | E34: 18 | BI34: 18
C35: 1 | D35: 5648 | E35: 5648 | F35: 365 | G35: 130 | H35: 1283 | I35: 91 | J35: 62 | K35: 214 | L35: 147 | M35: 148 | N35: 135 | O35: 153 | P35: 298 | Q35: 179 | R35: 482 | S35: 94 | T35: 3 | U35: 5 | V35: 54 | W35: 24 | X35: 87 | Y35: 83 | Z35: 33 | AA35: 11 | AB35: 0 | AC35: 3 | AD35: 31 | AE35: 0 | AF35: 65 | AG35: 0 | AH35: 0 | AI35: 5 | AJ35: 1278 | AK35: 1 | AL35: 88 | AM35: 0 | AN35: 2 | AO35: 0 | AP35: 0 | AQ35: 0 | AR35: 0 | AS35: 0 | AT35: 0 | AU35: 0 | AV35: 0 | AW35: 0 | AX35: 0 | AY35: 0 | AZ35: 0 | BA35: 0 | BB35: 0 | BC35: 0 | BD35: 0 | BE35: 0 | BF35: 0 | BG35: 0 | BH35: 0 | BI35: 94
A36: 인재개발 | B36: 교육과정안내 | E36: 323 | AM36: 163 | AN36: 160
B37: 자격증정보 | E37: 101 | AJ37: 3 | AU37: 91 | BI37: 7
B38: 전자문제집 CBT | E38: 1 | BI38: 1
B39: 철도관련대학 | E39: 57 | BI39: 57
C40: 1 | D40: 482 | E40: 482 | F40: 0 | G40: 0 | H40: 0 | I40: 0 | J40: 0 | K40: 0 | L40: 0 | M40: 0 | N40: 0 | O40: 0 | P40: 0 | Q40: 0 | R40: 0 | S40: 0 | T40: 0 | U40: 0 | V40: 0 | W40: 0 | X40: 0 | Y40: 0 | Z40: 0 | AA40: 0 | AB40: 0 | AC40: 0 | AD40: 0 | AE40: 0 | AF40: 0 | AG40: 0 | AH40: 0 | AI40: 0 | AJ40: 3 | AK40: 0 | AL40: 0 | AM40: 163 | AN40: 160 | AO40: 0 | AP40: 0 | AQ40: 0 | AR40: 0 | AS40: 0 | AT40: 0 | AU40: 91 | AV40: 0 | AW40: 0 | AX40: 0 | AY40: 0 | AZ40: 0 | BA40: 0 | BB40: 0 | BC40: 0 | BD40: 0 | BE40: 0 | BF40: 0 | BG40: 0 | BH40: 0 | BI40: 65
...

Sheet 월간수집
A1: 콘텐츠 | E1: 계 | F1: 국토교통부 | G1: 국가철도공단 | H1: 한국철도공사 | I1: 한국철도 기술연구원 | J1: 공항철도 | K1: 서울메트로 | L1: 대구 교통공사 | M1: 대전 교통공사 | N1: 광주도시 철도공사 | O1: 부산 교통공사 | P1: 인천 교통공사 | Q1: 서울도시 철도공사 | R1: 서울 교통공사 | S1: 서울시 메트로9호선 | T1: 서울9호선 운영 | U1: 의정부 경전철 | V1: 부산김해 경전철 | W1: 용인 경량전철 | X1: ㈜SR | Y1: 네오트랜스 | Z1: 김포 골드라인㈜ | AA1: 남서울 경전철㈜ | AB1: 새서울 철도㈜ | AC1: 신분당선㈜ | AD1: 서해철도㈜ | AE1: 이레일㈜ | AF1: 우이신설 경전철㈜ | AG1: 에스지레일㈜ | AH1: 지티엑스에이운영㈜ | AI1: KIND | AJ1: 한국교통 안전공단 | AK1: 한국철도학회 | AL1: 철도산업 정보센터 | AM1: 해외건설협회 | AN1: 한국철도협회 | AO1: 중소벤처 기업부 | AP1: 외교부 | AQ1: 철도경제 신문 | AR1: 철도신문 | AS1: 레일뉴스 | AT1: 국가법령 정보센터 | AU1: 한국산업 인력공단 | AV1: UIC | AW1: KOTRA | AX1: 관세청 | AY1: 전자관보 | AZ1: 철도박물관 | BA1: 국토교통과학 기술진흥원 | BB1: 한국관광공사 | BC1: TED | BD1: Railway- technology | BE1: Global Railway Review | BF1: Mass Transit | BG1: Railway Gazette | BH1: InnoTrans | BI1: 기타
E2: =SUM(E4,E10,E26,E35,E40,E53,E64,E83,E90,E100,E120,E153) -> 3186 | F2: =SUM(F4,F10,F26,F35,F40,F53,F64,F83,F90,F100,F120,F153) -> 12 | G2: =SUM(G4,G10,G26,G35,G40,G53,G64,G83,G90,G100,G120,G153) -> 71 | H2: =SUM(H4,H10,H26,H35,H40,H53,H64,H83,H90,H100,H120,H153) -> 339 | I2: =SUM(I4,I10,I26,I35,I40,I53,I64,I83,I90,I100,I120,I153) -> 22 | J2: =SUM(J4,J10,J26,J35,J40,J53,J64,J83,J90,J100,J120,J153) -> 31 | K2: =SUM(K4,K10,K26,K35,K40,K53,K64,K83,K90,K100,K120,K153) -> 0 | L2: =SUM(L4,L10,L26,L35,L40,L53,L64,L83,L90,L100,L120,L153) -> 47 | ... BI2: =SUM(BI4,BI10,BI26,BI35,BI40,BI53,BI64,BI83,BI90,BI100,BI120,BI153) -> 774
A3: 철도미디어 | B3: 철도미디어 | E3: =SUM(F3:BI3) -> 13 | F3: =금월!F3-전월!F3 -> 0 | G3: =금월!G3-전월!G3 -> 0 | H3: =금월!H3-전월!H3 -> 0 | I3: =금월!I3-전월!I3 -> 0 | J3: =금월!J3-전월!J3 -> 0 | K3: =금월!K3-전월!K3 -> 0 | L3: =금월!L3-전월!L3 -> 0 | M3: =금월!M3-전월!M3 -> 0 | ... BI3: =금월!BI3-전월!BI3 -> 0
E4: =SUM(F4:BI4) -> 13 | F4: =SUM(F3) -> 0 | G4: =SUM(G3) -> 0 | H4: =SUM(H3) -> 0 | I4: =SUM(I3) -> 0 | J4: =SUM(J3) -> 0 | K4: =SUM(K3) -> 0 | L4: =SUM(L3) -> 0 | M4: =SUM(M3) -> 0 | ... BI4: =SUM(BI3) -> 0
A5: 철도소식 | B5: 철도뉴스 | E5: =SUM(F5:BI5) -> 178 | F5: =금월!F5-전월!F5 -> 11 | G5: =금월!G5-전월!G5 -> 12 | H5: =금월!H5-전월!H5 -> 26 | I5: =금월!I5-전월!I5 -> 7 | J5: =금월!J5-전월!J5 -> 0 | K5: =금월!K5-전월!K5 -> 0 | L5: =금월!L5-전월!L5 -> 9 | M5: =금월!M5-전월!M5 -> 9 | ... BI5: =금월!BI5-전월!BI5 -> 0
B6: 철도칼럼 | E6: =SUM(F6:BI6) -> 23 | F6: =금월!F6-전월!F6 -> 0 | G6: =금월!G6-전월!G6 -> 0 | H6: =금월!H6-전월!H6 -> 0 | I6: =금월!I6-전월!I6 -> 0 | J6: =금월!J6-전월!J6 -> 0 | K6: =금월!K6-전월!K6 -> 0 | L6: =금월!L6-전월!L6 -> 0 | M6: =금월!M6-전월!M6 -> 0 | ... BI6: =금월!BI6-전월!BI6 -> 0
B7: 행사일정 | E7: =SUM(F7:BI7) -> 10 | F7: =금월!F7-전월!F7 -> 0 | G7: =금월!G7-전월!G7 -> 0 | H7: =금월!H7-전월!H7 -> 0 | I7: =금월!I7-전월!I7 -> 0 | J7: =금월!J7-전월!J7 -> 0 | K7: =금월!K7-전월!K7 -> 0 | L7: =금월!L7-전월!L7 -> 0 | M7: =금월!M7-전월!M7 -> 0 | ... BI7: =금월!BI7-전월!BI7 -> 8
B8: 정보센터소식 | E8: =SUM(F8:BI8) -> 7 | F8: =금월!F8-전월!F8 -> 0 | G8: =금월!G8-전월!G8 -> 0 | H8: =금월!H8-전월!H8 -> 0 | I8: =금월!I8-전월!I8 -> 0 | J8: =금월!J8-전월!J8 -> 0 | K8: =금월!K8-전월!K8 -> 0 | L8: =금월!L8-전월!L8 -> 0 | M8: =금월!M8-전월!M8 -> 0 | ... BI8: =금월!BI8-전월!BI8 -> 7
B9: 철도산업동향 | E9: =SUM(F9:BI9) -> 0 | F9: =금월!F9-전월!F9 -> 0 | G9: =금월!G9-전월!G9 -> 0 | H9: =금월!H9-전월!H9 -> 0 | I9: =금월!I9-전월!I9 -> 0 | J9: =금월!J9-전월!J9 -> 0 | K9: =금월!K9-전월!K9 -> 0 | L9: =금월!L9-전월!L9 -> 0 | M9: =금월!M9-전월!M9 -> 0 | ... BI9: =금월!BI9-전월!BI9 -> 0
C10: =IF(E10=D10,1) -> 1 | D10: =SUM(E5:E8) -> 218 | E10: =SUM(F10:BI10) -> 218 | F10: =SUM(F5:F9) -> 11 | G10: =SUM(G5:G9) -> 12 | H10: =SUM(H5:H9) -> 26 | I10: =SUM(I5:I9) -> 7 | J10: =SUM(J5:J9) -> 0 | K10: =SUM(K5:K9) -> 0 | L10: =SUM(L5:L9) -> 9 | M10: =SUM(M5:M9) -> 9 | ... BI10: =SUM(BI5:BI9) -> 15
A11: 전문자료 | B11: 기술자료 | E11: =SUM(F11:BI11) -> 223 | F11: =금월!F11-전월!F11 -> 0 | G11: =금월!G11-전월!G11 -> 18 | H11: =금월!H11-전월!H11 -> 30 | I11: =금월!I11-전월!I11 -> 0 | J11: =금월!J11-전월!J11 -> 4 | K11: =금월!K11-전월!K11 -> 0 | L11: =금월!L11-전월!L11 -> 32 | M11: =금월!M11-전월!M11 -> 13 | ... BI11: =금월!BI11-전월!BI11 -> 0
B12: 논문 | E12: =SUM(F12:BI12) -> 674 | F12: =금월!F12-전월!F12 -> 0 | G12: =금월!G12-전월!G12 -> 0 | H12: =금월!H12-전월!H12 -> 0 | I12: =금월!I12-전월!I12 -> 0 | J12: =금월!J12-전월!J12 -> 0 | K12: =금월!K12-전월!K12 -> 0 | L12: =금월!L12-전월!L12 -> 0 | M12: =금월!M12-전월!M12 -> 0 | ... BI12: =금월!BI12-전월!BI12 -> 674
B13: 한국철도학회 논문 | E13: =SUM(F13:BI13) -> 0 | F13: =금월!F13-전월!F13 -> 0 | G13: =금월!G13-전월!G13 -> 0 | H13: =금월!H13-전월!H13 -> 0 | I13: =금월!I13-전월!I13 -> 0 | J13: =금월!J13-전월!J13 -> 0 | K13: =금월!K13-전월!K13 -> 0 | L13: =금월!L13-전월!L13 -> 0 | M13: =금월!M13-전월!M13 -> 0 | ... BI13: =금월!BI13-전월!BI13 -> 0
B14: 연구보고서 | E14: =SUM(F14:BI14) -> 1 | F14: =금월!F14-전월!F14 -> 0 | G14: =금월!G14-전월!G14 -> 1 | H14: =금월!H14-전월!H14 -> 0 | I14: =금월!I14-전월!I14 -> 0 | J14: =금월!J14-전월!J14 -> 0 | K14: =금월!K14-전월!K14 -> 0 | L14: =금월!L14-전월!L14 -> 0 | M14: =금월!M14-전월!M14 -> 0 | ... BI14: =금월!BI14-전월!BI14 -> 0
B15: 안전/사고정보 | E15: =SUM(F15:BI15) -> 0 | F15: =금월!F15-전월!F15 -> 0 | G15: =금월!G15-전월!G15 -> 0 | H15: =금월!H15-전월!H15 -> 0 | I15: =금월!I15-전월!I15 -> 0 | J15: =금월!J15-전월!J15 -> 0 | K15: =금월!K15-전월!K15 -> 0 | L15: =금월!L15-전월!L15 -> 0 | M15: =금월!M15-전월!M15 -> 0 | ... BI15: =금월!BI15-전월!BI15 -> 0
B16: 관보 | E16: =SUM(F16:BI16) -> 12 | F16: =금월!F16-전월!F16 -> 0 | G16: =금월!G16-전월!G16 -> 0 | H16: =금월!H16-전월!H16 -> 0 | I16: =금월!I16-전월!I16 -> 0 | J16: =금월!J16-전월!J16 -> 0 | K16: =금월!K16-전월!K16 -> 0 | L16: =금월!L16-전월!L16 -> 0 | M16: =금월!M16-전월!M16 -> 0 | ... BI16: =금월!BI16-전월!BI16 -> 0
B17: 건설기준 | E17: =SUM(F17:BI17) -> 9 | F17: =금월!F17-전월!F17 -> 0 | G17: =금월!G17-전월!G17 -> 9 | H17: =금월!H17-전월!H17 -> 0 | I17: =금월!I17-전월!I17 -> 0 | J17: =금월!J17-전월!J17 -> 0 | K17: =금월!K17-전월!K17 -> 0 | L17: =금월!L17-전월!L17 -> 0 | M17: =금월!M17-전월!M17 -> 0 | ... BI17: =금월!BI17-전월!BI17 -> 0
B18: 규정 | E18: =SUM(F18:BI18) -> 53 | F18: =금월!F18-전월!F18 -> 0 | G18: =금월!G18-전월!G18 -> 0 | H18: =금월!H18-전월!H18 -> 10 | I18: =금월!I18-전월!I18 -> 0 | J18: =금월!J18-전월!J18 -> 6 | K18: =금월!K18-전월!K18 -> 0 | L18: =금월!L18-전월!L18 -> 3 | M18: =금월!M18-전월!M18 -> 8 | ... BI18: =금월!BI18-전월!BI18 -> 0
B19: 용어사전 | E19: =SUM(F19:BI19) -> 0 | F19: =금월!F19-전월!F19 -> 0 | G19: =금월!G19-전월!G19 -> 0 | H19: =금월!H19-전월!H19 -> 0 | I19: =금월!I19-전월!I19 -> 0 | J19: =금월!J19-전월!J19 -> 0 | K19: =금월!K19-전월!K19 -> 0 | L19: =금월!L19-전월!L19 -> 0 | M19: =금월!M19-전월!M19 -> 0 | ... BI19: =금월!BI19-전월!BI19 -> 0
B20: 차량도감 | C20: 고속차량 | E20: =SUM(F20:BI20) -> 0 | F20: =금월!F20-전월!F20 -> 0 | G20: =금월!G20-전월!G20 -> 0 | H20: =금월!H20-전월!H20 -> 0 | I20: =금월!I20-전월!I20 -> 0 | J20: =금월!J20-전월!J20 -> 0 | K20: =금월!K20-전월!K20 -> 0 | L20: =금월!L20-전월!L20 -> 0 | M20: =금월!M20-전월!M20 -> 0 | ... BI20: =금월!BI20-전월!BI20 -> 0
C21: 기관차 | E21: =SUM(F21:BI21) -> 0 | F21: =금월!F21-전월!F21 -> 0 | G21: =금월!G21-전월!G21 -> 0 | H21: =금월!H21-전월!H21 -> 0 | I21: =금월!I21-전월!I21 -> 0 | J21: =금월!J21-전월!J21 -> 0 | K21: =금월!K21-전월!K21 -> 0 | L21: =금월!L21-전월!L21 -> 0 | M21: =금월!M21-전월!M21 -> 0 | ... BI21: =금월!BI21-전월!BI21 -> 0
C22: 동차 | E22: =SUM(F22:BI22) -> 0 | F22: =금월!F22-전월!F22 -> 0 | G22: =금월!G22-전월!G22 -> 0 | H22: =금월!H22-전월!H22 -> 0 | I22: =금월!I22-전월!I22 -> 0 | J22: =금월!J22-전월!J22 -> 0 | K22: =금월!K22-전월!K22 -> 0 | L22: =금월!L22-전월!L22 -> 0 | M22: =금월!M22-전월!M22 -> 0 | ... BI22: =금월!BI22-전월!BI22 -> 0
C23: 전동차 | E23: =SUM(F23:BI23) -> 0 | F23: =금월!F23-전월!F23 -> 0 | G23: =금월!G23-전월!G23 -> 0 | H23: =금월!H23-전월!H23 -> 0 | I23: =금월!I23-전월!I23 -> 0 | J23: =금월!J23-전월!J23 -> 0 | K23: =금월!K23-전월!K23 -> 0 | L23: =금월!L23-전월!L23 -> 0 | M23: =금월!M23-전월!M23 -> 0 | ... BI23: =금월!BI23-전월!BI23 -> 0
C24: 경전철 | E24: =SUM(F24:BI24) -> 0 | F24: =금월!F24-전월!F24 -> 0 | G24: =금월!G24-전월!G24 -> 0 | H24: =금월!H24-전월!H24 -> 0 | I24: =금월!I24-전월!I24 -> 0 | J24: =금월!J24-전월!J24 -> 0 | K24: =금월!K24-전월!K24 -> 0 | L24: =금월!L24-전월!L24 -> 0 | M24: =금월!M24-전월!M24 -> 0 | ... BI24: =금월!BI24-전월!BI24 -> 0
B25: 국내철도현황 | E25: =SUM(F25:BI25) -> 1 | F25: =금월!F25-전월!F25 -> 0 | G25: =금월!G25-전월!G25 -> 0 | H25: =금월!H25-전월!H25 -> 0 | I25: =금월!I25-전월!I25 -> 0 | J25: =금월!J25-전월!J25 -> 0 | K25: =금월!K25-전월!K25 -> 0 | L25: =금월!L25-전월!L25 -> 0 | M25: =금월!M25-전월!M25 -> 0 | ... BI25: =금월!BI25-전월!BI25 -> 0
C26: =IF(E26=D26,1) -> 1 | D26: =SUM(E11:E25) -> 973 | E26: =SUM(F26:BI26) -> 973 | F26: =SUM(F11:F25) -> 0 | G26: =SUM(G11:G25) -> 28 | H26: =SUM(H11:H25) -> 40 | I26: =SUM(I11:I25) -> 0 | J26: =SUM(J11:J25) -> 10 | K26: =SUM(K11:K25) -> 0 | L26: =SUM(L11:L25) -> 35 | M26: =SUM(M11:M25) -> 21 | ... BI26: =SUM(BI11:BI25) -> 674
A27: 취업정보 | B27: 채용공고 | C27: 공공기관 | E27: =SUM(F27:BI27) -> 35 | F27: =금월!F27-전월!F27 -> 3 | G27: =금월!G27-전월!G27 -> 0 | H27: =금월!H27-전월!H27 -> 4 | I27: =금월!I27-전월!I27 -> 0 | J27: =금월!J27-전월!J27 -> 0 | K27: =금월!K27-전월!K27 -> 0 | L27: =금월!L27-전월!L27 -> 3 | M27: =금월!M27-전월!M27 -> 2 | ... BI27: =금월!BI27-전월!BI27 -> 0
C28: 산업체 회원 | E28: =SUM(F28:BI28) -> 0 | F28: =금월!F28-전월!F28 -> 0 | G28: =금월!G28-전월!G28 -> 0 | H28: =금월!H28-전월!H28 -> 0 | I28: =금월!I28-전월!I28 -> 0 | J28: =금월!J28-전월!J28 -> 0 | K28: =금월!K28-전월!K28 -> 0 | L28: =금월!L28-전월!L28 -> 0 | M28: =금월!M28-전월!M28 -> 0 | ... BI28: =금월!BI28-전월!BI28 -> 0
C29: 민간기업 | E29: =SUM(F29:BI29) -> 4 | F29: =금월!F29-전월!F29 -> 0 | G29: =금월!G29-전월!G29 -> 0 | H29: =금월!H29-전월!H29 -> 0 | I29: =금월!I29-전월!I29 -> 0 | J29: =금월!J29-전월!J29 -> 0 | K29: =금월!K29-전월!K29 -> 0 | L29: =금월!L29-전월!L29 -> 0 | M29: =금월!M29-전월!M29 -> 0 | ... BI29: =금월!BI29-전월!BI29 -> 4
B30: 인재정보 | C30: 인재검색 | E30: =SUM(F30:BI30) -> 0 | F30: =금월!F30-전월!F30 -> 0 | G30: =금월!G30-전월!G30 -> 0 | H30: =금월!H30-전월!H30 -> 0 | I30: =금월!I30-전월!I30 -> 0 | J30: =금월!J30-전월!J30 -> 0 | K30: =금월!K30-전월!K30 -> 0 | L30: =금월!L30-전월!L30 -> 0 | M30: =금월!M30-전월!M30 -> 0 | ... BI30: =금월!BI30-전월!BI30 -> 0
C31: 내이력 등록/수정 | E31: =SUM(F31:BI31) -> 0 | F31: =금월!F31-전월!F31 -> 0 | G31: =금월!G31-전월!G31 -> 0 | H31: =금월!H31-전월!H31 -> 0 | I31: =금월!I31-전월!I31 -> 0 | J31: =금월!J31-전월!J31 -> 0 | K31: =금월!K31-전월!K31 -> 0 | L31: =금월!L31-전월!L31 -> 0 | M31: =금월!M31-전월!M31 -> 0 | ... BI31: =금월!BI31-전월!BI31 -> 0
B32: 직업정보 | E32: =SUM(F32:BI32) -> 0 | F32: =금월!F32-전월!F32 -> 0 | G32: =금월!G32-전월!G32 -> 0 | H32: =금월!H32-전월!H32 -> 0 | I32: =금월!I32-전월!I32 -> 0 | J32: =금월!J32-전월!J32 -> 0 | K32: =금월!K32-전월!K32 -> 0 | L32: =금월!L32-전월!L32 -> 0 | M32: =금월!M32-전월!M32 -> 0 | ... BI32: =금월!BI32-전월!BI32 -> 0
B33: 합격수기 | E33: =SUM(F33:BI33) -> 0 | F33: =금월!F33-전월!F33 -> 0 | G33: =금월!G33-전월!G33 -> 0 | H33: =금월!H33-전월!H33 -> 0 | I33: =금월!I33-전월!I33 -> 0 | J33: =금월!J33-전월!J33 -> 0 | K33: =금월!K33-전월!K33 -> 0 | L33: =금월!L33-전월!L33 -> 0 | M33: =금월!M33-전월!M33 -> 0 | ... BI33: =금월!BI33-전월!BI33 -> 0
B34: 철도관련기관 | E34: =SUM(F34:BI34) -> 0 | F34: =금월!F34-전월!F34 -> 0 | G34: =금월!G34-전월!G34 -> 0 | H34: =금월!H34-전월!H34 -> 0 | I34: =금월!I34-전월!I34 -> 0 | J34: =금월!J34-전월!J34 -> 0 | K34: =금월!K34-전월!K34 -> 0 | L34: =금월!L34-전월!L34 -> 0 | M34: =금월!M34-전월!M34 -> 0 | ... BI34: =금월!BI34-전월!BI34 -> 0
C35: =IF(E35=D35,1) -> 1 | D35: =SUM(E27:E34) -> 39 | E35: =SUM(F35:BI35) -> 39 | F35: =SUM(F27:F34) -> 3 | G35: =SUM(G27:G34) -> 0 | H35: =SUM(H27:H34) -> 4 | I35: =SUM(I27:I34) -> 0 | J35: =SUM(J27:J34) -> 0 | K35: =SUM(K27:K34) -> 0 | L35: =SUM(L27:L34) -> 3 | M35: =SUM(M27:M34) -> 2 | ... BI35: =SUM(BI27:BI34) -> 4
A36: 인재개벌 | B36: 교육과정안내 | E36: =SUM(F36:BI36) -> 2 | F36: =금월!F36-전월!F36 -> 0 | G36: =금월!G36-전월!G36 -> 0 | H36: =금월!H36-전월!H36 -> 0 | I36: =금월!I36-전월!I36 -> 0 | J36: =금월!J36-전월!J36 -> 0 | K36: =금월!K36-전월!K36 -> 0 | L36: =금월!L36-전월!L36 -> 0 | M36: =금월!M36-전월!M36 -> 0 | ... BI36: =금월!BI36-전월!BI36 -> 0
B37: 자격증정보 | E37: =SUM(F37:BI37) -> 0 | F37: =금월!F37-전월!F37 -> 0 | G37: =금월!G37-전월!G37 -> 0 | H37: =금월!H37-전월!H37 -> 0 | I37: =금월!I37-전월!I37 -> 0 | J37: =금월!J37-전월!J37 -> 0 | K37: =금월!K37-전월!K37 -> 0 | L37: =금월!L37-전월!L37 -> 0 | M37: =금월!M37-전월!M37 -> 0 | ... BI37: =금월!BI37-전월!BI37 -> 0
B38: 동영상강의 | E38: =SUM(F38:BI38) -> 0 | F38: =금월!F38-전월!F38 -> 0 | G38: =금월!G38-전월!G38 -> 0 | H38: =금월!H38-전월!H38 -> 0 | I38: =금월!I38-전월!I38 -> 0 | J38: =금월!J38-전월!J38 -> 0 | K38: =금월!K38-전월!K38 -> 0 | L38: =금월!L38-전월!L38 -> 0 | M38: =금월!M38-전월!M38 -> 0 | ... BI38: =금월!BI38-전월!BI38 -> 0
B39: 철도관련대학 | E39: =SUM(F39:BI39) -> 0 | F39: =금월!F39-전월!F39 -> 0 | G39: =금월!G39-전월!G39 -> 0 | H39: =금월!H39-전월!H39 -> 0 | I39: =금월!I39-전월!I39 -> 0 | J39: =금월!J39-전월!J39 -> 0 | K39: =금월!K39-전월!K39 -> 0 | L39: =금월!L39-전월!L39 -> 0 | M39: =금월!M39-전월!M39 -> 0 | ... BI39: =금월!BI39-전월!BI39 -> 0
C40: =IF(E40=D40,1) -> FALSE | D40: =SUM(E37:E39) -> 0 | E40: =SUM(F40:BI40) -> 2 | F40: =SUM(F36:F39) -> 0 | G40: =SUM(G36:G39) -> 0 | H40: =SUM(H36:H39) -> 0 | I40: =SUM(I36:I39) -> 0 | J40: =SUM(J36:J39) -> 0 | K40: =SUM(K36:K39) -> 0 | L40: =SUM(L36:L39) -> 0 | M40: =SUM(M36:M39) -> 0 | ... BI40: =SUM(BI36:BI39) -> 0
...

Sheet 제공 기관별 콘텐츠 수
A1: 제공기관 | B1: 콘텐츠 수(누적) | D1: 제공기관 | E1: 콘텐츠 수(월간)
A2: 국토교통부 | B2: ='메뉴별 기관수집량(07월31일 기준)'!B3 -> 2298 | D2: 국토교통부 | E2: ='메뉴별 기관수집량(월간)'!B3 -> 12
A3: 국가철도공단 | B3: ='메뉴별 기관수집량(07월31일 기준)'!B4 -> 38040 | D3: 국가철도공단 | E3: ='메뉴별 기관수집량(월간)'!B4 -> 71
A4: 한국철도공사 | B4: ='메뉴별 기관수집량(07월31일 기준)'!B5 -> 35077 | D4: 한국철도공사 | E4: ='메뉴별 기관수집량(월간)'!B5 -> 339
A5: 한국철도기술연구원 | B5: ='메뉴별 기관수집량(07월31일 기준)'!B6 -> 5295 | D5: 한국철도기술연구원 | E5: ='메뉴별 기관수집량(월간)'!B6 -> 22
A6: 공항철도 | B6: ='메뉴별 기관수집량(07월31일 기준)'!B7 -> 1213 | D6: 공항철도 | E6: ='메뉴별 기관수집량(월간)'!B7 -> 31
A7: 서울교통공사(서울메트로) | B7: ='메뉴별 기관수집량(07월31일 기준)'!B8 -> 448 | D7: 서울교통공사(서울메트로) | E7: ='메뉴별 기관수집량(월간)'!B8 -> 0
A8: 대구교통공사 | B8: ='메뉴별 기관수집량(07월31일 기준)'!B9 -> 2610 | D8: 대구교통공사 | E8: ='메뉴별 기관수집량(월간)'!B9 -> 47
A9: 대전교통공사 | B9: ='메뉴별 기관수집량(07월31일 기준)'!B10 -> 1757 | D9: 대전교통공사 | E9: ='메뉴별 기관수집량(월간)'!B10 -> 38
A10: 광주교통공사 | B10: ='메뉴별 기관수집량(07월31일 기준)'!B11 -> 4215 | D10: 광주교통공사 | E10: ='메뉴별 기관수집량(월간)'!B11 -> 26
A11: 부산교통공사 | B11: ='메뉴별 기관수집량(07월31일 기준)'!B12 -> 4658 | D11: 부산교통공사 | E11: ='메뉴별 기관수집량(월간)'!B12 -> 39
A12: 인천교통공사 | B12: ='메뉴별 기관수집량(07월31일 기준)'!B13 -> 3061 | D12: 인천교통공사 | E12: ='메뉴별 기관수집량(월간)'!B13 -> 51
A13: 서울교통공사(서울도시철도공사) | B13: ='메뉴별 기관수집량(07월31일 기준)'!B14 -> 535 | D13: 서울교통공사(서울도시철도공사) | E13: ='메뉴별 기관수집량(월간)'!B14 -> 0
... A16: 서울9호선운영 | B16: ='메뉴별 기관수집량(07월31일 기준)'!B17 -> 5 | D16: 서울9호선운영 | E16: ='메뉴별 기관수집량(월간)'!B17 -> 0
A17: 의정부경전철 | B17: ='메뉴별 기관수집량(07월31일 기준)'!B18 -> 37 | D17: 의정부경전철 | E17: ='메뉴별 기관수집량(월간)'!B18 -> 0 | L17: `
A18: 부산김해경전철 | B18: ='메뉴별 기관수집량(07월31일 기준)'!B19 -> 240 | D18: 부산김해경전철 | E18: ='메뉴별 기관수집량(월간)'!B19 -> 10
A19: 용인경량전철 | B19: ='메뉴별 기관수집량(07월31일 기준)'!B20 -> 59 | D19: 용인경량전철 | E19: ='메뉴별 기관수집량(월간)'!B20 -> 0
A20: ㈜SR | B20: ='메뉴별 기관수집량(07월31일 기준)'!B21 -> 1577 | D20: ㈜SR | E20: ='메뉴별 기관수집량(월간)'!B21 -> 14
A21: 네오트랜스 | B21: ='메뉴별 기관수집량(07월31일 기준)'!B22 -> 108 | D21: 네오트랜스 | E21: ='메뉴별 기관수집량(월간)'!B22 -> 2
A22: 김포골드라인㈜ | B22: ='메뉴별 기관수집량(07월31일 기준)'!B23 -> 179 | D22: 김포골드라인㈜ | E22: ='메뉴별 기관수집량(월간)'!B23 -> 7
A23: 남서울경전철㈜ | B23: ='메뉴별 기관수집량(07월31일 기준)'!B24 -> 26 | D23: 남서울경전철㈜ | E23: ='메뉴별 기관수집량(월간)'!B24 -> 5
A24: 새서울철도㈜ | B24: ='메뉴별 기관수집량(07월31일 기준)'!B25 -> 0 | D24: 새서울철도㈜ | E24: ='메뉴별 기관수집량(월간)'!B25 -> 0
A25: 신분당선㈜ | B25: ='메뉴별 기관수집량(07월31일 기준)'!B26 -> 6 | D25: 신분당선㈜ | E25: ='메뉴별 기관수집량(월간)'!B26 -> 0
A26: 서해철도㈜ | B26: ='메뉴별 기관수집량(07월31일 기준)'!B27 -> 354 | D26: 서해철도㈜ | E26: ='메뉴별 기관수집량(월간)'!B27 -> 41
A27: 이레일㈜ | B27: ='메뉴별 기관수집량(07월31일 기준)'!B28 -> 0 | D27: 이레일㈜ | E27: ='메뉴별 기관수집량(월간)'!B28 -> 0
A28: 우이신설경전철㈜ | B28: ='메뉴별 기관수집량(07월31일 기준)'!B29 -> 88 | D28: 우이신설경전철㈜ | E28: ='메뉴별 기관수집량(월간)'!B29 -> 3
A29: 에스지레일㈜ | B29: ='메뉴별 기관수집량(07월31일 기준)'!B30 -> 0 | D29: 에스지레일㈜ | E29: ='메뉴별 기관수집량(월간)'!B30 -> 0
... A57: 기타 | B57: ='메뉴별 기관수집량(07월31일 기준)'!B58 -> 103879 | D57: 기타 | E57: ='메뉴별 기관수집량(월간)'!B58 -> 774
A58: 총계 | B58: =SUM(B2:B57) -> 371856 | D58: 총계 | E58: =SUM(E2:E57) -> 3186
