Workbook

Sheet 메뉴별 기관수집량(07월31일 기준)
A1: 대메뉴 | B1: 총합 | C1: 철도미디어 | D1: 철도소식 | E1: 전문자료 | F1: 취업정보 | G1: 인재개발 | H1: 레일광장 | I1: 철도역사관 | J1: 해외철도정보 | K1: 철도통계 | L1: 고객센터 | M1: 레일포털 | N1: 철도 Biz
A2: 총계 | B2: =SUM(C2:N2) -> 371856 | C2: =금월!$E4 -> 66 | D2: =금월!$E10 -> 37584 | E2: =금월!$E26 -> 110179 | F2: =금월!$E35 -> 5648 | G2: =금월!$E40 -> 482 | H2: =금월!$E53 -> 14391 | I2: =금월!$E64 -> 5267 | J2: =금월!$E83 -> 112690 | K2: =금월!$E90 -> 38801 | L2: =금월!$E100 -> 1026 | M2: =금월!$E120 -> 10213 | N2: =금월!$E153 -> 35509
A3: 국토교통부 | B3: =SUM(C3:N3) -> 2298 | C3: =금월!$F4 -> 0 | D3: =금월!$F10 -> 1762 | E3: =금월!F26 -> 30 | F3: =금월!F35 -> 365 | G3: =금월!F40 -> 0 | H3: =금월!F53 -> 4 | I3: =금월!F64 -> 23 | J3: =금월!F83 -> 1 | K3: =금월!F90 -> 66 | L3: =금월!F100 -> 0 | M3: =금월!F120 -> 0 | N3: =금월!F153 -> 47
A4: 국가철도공단 | B4: =SUM(C4:N4) -> 38040 | C4: =금월!$G4 -> 0 | D4: =금월!$G10 -> 3917 | E4: =금월!G26 -> 30173 | F4: =금월!G35 -> 130 | G4: =금월!G40 -> 0 | H4: =금월!G53 -> 12 | I4: =금월!G64 -> 34 | J4: =금월!G83 -> 865 | K4: =금월!G90 -> 35 | L4: =금월!G100 -> 4 | M4: =금월!G120 -> 0 | N4: =금월!G153 -> 2870
A5: 한국철도공사 | B5: =SUM(C5:N5) -> 35077 | C5: =금월!$H4 -> 0 | D5: =금월!$H10 -> 5665 | E5: =금월!H26 -> 14078 | F5: =금월!H35 -> 1283 | G5: =금월!H40 -> 0 | H5: =금월!H53 -> 280 | I5: =금월!H64 -> 12 | J5: =금월!H83 -> 125 | K5: =금월!H90 -> 48 | L5: =금월!H100 -> 0 | M5: =금월!H120 -> 0 | N5: =금월!H153 -> 13586
A6: 한국철도기술연구원 | B6: =SUM(C6:N6) -> 5295 | C6: =금월!$I4 -> 0 | D6: =금월!$I10 -> 705 | E6: =금월!I26 -> 2730 | F6: =금월!I35 -> 91 | G6: =금월!I40 -> 0 | H6: =금월!I53 -> 84 | I6: =금월!I64 -> 0 | J6: =금월!I83 -> 99 | K6: =금월!I90 -> 0 | L6: =금월!I100 -> 0 | M6: =금월!I120 -> 0 | N6: =금월!I153 -> 1586
A7: 공항철도 | B7: =SUM(C7:N7) -> 1213 | C7: =금월!$J4 -> 0 | D7: =금월!$J10 -> 632 | E7: =금월!J26 -> 323 | F7: =금월!J35 -> 62 | G7: =금월!J40 -> 0 | H7: =금월!J53 -> 2 | I7: =금월!J64 -> 1 | J7: =금월!J83 -> 24 | K7: =금월!J90 -> 0 | L7: =금월!J100 -> 0 | M7: =금월!J120 -> 0 | N7: =금월!J153 -> 169
A8: 서울교통공사(서울메트로) | B8: =SUM(C8:N8) -> 448 | C8: =금월!$K4 -> 0 | D8: =금월!$K10 -> 234 | E8: =금월!K26 -> 0 | F8: =금월!K35 -> 214 | G8: =금월!K40 -> 0 | H8: =금월!K53 -> 0 | I8: =금월!K64 -> 0 | J8: =금월!K83 -> 0 | K8: =금월!K90 -> 0 | L8: =금월!K100 -> 0 | M8: =금월!K120 -> 0 | N8: =금월!K153 -> 0
A9: 대구교통공사 | B9: =SUM(C9:N9) -> 2610 | C9: =금월!$L4 -> 0 | D9: =금월!$L10 -> 1291 | E9: =금월!L26 -> 985 | F9: =금월!L35 -> 147 | G9: =금월!L40 -> 0 | H9: =금월!L53 -> 1 | I9: =금월!L64 -> 1 | J9: =금월!L83 -> 0 | K9: =금월!L90 -> 0 | L9: =금월!L100 -> 0 | M9: =금월!L120 -> 0 | N9: =금월!L153 -> 185
A10: 대전교통공사 | B10: =SUM(C10:N10) -> 1757 | C10: =금월!$M4 -> 0 | D10: =금월!$M10 -> 842 | E10: =금월!M26 -> 586 | F10: =금월!M35 -> 148 | G10: =금월!M40 -> 0 | H10: =금월!M53 -> 1 | I10: =금월!M64 -> 0 | J10: =금월!M83 -> 9 | K10: =금월!M90 -> 0 | L10: =금월!M100 -> 0 | M10: =금월!M120 -> 0 | N10: =금월!M153 -> 171
A11: 광주교통공사 | B11: =SUM(C11:N11) -> 4215 | C11: =금월!$N4 -> 0 | D11: =금월!$N10 -> 1621 | E11: =금월!N26 -> 2359 | F11: =금월!N35 -> 135 | G11: =금월!N40 -> 0 | H11: =금월!N53 -> 1 | I11: =금월!N64 -> 0 | J11: =금월!N83 -> 5 | K11: =금월!N90 -> 0 | L11: =금월!N100 -> 0 | M11: =금월!N120 -> 0 | N11: =금월!N153 -> 94
A12: 부산교통공사 | B12: =SUM(C12:N12) -> 4658 | C12: =금월!$O4 -> 0 | D12: =금월!$O10 -> 1416 | E12: =금월!O26 -> 2665 | F12: =금월!O35 -> 153 | G12: =금월!O40 -> 0 | H12: =금월!O53 -> 1 | I12: =금월!O64 -> 1 | J12: =금월!O83 -> 28 | K12: =금월!O90 -> 0 | L12: =금월!O100 -> 0 | M12: =금월!O120 -> 0 | N12: =금월!O153 -> 394
A13: 인천교통공사 | B13: =SUM(C13:N13) -> 3061 | C13: =금월!$P4 -> 0 | D13: =금월!$P10 -> 1502 | E13: =금월!P26 -> 986 | F13: =금월!P35 -> 298 | G13: =금월!P40 -> 0 | H13: =금월!P53 -> 1 | I13: =금월!P64 -> 2 | J13: =금월!P83 -> 0 | K13: =금월!P90 -> 0 | L13: =금월!P100 -> 0 | M13: =금월!P120 -> 0 | N13: =금월!P153 -> 272
A14: 서울교통공사(서울도시철도공사) | B14: =SUM(C14:N14) -> 535 | C14: =금월!$Q4 -> 0 | D14: =금월!$Q10 -> 355 | E14: =금월!Q26 -> 0 | F14: =금월!Q35 -> 179 | G14: =금월!Q40 -> 0 | H14: =금월!Q53 -> 0 | I14: =금월!Q64 -> 1 | J14: =금월!Q83 -> 0 | K14: =금월!Q90 -> 0 | L14: =금월!Q100 -> 0 | M14: =금월!Q120 -> 0 | N14: =금월!Q153 -> 0
A15: 서울교통공사 | B15: =SUM(C15:N15) -> 4055 | C15: =금월!$R4 -> 0 | D15: =금월!$R10 -> 1037 | E15: =금월!R26 -> 1229 | F15: =금월!R35 -> 482 | G15: =금월!R40 -> 0 | H15: =금월!R53 -> 1 | I15: =금월!R64 -> 2 | J15: =금월!R83 -> 0 | K15: =금월!R90 -> 0 | L15: =금월!R100 -> 0 | M15: =금월!R120 -> 0 | N15: =금월!R153 -> 1304
A16: 서울시메트로9호선 | B16: =SUM(C16:N16) -> 211 | C16: =금월!$S4 -> 0 | D16: =금월!$S10 -> 55 | E16: =금월!S26 -> 0 | F16: =금월!S35 -> 94 | G16: =금월!S40 -> 0 | H16: =금월!S53 -> 1 | I16: =금월!S64 -> 1 | J16: =금월!S83 -> 0 | K16: =금월!S90 -> 0 | L16: =금월!S100 -> 0 | M16: =금월!S120 -> 0 | N16: =금월!S153 -> 60
A17: 서울9호선운영 | B17: =SUM(C17:N17) -> 5 | C17: =금월!$T4 -> 0 | D17: =금월!$T10 -> 0 | E17: =금월!T26 -> 1 | F17: =금월!T35 -> 3 | G17: =금월!T40 -> 0 | H17: =금월!T53 -> 0 | I17: =금월!T64 -> 1 | J17: =금월!T83 -> 0 | K17: =금월!T90 -> 0 | L17: =금월!T100 -> 0 | M17: =금월!T120 -> 0 | N17: =금월!T153 -> 0
A18: 의정부경전철 | B18: =SUM(C18:N18) -> 37 | C18: =금월!$U4 -> 0 | D18: =금월!$U10 -> 16 | E18: =금월!U26 -> 14 | F18: =금월!U35 -> 5 | G18: =금월!U40 -> 0 | H18: =금월!U53 -> 1 | I18: =금월!U64 -> 0 | J18: =금월!U83 -> 0 | K18: =금월!U90 -> 0 | L18: =금월!U100 -> 0 | M18: =금월!U120 -> 0 | N18: =금월!U153 -> 1
A19: 부산김해경전철 | B19: =SUM(C19:N19) -> 240 | C19: =금월!$V4 -> 0 | D19: =금월!$V10 -> 115 | E19: =금월!V26 -> 10 | F19: =금월!V35 -> 54 | G19: =금월!V40 -> 0 | H19: =금월!V53 -> 1 | I19: =금월!V64 -> 0 | J19: =금월!V83 -> 0 | K19: =금월!V90 -> 0 | L19: =금월!V100 -> 0 | M19: =금월!V120 -> 0 | N19: =금월!V153 -> 60
A20: 용인경량전철 | B20: =SUM(C20:N20) -> 59 | C20: =금월!$W4 -> 0 | D20: =금월!$W10 -> 33 | E20: =금월!W26 -> 1 | F20: =금월!W35 -> 24 | G20: =금월!W40 -> 0 | H20: =금월!W53 -> 1 | I20: =금월!W64 -> 0 | J20: =금월!W83 -> 0 | K20: =금월!W90 -> 0 | L20: =금월!W100 -> 0 | M20: =금월!W120 -> 0 | N20: =금월!W153 -> 0
A21: ㈜SR | B21: =SUM(C21:N21) -> 1577 | C21: =금월!$X4 -> 0 | D21: =금월!$X10 -> 1164 | E21: =금월!X26 -> 267 | F21: =금월!X35 -> 87 | G21: =금월!X40 -> 0 | H21: =금월!X53 -> 1 | I21: =금월!X64 -> 0 | J21: =금월!X83 -> 0 | K21: =금월!X90 -> 0 | L21: =금월!X100 -> 0 | M21: =금월!X120 -> 0 | N21: =금월!X153 -> 58
A22: 네오트랜스 | B22: =SUM(C22:N22) -> 108 | C22: =금월!$Y4 -> 0 | D22: =금월!$Y10 -> 22 | E22: =금월!Y$26 -> 2 | F22: =금월!Y35 -> 83 | G22: =금월!Y40 -> 0 | H22: =금월!Y53 -> 1 | I22: =금월!Y64 -> 0 | J22: =금월!Y83 -> 0 | K22: =금월!Y90 -> 0 | L22: =금월!Y100 -> 0 | M22: =금월!Y120 -> 0 | N22: =금월!Y153 -> 0
A23: 김포골드라인㈜ | B23: =SUM(C23:N23) -> 179 | C23: =금월!$Z4 -> 0 | D23: =금월!$Z10 -> 13 | E23: =금월!$Z$26 -> 113 | F23: =금월!$Z$35 -> 33 | G23: =금월!$Z$40 -> 0 | H23: =금월!$Z$53 -> 1 | I23: =금월!$Z$64 -> 0 | J23: =금월!$Z$83 -> 0 | K23: =금월!$Z$90 -> 0 | L23: =금월!$Z$100 -> 0 | M23: =금월!$Z$120 -> 0 | N23: =금월!$Z$153 -> 19
A24: 남서울경전철㈜ | B24: =SUM(C24:N24) -> 26 | C24: =금월!$AA4 -> 0 | D24: =금월!$AA10 -> 5 | E24: =금월!$AA$26 -> 5 | F24: =금월!$AA$35 -> 11 | G24: =금월!$AA$40 -> 0 | H24: =금월!$AA$53 -> 0 | I24: =금월!$AA$64 -> 0 | J24: =금월!$AA$83 -> 0 | K24: =금월!$AA$90 -> 0 | L24: =금월!$AA$100 -> 0 | M24: =금월!$AA$120 -> 0 | N24: =금월!$AA$153 -> 5
A25: 새서울철도㈜ | B25: =SUM(C25:N25) -> 0 | C25: =금월!$AB4 -> 0 | D25: =금월!$AB10 -> 0 | E25: =금월!$AB$26 -> 0 | F25: =금월!$AB$35 -> 0 | G25: =금월!$AB$40 -> 0 | H25: =금월!$AB$53 -> 0 | I25: =금월!$AB$64 -> 0 | J25: =금월!$AB$83 -> 0 | K25: =금월!$AB$90 -> 0 | L25: =금월!$AB$100 -> 0 | M25: =금월!$AB$120 -> 0 | N25: =금월!$AB$153 -> 0
A26: 신분당선㈜ | B26: =SUM(C26:N26) -> 6 | C26: =금월!$AC4 -> 0 | D26: =금월!$AC10 -> 3 | E26: =금월!$AC$26 -> 0 | F26: =금월!$AC$35 -> 3 | G26: =금월!$AC$40 -> 0 | H26: =금월!$AC$53 -> 0 | I26: =금월!$AC$64 -> 0 | J26: =금월!$AC$83 -> 0 | K26: =금월!$AC$90 -> 0 | L26: =금월!$AC$100 -> 0 | M26: =금월!$AC$120 -> 0 | N26: =금월!$AC$153 -> 0
A27: 서해철도㈜ | B27: =SUM(C27:N27) -> 354 | C27: =금월!$AD4 -> 0 | D27: =금월!$AD10 -> 17 | E27: =금월!$AD$26 -> 285 | F27: =금월!$AD$35 -> 31 | G27: =금월!$AD$40 -> 0 | H27: =금월!$AD$53 -> 1 | I27: =금월!$AD$64 -> 1 | J27: =금월!$AD$83 -> 0 | K27: =금월!$AD$90 -> 0 | L27: =금월!$AD$100 -> 0 | M27: =금월!$AD$120 -> 0 | N27: =금월!$AD$153 -> 19
A28: 이레일㈜ | B28: =SUM(C28:N28) -> 0 | C28: =금월!$AE4 -> 0 | D28: =금월!$AE10 -> 0 | E28: =금월!$AE$26 -> 0 | F28: =금월!$AE$35 -> 0 | G28: =금월!$AE$40 -> 0 | H28: =금월!$AE$53 -> 0 | I28: =금월!$AE$64 -> 0 | J28: =금월!$AE$83 -> 0 | K28: =금월!$AE$90 -> 0 | L28: =금월!$AE$100 -> 0 | M28: =금월!$AE$120 -> 0 | N28: =금월!$AE$153 -> 0
A29: 우이신설경전철㈜ | B29: =SUM(C29:N29) -> 88 | C29: =금월!$AF4 -> 0 | D29: =금월!$AF10 -> 10 | E29: =금월!$AF$26 -> 2 | F29: =금월!$AF$35 -> 65 | G29: =금월!$AF$40 -> 0 | H29: =금월!$AF$53 -> 2 | I29: =금월!$AF$64 -> 0 | J29: =금월!$AF$83 -> 0 | K29: =금월!$AF$90 -> 0 | L29: =금월!$AF$100 -> 0 | M29: =금월!$AF$120 -> 0 | N29: =금월!$AF$153 -> 9
A30: 에스지레일㈜ | B30: =SUM(C30:N30) -> 0 | C30: =금월!$AG4 -> 0 | D30: =금월!$AG10 -> 0 | E30: =금월!$AG$26 -> 0 | F30: =금월!$AG$35 -> 0 | G30: =금월!$AG$40 -> 0 | H30: =금월!$AG$53 -> 0 | I30: =금월!$AG$64 -> 0 | J30: =금월!$AG$83 -> 0 | K30: =금월!$AG$90 -> 0 | L30: =금월!$AG$100 -> 0 | M30: =금월!$AG$120 -> 0 | N30: =금월!$AG$153 -> 0
A31: 지티엑스에이운영㈜ | B31: =SUM(C31:N31) -> 0 | C31: =금월!$AH4 -> 0 | D31: =금월!$AH10 -> 0 | E31: =금월!$AH$26 -> 0 | F31: =금월!$AH$35 -> 0 | G31: =금월!$AH$40 -> 0 | H31: =금월!$AH$53 -> 0 | I31: =금월!$AH$64 -> 0 | J31: =금월!$AH$83 -> 0 | K31: =금월!$AH$90 -> 0 | L31: =금월!$AH$100 -> 0 | M31: =금월!$AH$120 -> 0 | N31: =금월!$AH$153 -> 0
A32: KIND | B32: =SUM(C32:N32) -> 97 | C32: =금월!$AI4 -> 0 | D32: =금월!$AI10 -> 0 | E32: =금월!AI$26 -> 0 | F32: =금월!AI35 -> 5 | G32: =금월!AI40 -> 0 | H32: =금월!AI53 -> 0 | I32: =금월!AI64 -> 0 | J32: =금월!AI83 -> 92 | K32: =금월!AI90 -> 0 | L32: =금월!AI100 -> 0 | M32: =금월!AI120 -> 0 | N32: =금월!AI153 -> 0
A33: 한국교통안전공단 | B33: =SUM(C33:N33) -> 2504 | C33: =금월!$AJ4 -> 0 | D33: =금월!$AJ10 -> 17 | E33: =금월!AJ26 -> 1134 | F33: =금월!AJ35 -> 1278 | G33: =금월!AJ40 -> 3 | H33: =금월!AJ53 -> 1 | I33: =금월!AJ64 -> 0 | J33: =금월!AJ83 -> 0 | K33: =금월!AJ90 -> 71 | L33: =금월!AJ100 -> 0 | M33: =금월!AJ120 -> 0 | N33: =금월!AJ153 -> 0
A34: 한국철도학회 | B34: =SUM(C34:N34) -> 14589 | C34: =금월!$AK4 -> 0 | D34: =금월!$AK10 -> 250 | E34: =금월!AK26 -> 14331 | F34: =금월!AK35 -> 1 | G34: =금월!AK40 -> 0 | H34: =금월!AK53 -> 0 | I34: =금월!AK64 -> 0 | J34: =금월!AK83 -> 7 | K34: =금월!AK90 -> 0 | L34: =금월!AK100 -> 0 | M34: =금월!AK120 -> 0 | N34: =금월!AK153 -> 0
A35: 철도산업정보센터 | B35: =SUM(C35:N35) -> 24941 | C35: =금월!$AL4 -> 66 | D35: =금월!$AL10 -> 18 | E35: =금월!AL26 -> 11017 | F35: =금월!AL35 -> 88 | G35: =금월!AL40 -> 0 | H35: =금월!AL53 -> 198 | I35: =금월!AL64 -> 1 | J35: =금월!AL83 -> 2313 | K35: =금월!AL90 -> 1 | L35: =금월!AL100 -> 1021 | M35: =금월!AL120 -> 10213 | N35: =금월!AL153 -> 5
A36: 해외건설협회 | B36: =SUM(C36:N36) -> 6689 | C36: =금월!$AM4 -> 0 | D36: =금월!$AM10 -> 0 | E36: =금월!AM26 -> 0 | F36: =금월!AM35 -> 0 | G36: =금월!AM40 -> 163 | H36: =금월!AM53 -> 0 | I36: =금월!AM64 -> 0 | J36: =금월!AM83 -> 6489 | K36: =금월!AM90 -> 0 | L36: =금월!AM100 -> 0 | M36: =금월!AM120 -> 0 | N36: =금월!AM153 -> 37
A37: 한국철도협회 | B37: =SUM(C37:N37) -> 749 | C37: =금월!$AN4 -> 0 | D37: =금월!$AN10 -> 6 | E37: =금월!AN26 -> 1 | F37: =금월!AN35 -> 2 | G37: =금월!AN40 -> 160 | H37: =금월!AN53 -> 0 | I37: =금월!AN64 -> 0 | J37: =금월!AN83 -> 578 | K37: =금월!AN90 -> 0 | L37: =금월!AN100 -> 0 | M37: =금월!AN120 -> 0 | N37: =금월!AN153 -> 2
A38: 중소벤처기업부 | B38: =SUM(C38:N38) -> 5456 | C38: =금월!$AO4 -> 0 | D38: =금월!$AO10 -> 0 | E38: =금월!AO26 -> 0 | F38: =금월!AO35 -> 0 | G38: =금월!AO40 -> 0 | H38: =금월!AO53 -> 0 | I38: =금월!AO64 -> 0 | J38: =금월!AO83 -> 5058 | K38: =금월!AO90 -> 0 | L38: =금월!AO100 -> 0 | M38: =금월!AO120 -> 0 | N38: =금월!AO153 -> 398
A39: 외교부 | B39: =SUM(C39:N39) -> 707 | C39: =금월!$AP4 -> 0 | D39: =금월!$AP10 -> 0 | E39: =금월!AP26 -> 0 | F39: =금월!AP35 -> 0 | G39: =금월!AP40 -> 0 | H39: =금월!AP53 -> 0 | I39: =금월!AP64 -> 0 | J39: =금월!AP83 -> 707 | K39: =금월!AP90 -> 0 | L39: =금월!AP100 -> 0 | M39: =금월!AP120 -> 0 | N39: =금월!AP153 -> 0
A40: 철도경제신문 | B40: =SUM(C40:N40) -> 3402 | C40: =금월!$AQ4 -> 0 | D40: =금월!$AQ10 -> 3109 | E40: =금월!AQ26 -> 0 | F40: =금월!AQ35 -> 0 | G40: =금월!AQ40 -> 0 | H40: =금월!AQ53 -> 0 | I40: =금월!AQ64 -> 0 | J40: =금월!AQ83 -> 293 | K40: =금월!AQ90 -> 0 | L40: =금월!AQ100 -> 0 | M40: =금월!AQ120 -> 0 | N40: =금월!AQ153 -> 0
A41: 철도신문 | B41: =SUM(C41:N41) -> 2374 | C41: =금월!$AR4 -> 0 | D41: =금월!$AR10 -> 1383 | E41: =금월!AR26 -> 0 | F41: =금월!AR35 -> 0 | G41: =금월!AR40 -> 0 | H41: =금월!AR53 -> 876 | I41: =금월!AR64 -> 0 | J41: =금월!AR83 -> 115 | K41: =금월!AR90 -> 0 | L41: =금월!AR100 -> 0 | M41: =금월!AR120 -> 0 | N41: =금월!AR153 -> 0
A42: 레일뉴스 | B42: =SUM(C42:N42) -> 8978 | C42: =금월!$AS4 -> 0 | D42: =금월!$AS10 -> 7162 | E42: =금월!AS26 -> 0 | F42: =금월!AS35 -> 0 | G42: =금월!AS40 -> 0 | H42: =금월!AS53 -> 325 | I42: =금월!AS64 -> 0 | J42: =금월!AS83 -> 1491 | K42: =금월!AS90 -> 0 | L42: =금월!AS100 -> 0 | M42: =금월!AS120 -> 0 | N42: =금월!AS153 -> 0
A43: 국가법령정보센터 | B43: =SUM(C43:N43) -> 108 | C43: =금월!$AT4 -> 0 | D43: =금월!$AT10 -> 0 | E43: =금월!AT26 -> 0 | F43: =금월!AT35 -> 0 | G43: =금월!AT40 -> 0 | H43: =금월!AT53 -> 0 | I43: =금월!AT64 -> 0 | J43: =금월!AT83 -> 0 | K43: =금월!AT90 -> 0 | L43: =금월!AT100 -> 0 | M43: =금월!AT120 -> 0 | N43: =금월!AT153 -> 108
A44: 한국산업인력공단 | B44: =SUM(C44:N44) -> 91 | C44: =금월!$AU4 -> 0 | D44: =금월!$AU10 -> 0 | E44: =금월!AU26 -> 0 | F44: =금월!AU35 -> 0 | G44: =금월!AU40 -> 91 | H44: =금월!AU53 -> 0 | I44: =금월!AU64 -> 0 | J44: =금월!AU83 -> 0 | K44: =금월!AU90 -> 0 | L44: =금월!AU100 -> 0 | M44: =금월!AU120 -> 0 | N44: =금월!AU153 -> 0
A45: UIC | B45: =SUM(C45:N45) -> 6208 | C45: =금월!$AV4 -> 0 | D45: =금월!$AV10 -> 4 | E45: =금월!AV26 -> 0 | F45: =금월!AV35 -> 0 | G45: =금월!AV40 -> 0 | H45: =금월!AV53 -> 0 | I45: =금월!AV64 -> 0 | J45: =금월!AV83 -> 5132 | K45: =금월!AV90 -> 0 | L45: =금월!AV100 -> 0 | M45: =금월!AV120 -> 0 | N45: =금월!AV153 -> 1072
A46: KOTRA | B46: =SUM(C46:N46) -> 1211 | C46: =금월!$AW4 -> 0 | D46: =금월!$AW10 -> 0 | E46: =금월!AW26 -> 0 | F46: =금월!AW35 -> 0 | G46: =금월!AW40 -> 0 | H46: =금월!AW53 -> 0 | I46: =금월!AW64 -> 0 | J46: =금월!AW83 -> 1211 | K46: =금월!AW90 -> 0 | L46: =금월!AW100 -> 0 | M46: =금월!AW120 -> 0 | N46: =금월!AW153 -> 0
A47: 관세청 | B47: =SUM(C47:N47) -> 19502 | C47: =금월!$AX4 -> 0 | D47: =금월!$AX10 -> 0 | E47: =금월!AX26 -> 0 | F47: =금월!AX35 -> 0 | G47: =금월!AX40 -> 0 | H47: =금월!AX53 -> 0 | I47: =금월!AX64 -> 0 | J47: =금월!AX83 -> 19502 | K47: =금월!AX90 -> 0 | L47: =금월!AX100 -> 0 | M47: =금월!AX120 -> 0 | N47: =금월!AX153 -> 0
A48: 전자관보 | B48: =SUM(C48:N48) -> 1658 | C48: =금월!$AY4 -> 0 | D48: =금월!$AY10 -> 0 | E48: =금월!AY26 -> 1655 | F48: =금월!AY35 -> 0 | G48: =금월!AY40 -> 0 | H48: =금월!AY53 -> 0 | I48: =금월!AY64 -> 3 | J48: =금월!AY83 -> 0 | K48: =금월!AY90 -> 0 | L48: =금월!AY100 -> 0 | M48: =금월!AY120 -> 0 | N48: =금월!AY153 -> 0
A49: 철도박물관 | B49: =SUM(C49:N49) -> 135 | C49: =금월!$AZ4 -> 0 | D49: =금월!$AZ10 -> 0 | E49: =금월!AZ26 -> 0 | F49: =금월!AZ35 -> 0 | G49: =금월!AZ40 -> 0 | H49: =금월!AZ53 -> 0 | I49: =금월!AZ64 -> 135 | J49: =금월!AZ83 -> 0 | K49: =금월!AZ90 -> 0 | L49: =금월!AZ100 -> 0 | M49: =금월!AZ120 -> 0 | N49: =금월!AZ153 -> 0
A50: 국토교통과학기술진흥원 | B50: =SUM(C50:N50) -> 77 | C50: =금월!$BA4 -> 0 | D50: =금월!$BA10 -> 0 | E50: =금월!BA26 -> 0 | F50: =금월!BA35 -> 0 | G50: =금월!BA40 -> 0 | H50: =금월!BA53 -> 0 | I50: =금월!BA64 -> 0 | J50: =금월!BA83 -> 0 | K50: =금월!BA90 -> 0 | L50: =금월!BA100 -> 0 | M50: =금월!BA120 -> 0 | N50: =금월!BA153 -> 77
A51: 한국관광공사 | B51: =SUM(C51:N51) -> 418 | C51: =금월!$BB4 -> 0 | D51: =금월!$BB10 -> 0 | E51: =금월!BB$26 -> 0 | F51: =금월!BB$35 -> 0 | G51: =금월!BB40 -> 0 | H51: =금월!BB53 -> 418 | I51: =금월!BB64 -> 0 | J51: =금월!BB83 -> 0 | K51: =금월!BB90 -> 0 | L51: =금월!BB100 -> 0 | M51: =금월!BB120 -> 0 | N51: =금월!BB153 -> 0
A52: TED | B52: =SUM(C52:N52) -> 54974 | C52: =금월!$BC4 -> 0 | D52: =금월!$BC10 -> 0 | E52: =금월!$BC$26 -> 0 | F52: =금월!$BC$35 -> 0 | G52: =금월!$BC$40 -> 0 | H52: =금월!$BC$53 -> 0 | I52: =금월!$BC$64 -> 0 | J52: =금월!$BC$83 -> 54974 | K52: =금월!$BC$90 -> 0 | L52: =금월!$BC$100 -> 0 | M52: =금월!$BC$120 -> 0 | N52: =금월!$BC$153 -> 0
A53: Railway-technology | B53: =SUM(C53:N53) -> 503 | C53: =금월!$BD4 -> 0 | D53: =금월!$BD10 -> 2 | E53: =금월!$BD$26 -> 0 | F53: =금월!$BD$35 -> 0 | G53: =금월!$BD$40 -> 0 | H53: =금월!$BD$53 -> 0 | I53: =금월!$BD$64 -> 0 | J53: =금월!$BD$83 -> 501 | K53: =금월!$BD$90 -> 0 | L53: =금월!$BD$100 -> 0 | M53: =금월!$BD$120 -> 0 | N53: =금월!$BD$153 -> 0
A54: Global Railway Review | B54: =SUM(C54:N54) -> 75 | C54: =금월!$BE4 -> 0 | D54: =금월!$BE10 -> 4 | E54: =금월!$BE$26 -> 0 | F54: =금월!$BE$35 -> 0 | G54: =금월!$BE$40 -> 0 | H54: =금월!$BE$53 -> 0 | I54: =금월!$BE$64 -> 0 | J54: =금월!$BE$83 -> 71 | K54: =금월!$BE$90 -> 0 | L54: =금월!$BE$100 -> 0 | M54: =금월!$BE$120 -> 0 | N54: =금월!$BE$153 -> 0
A55: Mass Transit | B55: =SUM(C55:N55) -> 15 | C55: =금월!$BF4 -> 0 | D55: =금월!$BF10 -> 0 | E55: =금월!$BF$26 -> 0 | F55: =금월!$BF$35 -> 0 | G55: =금월!$BF$40 -> 0 | H55: =금월!$BF$53 -> 0 | I55: =금월!$BF$64 -> 0 | J55: =금월!$BF$83 -> 15 | K55: =금월!$BF$90 -> 0 | L55: =금월!$BF$100 -> 0 | M55: =금월!$BF$120 -> 0 | N55: =금월!$BF$153 -> 0
A56: Railway Gazette | B56: =SUM(C56:N56) -> 3687 | C56: =금월!$BG4 -> 0 | D56: =금월!$BG10 -> 234 | E56: =금월!$BG$26 -> 0 | F56: =금월!$BG$35 -> 0 | G56: =금월!$BG$40 -> 0 | H56: =금월!$BG$53 -> 0 | I56: =금월!$BG$64 -> 0 | J56: =금월!$BG$83 -> 3453 | K56: =금월!$BG$90 -> 0 | L56: =금월!$BG$100 -> 0 | M56: =금월!$BG$120 -> 0 | N56: =금월!$BG$153 -> 0
A57: InnoTrans | B57: =SUM(C57:N57) -> 2677 | C57: =금월!$BH4 -> 0 | D57: =금월!$BH10 -> 0 | E57: =금월!$BH$26 -> 0 | F57: =금월!$BH$35 -> 0 | G57: =금월!$BH$40 -> 0 | H57: =금월!$BH$53 -> 0 | I57: =금월!$BH$64 -> 0 | J57: =금월!$BH$83 -> 2677 | K57: =금월!$BH$90 -> 0 | L57: =금월!$BH$100 -> 0 | M57: =금월!$BH$120 -> 0 | N57: =금월!$BH$153 -> 0
A58: 기타 | B58: =SUM(C58:N58) -> 103879 | C58: =금월!$BI4 -> 0 | D58: =금월!$BI10 -> 2963 | E58: =금월!$BI$26 -> 25197 | F58: =금월!$BI$35 -> 94 | G58: =금월!$BI$40 -> 65 | H58: =금월!$BI$53 -> 12175 | I58: =금월!$BI$64 -> 5048 | J58: =금월!$BI$83 -> 6855 | K58: =금월!$BI$90 -> 38580 | L58: =금월!$BI$100 -> 1 | M58: =금월!$BI$120 -> 0 | N58: =금월!$BI$153 -> 12901

Sheet 메뉴별 기관수집량(월간)
A1: 대메뉴 | B1: 총합 | C1: 철도미디어 | D1: 철도소식 | E1: 전문자료 | F1: 취업정보 | G1: 인재개발 | H1: 레일광장 | I1: 철도역사관 | J1: 해외철도정보 | K1: 철도통계 | L1: 고객센터 | M1: 레일포털 | N1: 철도 Biz
A2: 총계 | B2: =SUM(C2:N2) -> 3186 | C2: =월간수집!E4 -> 13 | D2: =월간수집!E10 -> 218 | E2: =월간수집!E26 -> 973 | F2: =월간수집!E35 -> 39 | G2: =월간수집!E40 -> 2 | H2: =월간수집!E53 -> 6 | I2: =월간수집!E64 -> 0 | J2: =월간수집!E83 -> 1511 | K2: =월간수집!E90 -> 0 | L2: =월간수집!E100 -> 2 | M2: =월간수집!E120 -> 8 | N2: =월간수집!E153 -> 414
A3: 국토교통부 | B3: =SUM(C3:N3) -> 12 | C3: =월간수집!$F4 -> 0 | D3: =월간수집!F10 -> 11 | E3: =월간수집!F26 -> 0 | F3: =월간수집!F35 -> 3 | G3: =월간수집!F40 -> 0 | H3: =월간수집!F53 -> 0 | I3: =월간수집!F64 -> 0 | J3: =월간수집!F83 -> 0 | K3: =월간수집!F90 -> 0 | L3: =월간수집!F100 -> 0 | M3: =월간수집!F120 -> 0 | N3: =월간수집!F153 -> -2
A4: 국가철도공단 | B4: =SUM(C4:N4) -> 71 | C4: =월간수집!$G4 -> 0 | D4: =월간수집!G10 -> 12 | E4: =월간수집!G26 -> 28 | F4: =월간수집!G35 -> 0 | G4: =월간수집!G40 -> 0 | H4: =월간수집!G53 -> 0 | I4: =월간수집!G64 -> 0 | J4: =월간수집!G83 -> 0 | K4: =월간수집!G90 -> 0 | L4: =월간수집!G100 -> 0 | M4: =월간수집!G120 -> 0 | N4: =월간수집!G153 -> 31
A5: 한국철도공사 | B5: =SUM(C5:N5) -> 339 | C5: =월간수집!$H4 -> 0 | D5: =월간수집!H10 -> 26 | E5: =월간수집!H26 -> 40 | F5: =월간수집!H35 -> 4 | G5: =월간수집!H40 -> 0 | H5: =월간수집!H53 -> 5 | I5: =월간수집!H64 -> 0 | J5: =월간수집!H83 -> 1 | K5: =월간수집!H90 -> 0 | L5: =월간수집!H100 -> 0 | M5: =월간수집!H120 -> 0 | N5: =월간수집!H153 -> 263
A6: 한국철도기술연구원 | B6: =SUM(C6:N6) -> 22 | C6: =월간수집!$I4 -> 0 | D6: =월간수집!I10 -> 7 | E6: =월간수집!I26 -> 0 | F6: =월간수집!I35 -> 0 | G6: =월간수집!I40 -> 0 | H6: =월간수집!I53 -> 0 | I6: =월간수집!I64 -> 0 | J6: =월간수집!I83 -> 0 | K6: =월간수집!I90 -> 0 | L6: =월간수집!I100 -> 0 | M6: =월간수집!I120 -> 0 | N6: =월간수집!I153 -> 15
A7: 공항철도 | B7: =SUM(C7:N7) -> 31 | C7: =월간수집!$J4 -> 0 | D7: =월간수집!J10 -> 0 | E7: =월간수집!J26 -> 10 | F7: =월간수집!J35 -> 0 | G7: =월간수집!J40 -> 0 | H7: =월간수집!J53 -> 0 | I7: =월간수집!J64 -> 0 | J7: =월간수집!J83 -> 0 | K7: =월간수집!J90 -> 0 | L7: =월간수집!J100 -> 0 | M7: =월간수집!J120 -> 0 | N7: =월간수집!J153 -> 21
A8: 서울메트로 | B8: =SUM(C8:N8) -> 0 | C8: =월간수집!$K4 -> 0 | D8: =월간수집!K10 -> 0 | E8: =월간수집!K26 -> 0 | F8: =월간수집!K35 -> 0 | G8: =월간수집!K40 -> 0 | H8: =월간수집!K53 -> 0 | I8: =월간수집!K64 -> 0 | J8: =월간수집!K83 -> 0 | K8: =월간수집!K90 -> 0 | L8: =월간수집!K100 -> 0 | M8: =월간수집!K120 -> 0 | N8: =월간수집!K153 -> 0
A9: 대구교통공사 | B9: =SUM(C9:N9) -> 47 | C9: =월간수집!$L4 -> 0 | D9: =월간수집!L10 -> 9 | E9: =월간수집!L26 -> 35 | F9: =월간수집!L35 -> 3 | G9: =월간수집!L40 -> 0 | H9: =월간수집!L53 -> 0 | I9: =월간수집!L64 -> 0 | J9: =월간수집!L83 -> 0 | K9: =월간수집!L90 -> 0 | L9: =월간수집!L100 -> 0 | M9: =월간수집!L120 -> 0 | N9: =월간수집!L153 -> 0
A10: 대전교통공사 | B10: =SUM(C10:N10) -> 38 | C10: =월간수집!$M4 -> 0 | D10: =월간수집!M10 -> 9 | E10: =월간수집!M26 -> 21 | F10: =월간수집!M35 -> 2 | G10: =월간수집!M40 -> 0 | H10: =월간수집!M53 -> 0 | I10: =월간수집!M64 -> 0 | J10: =월간수집!M83 -> 0 | K10: =월간수집!M90 -> 0 | L10: =월간수집!M100 -> 0 | M10: =월간수집!M120 -> 0 | N10: =월간수집!M153 -> 6
A11: 광주도시철도공사 | B11: =SUM(C11:N11) -> 26 | C11: =월간수집!$N4 -> 0 | D11: =월간수집!N10 -> 17 | E11: =월간수집!N26 -> 13 | F11: =월간수집!N35 -> 0 | G11: =월간수집!N40 -> 0 | H11: =월간수집!N53 -> 0 | I11: =월간수집!N64 -> 0 | J11: =월간수집!N83 -> 0 | K11: =월간수집!N90 -> 0 | L11: =월간수집!N100 -> 0 | M11: =월간수집!N120 -> 0 | N11: =월간수집!N153 -> -4
A12: 부산교통공사 | B12: =SUM(C12:N12) -> 39 | C12: =월간수집!$O4 -> 0 | D12: =월간수집!O10 -> 8 | E12: =월간수집!O26 -> 22 | F12: =월간수집!O35 -> 2 | G12: =월간수집!O40 -> 0 | H12: =월간수집!O53 -> 0 | I12: =월간수집!O64 -> 0 | J12: =월간수집!O83 -> 0 | K12: =월간수집!O90 -> 0 | L12: =월간수집!O100 -> 0 | M12: =월간수집!O120 -> 0 | N12: =월간수집!O153 -> 7
A13: 인천교통공사 | B13: =SUM(C13:N13) -> 51 | C13: =월간수집!$P4 -> 0 | D13: =월간수집!P10 -> 17 | E13: =월간수집!P26 -> 26 | F13: =월간수집!P35 -> 2 | G13: =월간수집!P40 -> 0 | H13: =월간수집!P53 -> 0 | I13: =월간수집!P64 -> 0 | J13: =월간수집!P83 -> 0 | K13: =월간수집!P90 -> 0 | L13: =월간수집!P100 -> 0 | M13: =월간수집!P120 -> 0 | N13: =월간수집!P153 -> 6
A14: 서울도시철도공사 | B14: =SUM(C14:N14) -> 0 | C14: =월간수집!$Q4 -> 0 | D14: =월간수집!Q10 -> 0 | E14: =월간수집!Q26 -> 0 | F14: =월간수집!Q35 -> 0 | G14: =월간수집!Q40 -> 0 | H14: =월간수집!Q53 -> 0 | I14: =월간수집!Q64 -> 0 | J14: =월간수집!Q83 -> 0 | K14: =월간수집!Q90 -> 0 | L14: =월간수집!Q100 -> 0 | M14: =월간수집!Q120 -> 0 | N14: =월간수집!Q153 -> 0
A15: 서울교통공사 | B15: =SUM(C15:N15) -> 65 | C15: =월간수집!$R4 -> 0 | D15: =월간수집!R10 -> 16 | E15: =월간수집!R26 -> 28 | F15: =월간수집!R35 -> 7 | G15: =월간수집!R40 -> 0 | H15: =월간수집!R53 -> 0 | I15: =월간수집!R64 -> 0 | J15: =월간수집!R83 -> 0 | K15: =월간수집!R90 -> 0 | L15: =월간수집!R100 -> 0 | M15: =월간수집!R120 -> 0 | N15: =월간수집!R153 -> 14
A16: 서울시메트로9호선 | B16: =SUM(C16:N16) -> -15 | C16: =월간수집!$S4 -> 0 | D16: =월간수집!S10 -> 1 | E16: =월간수집!S26 -> 0 | F16: =월간수집!S35 -> 1 | G16: =월간수집!S40 -> 0 | H16: =월간수집!S53 -> 0 | I16: =월간수집!S64 -> 0 | J16: =월간수집!S83 -> 0 | K16: =월간수집!S90 -> 0 | L16: =월간수집!S100 -> 0 | M16: =월간수집!S120 -> 0 | N16: =월간수집!S153 -> -17
A17: 서울9호선운영 | B17: =SUM(C17:N17) -> 0 | C17: =월간수집!$T4 -> 0 | D17: =월간수집!T10 -> 0 | E17: =월간수집!T26 -> 0 | F17: =월간수집!T35 -> 0 | G17: =월간수집!T40 -> 0 | H17: =월간수집!T53 -> 0 | I17: =월간수집!T64 -> 0 | J17: =월간수집!T83 -> 0 | K17: =월간수집!T90 -> 0 | L17: =월간수집!T100 -> 0 | M17: =월간수집!T120 -> 0 | N17: =월간수집!T153 -> 0
A18: 의정부경전철 | B18: =SUM(C18:N18) -> 0 | C18: =월간수집!$U4 -> 0 | D18: =월간수집!U10 -> 0 | E18: =월간수집!U26 -> 0 | F18: =월간수집!U35 -> 0 | G18: =월간수집!U40 -> 0 | H18: =월간수집!U53 -> 0 | I18: =월간수집!U64 -> 0 | J18: =월간수집!U83 -> 0 | K18: =월간수집!U90 -> 0 | L18: =월간수집!U100 -> 0 | M18: =월간수집!U120 -> 0 | N18: =월간수집!U153 -> 0
A19: 부산김해경전철 | B19: =SUM(C19:N19) -> 10 | C19: =월간수집!$V4 -> 0 | D19: =월간수집!V10 -> 1 | E19: =월간수집!V26 -> 0 | F19: =월간수집!V35 -> 0 | G19: =월간수집!V40 -> 0 | H19: =월간수집!V53 -> 0 | I19: =월간수집!V64 -> 0 | J19: =월간수집!V83 -> 0 | K19: =월간수집!V90 -> 0 | L19: =월간수집!V100 -> 0 | M19: =월간수집!V120 -> 0 | N19: =월간수집!V153 -> 9
A20: 용인경량전철 | B20: =SUM(C20:N20) -> 0 | C20: =월간수집!$W4 -> 0 | D20: =월간수집!W10 -> 0 | E20: =월간수집!W26 -> 0 | F20: =월간수집!W35 -> 0 | G20: =월간수집!W40 -> 0 | H20: =월간수집!W53 -> 0 | I20: =월간수집!W64 -> 0 | J20: =월간수집!W83 -> 0 | K20: =월간수집!W90 -> 0 | L20: =월간수집!W100 -> 0 | M20: =월간수집!W120 -> 0 | N20: =월간수집!W153 -> 0
A21: ㈜SR | B21: =SUM(C21:N21) -> 14 | C21: =월간수집!$X4 -> 0 | D21: =월간수집!X10 -> 3 | E21: =월간수집!X26 -> 7 | F21: =월간수집!X35 -> 0 | G21: =월간수집!X40 -> 0 | H21: =월간수집!X53 -> 0 | I21: =월간수집!X64 -> 0 | J21: =월간수집!X83 -> 0 | K21: =월간수집!X90 -> 0 | L21: =월간수집!X100 -> 0 | M21: =월간수집!X120 -> 0 | N21: =월간수집!X153 -> 4
A22: 네오트랜스 | B22: =SUM(C22:N22) -> 2 | C22: =월간수집!$Y4 -> 0 | D22: =월간수집!Y$10 -> 0 | E22: =월간수집!Y$26 -> 0 | F22: =월간수집!Y35 -> 2 | G22: =월간수집!Y40 -> 0 | H22: =월간수집!Y53 -> 0 | I22: =월간수집!Y64 -> 0 | J22: =월간수집!Y83 -> 0 | K22: =월간수집!Y90 -> 0 | L22: =월간수집!Y100 -> 0 | M22: =월간수집!Y120 -> 0 | N22: =월간수집!Y153 -> 0
A23: 김포골드라인㈜ | B23: =SUM(C23:N23) -> 7 | C23: =월간수집!$Z4 -> 0 | D23: =월간수집!Z10 -> 0 | E23: =월간수집!$Z$26 -> 0 | F23: =월간수집!$Z$35 -> 1 | G23: =월간수집!$Z$40 -> 0 | H23: =월간수집!$Z$53 -> 0 | I23: =월간수집!$Z$64 -> 0 | J23: =월간수집!$Z$83 -> 0 | K23: =월간수집!$Z$90 -> 0 | L23: =월간수집!$Z$100 -> 0 | M23: =월간수집!$Z$120 -> 0 | N23: =월간수집!$Z$153 -> 6
A24: 남서울경전철㈜ | B24: =SUM(C24:N24) -> 5 | C24: =월간수집!$AA4 -> 0 | D24: =월간수집!AA10 -> 0 | E24: =월간수집!$AA$26 -> 0 | F24: =월간수집!$AA$35 -> 4 | G24: =월간수집!$AA$40 -> 0 | H24: =월간수집!$AA$53 -> 0 | I24: =월간수집!$AA$64 -> 0 | J24: =월간수집!$AA$83 -> 0 | K24: =월간수집!$AA$90 -> 0 | L24: =월간수집!$AA$100 -> 0 | M24: =월간수집!$AA$120 -> 0 | N24: =월간수집!$AA$153 -> 1
A25: 새서울철도㈜ | B25: =SUM(C25:N25) -> 0 | C25: =월간수집!$AB4 -> 0 | D25: =월간수집!AB$10 -> 0 | E25: =월간수집!$AB$26 -> 0 | F25: =월간수집!$AB$35 -> 0 | G25: =월간수집!$AB$40 -> 0 | H25: =월간수집!$AB$53 -> 0 | I25: =월간수집!$AB$64 -> 0 | J25: =월간수집!$AB$83 -> 0 | K25: =월간수집!$AB$90 -> 0 | L25: =월간수집!$AB$100 -> 0 | M25: =월간수집!$AB$120 -> 0 | N25: =월간수집!$AB$153 -> 0
A26: 신분당선㈜ | B26: =SUM(C26:N26) -> 0 | C26: =월간수집!$AC4 -> 0 | D26: =월간수집!AC$10 -> 0 | E26: =월간수집!$AC$26 -> 0 | F26: =월간수집!$AC$35 -> 0 | G26: =월간수집!$AC$40 -> 0 | H26: =월간수집!$AC$53 -> 0 | I26: =월간수집!$AC$64 -> 0 | J26: =월간수집!$AC$83 -> 0 | K26: =월간수집!$AC$90 -> 0 | L26: =월간수집!$AC$100 -> 0 | M26: =월간수집!$AC$120 -> 0 | N26: =월간수집!$AC$153 -> 0
A27: 서해철도㈜ | B27: =SUM(C27:N27) -> 41 | C27: =월간수집!$AD4 -> 0 | D27: =월간수집!AD$10 -> 0 | E27: =월간수집!$AD$26 -> 39 | F27: =월간수집!$AD$35 -> 0 | G27: =월간수집!$AD$40 -> 0 | H27: =월간수집!$AD$53 -> 0 | I27: =월간수집!$AD$64 -> 0 | J27: =월간수집!$AD$83 -> 0 | K27: =월간수집!$AD$90 -> 0 | L27: =월간수집!$AD$100 -> 0 | M27: =월간수집!$AD$120 -> 0 | N27: =월간수집!$AD$153 -> 2
A28: 이레일㈜ | B28: =SUM(C28:N28) -> 0 | C28: =월간수집!$AE4 -> 0 | D28: =월간수집!AE$10 -> 0 | E28: =월간수집!$AE$26 -> 0 | F28: =월간수집!$AE$35 -> 0 | G28: =월간수집!$AE$40 -> 0 | H28: =월간수집!$AE$53 -> 0 | I28: =월간수집!$AE$64 -> 0 | J28: =월간수집!$AE$83 -> 0 | K28: =월간수집!$AE$90 -> 0 | L28: =월간수집!$AE$100 -> 0 | M28: =월간수집!$AE$120 -> 0 | N28: =월간수집!$AE$153 -> 0
A29: 우이신설경전철㈜ | B29: =SUM(C29:N29) -> 3 | C29: =월간수집!$AF4 -> 0 | D29: =월간수집!AF$10 -> 0 | E29: =월간수집!$AF$26 -> 0 | F29: =월간수집!$AF$35 -> 3 | G29: =월간수집!$AF$40 -> 0 | H29: =월간수집!$AF$53 -> 0 | I29: =월간수집!$AF$64 -> 0 | J29: =월간수집!$AF$83 -> 0 | K29: =월간수집!$AF$90 -> 0 | L29: =월간수집!$AF$100 -> 0 | M29: =월간수집!$AF$120 -> 0 | N29: =월간수집!$AF$153 -> 0
A30: 에스지레일㈜ | B30: =SUM(C30:N30) -> 0 | C30: =월간수집!$AG4 -> 0 | D30: =월간수집!AG$10 -> 0 | E30: =월간수집!$AG$26 -> 0 | F30: =월간수집!$AG$35 -> 0 | G30: =월간수집!$AG$40 -> 0 | H30: =월간수집!$AG$53 -> 0 | I30: =월간수집!$AG$64 -> 0 | J30: =월간수집!$AG$83 -> 0 | K30: =월간수집!$AG$90 -> 0 | L30: =월간수집!$AG$100 -> 0 | M30: =월간수집!$AG$120 -> 0 | N30: =월간수집!$AG$153 -> 0
A31: 지티엑스에이운영㈜ | B31: =SUM(C31:N31) -> 0 | C31: =월간수집!$AH4 -> 0 | D31: =월간수집!AH$10 -> 0 | E31: =월간수집!$AH$26 -> 0 | F31: =월간수집!$AH$35 -> 0 | G31: =월간수집!$AH$40 -> 0 | H31: =월간수집!$AH$53 -> 0 | I31: =월간수집!$AH$64 -> 0 | J31: =월간수집!$AH$83 -> 0 | K31: =월간수집!$AH$90 -> 0 | L31: =월간수집!$AH$100 -> 0 | M31: =월간수집!$AH$120 -> 0 | N31: =월간수집!$AH$153 -> 0
A32: KIND | B32: =SUM(C32:N32) -> 0 | C32: =월간수집!$AI4 -> 0 | D32: =월간수집!AI10 -> 0 | E32: =월간수집!AI$26 -> 0 | F32: =월간수집!AI35 -> 0 | G32: =월간수집!AI40 -> 0 | H32: =월간수집!AI53 -> 0 | I32: =월간수집!AI64 -> 0 | J32: =월간수집!AI83 -> 0 | K32: =월간수집!AI90 -> 0 | L32: =월간수집!AI100 -> 0 | M32: =월간수집!AI120 -> 0 | N32: =월간수집!AI153 -> 0
A33: 한국교통안전공단 | B33: =SUM(C33:N33) -> 19 | C33: =월간수집!$AJ4 -> 0 | D33: =월간수집!AJ10 -> 0 | E33: =월간수집!AJ26 -> 18 | F33: =월간수집!AJ35 -> 1 | G33: =월간수집!AJ40 -> 0 | H33: =월간수집!AJ53 -> 0 | I33: =월간수집!AJ64 -> 0 | J33: =월간수집!AJ83 -> 0 | K33: =월간수집!AJ90 -> 0 | L33: =월간수집!AJ100 -> 0 | M33: =월간수집!AJ120 -> 0 | N33: =월간수집!AJ153 -> 0
A34: 한국철도학회 | B34: =SUM(C34:N34) -> 2 | C34: =월간수집!$AK4 -> 0 | D34: =월간수집!AK10 -> 2 | E34: =월간수집!AK26 -> 0 | F34: =월간수집!AK35 -> 0 | G34: =월간수집!AK40 -> 0 | H34: =월간수집!AK53 -> 0 | I34: =월간수집!AK64 -> 0 | J34: =월간수집!AK83 -> 0 | K34: =월간수집!AK90 -> 0 | L34: =월간수집!AK100 -> 0 | M34: =월간수집!AK120 -> 0 | N34: =월간수집!AK153 -> 0
A35: 철도산업정보센터 | B35: =SUM(C35:N35) -> 128 | C35: =월간수집!$AL4 -> 13 | D35: =월간수집!AL10 -> 0 | E35: =월간수집!AL26 -> 0 | F35: =월간수집!AL35 -> 0 | G35: =월간수집!AL40 -> 0 | H35: =월간수집!AL53 -> 1 | I35: =월간수집!AL64 -> 0 | J35: =월간수집!AL83 -> 104 | K35: =월간수집!AL90 -> 0 | L35: =월간수집!AL100 -> 2 | M35: =월간수집!AL120 -> 8 | N35: =월간수집!AL153 -> 0
A36: 해외건설협회 | B36: =SUM(C36:N36) -> 43 | C36: =월간수집!$AM4 -> 0 | D36: =월간수집!AM10 -> 0 | E36: =월간수집!AM26 -> 0 | F36: =월간수집!AM35 -> 0 | G36: =월간수집!AM40 -> 2 | H36: =월간수집!AM53 -> 0 | I36: =월간수집!AM64 -> 0 | J36: =월간수집!AM83 -> 41 | K36: =월간수집!AM90 -> 0 | L36: =월간수집!AM100 -> 0 | M36: =월간수집!AM120 -> 0 | N36: =월간수집!AM153 -> 0
A37: 한국철도협회 | B37: =SUM(C37:N37) -> 0 | C37: =월간수집!$AN4 -> 0 | D37: =월간수집!AN10 -> 0 | E37: =월간수집!AN26 -> 0 | F37: =월간수집!AN35 -> 0 | G37: =월간수집!AN40 -> 0 | H37: =월간수집!AN53 -> 0 | I37: =월간수집!AN64 -> 0 | J37: =월간수집!AN83 -> 0 | K37: =월간수집!AN90 -> 0 | L37: =월간수집!AN100 -> 0 | M37: =월간수집!AN120 -> 0 | N37: =월간수집!AN153 -> 0
A38: 중소벤처기업부 | B38: =SUM(C38:N38) -> 5 | C38: =월간수집!$AO4 -> 0 | D38: =월간수집!AO10 -> 0 | E38: =월간수집!AO26 -> 0 | F38: =월간수집!AO35 -> 0 | G38: =월간수집!AO40 -> 0 | H38: =월간수집!AO53 -> 0 | I38: =월간수집!AO64 -> 0 | J38: =월간수집!AO83 -> 0 | K38: =월간수집!AO90 -> 0 | L38: =월간수집!AO100 -> 0 | M38: =월간수집!AO120 -> 0 | N38: =월간수집!AO153 -> 5
A39: 외교부 | B39: =SUM(C39:N39) -> 29 | C39: =월간수집!$AP4 -> 0 | D39: =월간수집!AP10 -> 0 | E39: =월간수집!AP26 -> 0 | F39: =월간수집!AP35 -> 0 | G39: =월간수집!AP40 -> 0 | H39: =월간수집!AP53 -> 0 | I39: =월간수집!AP64 -> 0 | J39: =월간수집!AP83 -> 29 | K39: =월간수집!AP90 -> 0 | L39: =월간수집!AP100 -> 0 | M39: =월간수집!AP120 -> 0 | N39: =월간수집!AP153 -> 0
A40: 철도경제신문 | B40: =SUM(C40:N40) -> 66 | C40: =월간수집!$AQ4 -> 0 | D40: =월간수집!AQ10 -> 64 | E40: =월간수집!AQ26 -> 0 | F40: =월간수집!AQ35 -> 0 | G40: =월간수집!AQ40 -> 0 | H40: =월간수집!AQ53 -> 0 | I40: =월간수집!AQ64 -> 0 | J40: =월간수집!AQ83 -> 2 | K40: =월간수집!AQ90 -> 0 | L40: =월간수집!AQ100 -> 0 | M40: =월간수집!AQ120 -> 0 | N40: =월간수집!AQ153 -> 0
A41: 철도신문 | B41: =SUM(C41:N41) -> 0 | C41: =월간수집!$AR4 -> 0 | D41: =월간수집!AR10 -> 0 | E41: =월간수집!AR26 -> 0 | F41: =월간수집!AR35 -> 0 | G41: =월간수집!AR40 -> 0 | H41: =월간수집!AR53 -> 0 | I41: =월간수집!AR64 -> 0 | J41: =월간수집!AR83 -> 0 | K41: =월간수집!AR90 -> 0 | L41: =월간수집!AR100 -> 0 | M41: =월간수집!AR120 -> 0 | N41: =월간수집!AR153 -> 0
A42: 레일뉴스 | B42: =SUM(C42:N42) -> 0 | C42: =월간수집!$AS4 -> 0 | D42: =월간수집!AS10 -> 0 | E42: =월간수집!AS26 -> 0 | F42: =월간수집!AS35 -> 0 | G42: =월간수집!AS40 -> 0 | H42: =월간수집!AS53 -> 0 | I42: =월간수집!AS64 -> 0 | J42: =월간수집!AS83 -> 0 | K42: =월간수집!AS90 -> 0 | L42: =월간수집!AS100 -> 0 | M42: =월간수집!AS120 -> 0 | N42: =월간수집!AS153 -> 0
A43: 국가법령정보센터 | B43: =SUM(C43:N43) -> 0 | C43: =월간수집!$AT4 -> 0 | D43: =월간수집!AT10 -> 0 | E43: =월간수집!AT26 -> 0 | F43: =월간수집!AT35 -> 0 | G43: =월간수집!AT40 -> 0 | H43: =월간수집!AT53 -> 0 | I43: =월간수집!AT64 -> 0 | J43: =월간수집!AT83 -> 0 | K43: =월간수집!AT90 -> 0 | L43: =월간수집!AT100 -> 0 | M43: =월간수집!AT120 -> 0 | N43: =월간수집!AT153 -> 0
A44: 한국산업인력공단 | B44: =SUM(C44:N44) -> 0 | C44: =월간수집!$AU4 -> 0 | D44: =월간수집!AU10 -> 0 | E44: =월간수집!AU26 -> 0 | F44: =월간수집!AU35 -> 0 | G44: =월간수집!AU40 -> 0 | H44: =월간수집!AU53 -> 0 | I44: =월간수집!AU64 -> 0 | J44: =월간수집!AU83 -> 0 | K44: =월간수집!AU90 -> 0 | L44: =월간수집!AU100 -> 0 | M44: =월간수집!AU120 -> 0 | N44: =월간수집!AU153 -> 0
A45: UIC | B45: =SUM(C45:N45) -> 208 | C45: =월간수집!$AV4 -> 0 | D45: =월간수집!AV10 -> 0 | E45: =월간수집!AV26 -> 0 | F45: =월간수집!AV35 -> 0 | G45: =월간수집!AV40 -> 0 | H45: =월간수집!AV53 -> 0 | I45: =월간수집!AV64 -> 0 | J45: =월간수집!AV83 -> 165 | K45: =월간수집!AV90 -> 0 | L45: =월간수집!AV100 -> 0 | M45: =월간수집!AV120 -> 0 | N45: =월간수집!AV153 -> 43
A46: KOTRA | B46: =SUM(C46:N46) -> 0 | C46: =월간수집!$AW4 -> 0 | D46: =월간수집!AW10 -> 0 | E46: =월간수집!AW26 -> 0 | F46: =월간수집!AW35 -> 0 | G46: =월간수집!AW40 -> 0 | H46: =월간수집!AW53 -> 0 | I46: =월간수집!AW64 -> 0 | J46: =월간수집!AW83 -> 0 | K46: =월간수집!AW90 -> 0 | L46: =월간수집!AW100 -> 0 | M46: =월간수집!AW120 -> 0 | N46: =월간수집!AW153 -> 0
A47: 관세청 | B47: =SUM(C47:N47) -> 118 | C47: =월간수집!$AX4 -> 0 | D47: =월간수집!AX10 -> 0 | E47: =월간수집!AX26 -> 0 | F47: =월간수집!AX35 -> 0 | G47: =월간수집!AX40 -> 0 | H47: =월간수집!AX53 -> 0 | I47: =월간수집!AX64 -> 0 | J47: =월간수집!AX83 -> 118 | K47: =월간수집!AX90 -> 0 | L47: =월간수집!AX100 -> 0 | M47: =월간수집!AX120 -> 0 | N47: =월간수집!AX153 -> 0
A48: 전자관보 | B48: =SUM(C48:N48) -> 12 | C48: =월간수집!$AY4 -> 0 | D48: =월간수집!AY10 -> 0 | E48: =월간수집!AY26 -> 12 | F48: =월간수집!AY35 -> 0 | G48: =월간수집!AY40 -> 0 | H48: =월간수집!AY53 -> 0 | I48: =월간수집!AY64 -> 0 | J48: =월간수집!AY83 -> 0 | K48: =월간수집!AY90 -> 0 | L48: =월간수집!AY100 -> 0 | M48: =월간수집!AY120 -> 0 | N48: =월간수집!AY153 -> 0
A49: 철도박물관 | B49: =SUM(C49:N49) -> 0 | C49: =월간수집!$AZ4 -> 0 | D49: =월간수집!AZ10 -> 0 | E49: =월간수집!AZ26 -> 0 | F49: =월간수집!AZ35 -> 0 | G49: =월간수집!AZ40 -> 0 | H49: =월간수집!AZ53 -> 0 | I49: =월간수집!AZ64 -> 0 | J49: =월간수집!AZ83 -> 0 | K49: =월간수집!AZ90 -> 0 | L49: =월간수집!AZ100 -> 0 | M49: =월간수집!AZ120 -> 0 | N49: =월간수집!AZ153 -> 0
A50: 국토교통과학기술진흥원 | B50: =SUM(C50:N50) -> 0 | C50: =월간수집!$BA4 -> 0 | D50: =월간수집!BA10 -> 0 | E50: =월간수집!BA26 -> 0 | F50: =월간수집!BA35 -> 0 | G50: =월간수집!BA40 -> 0 | H50: =월간수집!BA53 -> 0 | I50: =월간수집!BA64 -> 0 | J50: =월간수집!BA83 -> 0 | K50: =월간수집!BA90 -> 0 | L50: =월간수집!BA100 -> 0 | M50: =월간수집!BA120 -> 0 | N50: =월간수집!BA153 -> 0
A51: 한국관광공사 | B51: =SUM(C51:N51) -> 0 | C51: =월간수집!$BB4 -> 0 | D51: =월간수집!BB$10 -> 0 | E51: =월간수집!BB$26 -> 0 | F51: =월간수집!BB$35 -> 0 | G51: =월간수집!BB40 -> 0 | H51: =월간수집!BB53 -> 0 | I51: =월간수집!BB64 -> 0 | J51: =월간수집!BB83 -> 0 | K51: =월간수집!BB90 -> 0 | L51: =월간수집!BB100 -> 0 | M51: =월간수집!BB120 -> 0 | N51: =월간수집!BB153 -> 0
A52: TED | B52: =SUM(C52:N52) -> 974 | C52: =월간수집!$BC4 -> 0 | D52: =월간수집!BC$10 -> 0 | E52: =월간수집!$BC$26 -> 0 | F52: =월간수집!$BC$35 -> 0 | G52: =월간수집!$BC$40 -> 0 | H52: =월간수집!$BC$53 -> 0 | I52: =월간수집!$BC$64 -> 0 | J52: =월간수집!$BC$83 -> 974 | K52: =월간수집!$BC$90 -> 0 | L52: =월간수집!$BC$100 -> 0 | M52: =월간수집!$BC$120 -> 0 | N52: =월간수집!$BC$153 -> 0
A53: Railway-technology | B53: =SUM(C53:N53) -> 0 | C53: =월간수집!$BD4 -> 0 | D53: =월간수집!BD$10 -> 0 | E53: =월간수집!$BD$26 -> 0 | F53: =월간수집!$BD$35 -> 0 | G53: =월간수집!$BD$40 -> 0 | H53: =월간수집!$BD$53 -> 0 | I53: =월간수집!$BD$64 -> 0 | J53: =월간수집!$BD$83 -> 0 | K53: =월간수집!$BD$90 -> 0 | L53: =월간수집!$BD$100 -> 0 | M53: =월간수집!$BD$120 -> 0 | N53: =월간수집!$BD$153 -> 0
A54: Global Railway Review | B54: =SUM(C54:N54) -> 0 | C54: =월간수집!$BE4 -> 0 | D54: =월간수집!BE$10 -> 0 | E54: =월간수집!$BE$26 -> 0 | F54: =월간수집!$BE$35 -> 0 | G54: =월간수집!$BE$40 -> 0 | H54: =월간수집!$BE$53 -> 0 | I54: =월간수집!$BE$64 -> 0 | J54: =월간수집!$BE$83 -> 0 | K54: =월간수집!$BE$90 -> 0 | L54: =월간수집!$BE$100 -> 0 | M54: =월간수집!$BE$120 -> 0 | N54: =월간수집!$BE$153 -> 0
A55: Mass Transit | B55: =SUM(C55:N55) -> 0 | C55: =월간수집!$BF4 -> 0 | D55: =월간수집!BF$10 -> 0 | E55: =월간수집!$BF$26 -> 0 | F55: =월간수집!$BF$35 -> 0 | G55: =월간수집!$BF$40 -> 0 | H55: =월간수집!$BF$53 -> 0 | I55: =월간수집!$BF$64 -> 0 | J55: =월간수집!$BF$83 -> 0 | K55: =월간수집!$BF$90 -> 0 | L55: =월간수집!$BF$100 -> 0 | M55: =월간수집!$BF$120 -> 0 | N55: =월간수집!$BF$153 -> 0
A56: Railway Gazette | B56: =SUM(C56:N56) -> 0 | C56: =월간수집!$BG4 -> 0 | D56: =월간수집!BG$10 -> 0 | E56: =월간수집!$BG$26 -> 0 | F56: =월간수집!$BG$35 -> 0 | G56: =월간수집!$BG$40 -> 0 | H56: =월간수집!$BG$53 -> 0 | I56: =월간수집!$BG$64 -> 0 | J56: =월간수집!$BG$83 -> 0 | K56: =월간수집!$BG$90 -> 0 | L56: =월간수집!$BG$100 -> 0 | M56: =월간수집!$BG$120 -> 0 | N56: =월간수집!$BG$153 -> 0
A57: InnoTrans | B57: =SUM(C57:N57) -> 0 | C57: =월간수집!$BH4 -> 0 | D57: =월간수집!BH$10 -> 0 | E57: =월간수집!$BH$26 -> 0 | F57: =월간수집!$BH$35 -> 0 | G57: =월간수집!$BH$40 -> 0 | H57: =월간수집!$BH$53 -> 0 | I57: =월간수집!$BH$64 -> 0 | J57: =월간수집!$BH$83 -> 0 | K57: =월간수집!$BH$90 -> 0 | L57: =월간수집!$BH$100 -> 0 | M57: =월간수집!$BH$120 -> 0 | N57: =월간수집!$BH$153 -> 0
A58: 기타 | B58: =SUM(C58:N58) -> 774 | C58: =월간수집!$BI4 -> 0 | D58: =월간수집!BI$10 -> 15 | E58: =월간수집!$BI$26 -> 674 | F58: =월간수집!$BI$35 -> 4 | G58: =월간수집!$BI$40 -> 0 | H58: =월간수집!$BI$53 -> 0 | I58: =월간수집!$BI$64 -> 0 | J58: =월간수집!$BI$83 -> 77 | K58: =월간수집!$BI$90 -> 0 | L58: =월간수집!$BI$100 -> 0 | M58: =월간수집!$BI$120 -> 0 | N58: =월간수집!$BI$153 -> 4

Sheet 전월
A1: 콘텐츠 | E1: 계 | F1: 국토교통부 | G1: 국가철도공단 | H1: 한국철도공사 | I1: 한국철도 기술연구원 | J1: 공항철도 | K1: 서울교통공사(서울메트로) | L1: 대구 교통공사 | M1: 대전 교통공사 | N1: 광주 교통공사 | O1: 부산 교통공사 | P1: 인천 교통공사 | Q1: 서울교통공사(서울도철) | R1: 서울 교통공사 | S1: 서울시 메트로9호선 | T1: 서울9호선 운영 | U1: 의정부 경전철 | V1: 부산김해 경전철 | W1: 용인 경량전철 | X1: ㈜SR | Y1: 네오트랜스 | Z1: 김포 골드라인㈜ | AA1: 남서울 경전철㈜ | AB1: 새서울 철도㈜ | AC1: 신분당선㈜ | AD1: 서해철도㈜ | AE1: 이레일㈜ | AF1: 우이신설 경전철㈜ | AG1: 에스지레일㈜ | AH1: 지티엑스에이운영㈜ | AI1: KIND | AJ1: 한국교통 안전공단 | AK1: 한국철도학회 | AL1: 철도산업 정보센터 | AM1: 해외건설협회 | AN1: 한국철도산업협회 | AO1: 중소벤처 기업부 | AP1: 외교부 | AQ1: 철도경제 신문 | AR1: 철도신문 | AS1: 레일뉴스 | AT1: 국가법령 정보센터 | AU1: 한국산업 인력공단 | AV1: UIC | AW1: KOTRA | AX1: 관세청 | AY1: 전자관보 | AZ1: 철도박물관 | BA1: 국토교통과학 기술진흥원 | BB1: 한국관광공사 | BC1: TED | BD1: Railway- technology | BE1: Global Railway Review | BF1: Mass Transit | BG1: Railway Gazette | BH1: InnoTrans | BI1: 기타
E2: 368670 | F2: 2286 | G2: 37969 | H2: 34738 | I2: 5273 | J2: 1182 | K2: 448 | L2: 2563 | M2: 1719 | N2: 4189 | O2: 4619 | P2: 3010 | Q2: 535 | R2: 3990 | S2: 226 | T2: 5 | U2: 37 | V2: 230 | W2: 59 | X2: 1563 | Y2: 106 | Z2: 172 | AA2: 21 | AB2: 0 | AC2: 6 | AD2: 313 | AE2: 0 | AF2: 85 | AG2: 0 | AH2: 0 | AI2: 97 | AJ2: 2485 | AK2: 14587 | AL2: 24813 | AM2: 6646 | AN2: 749 | AO2: 5451 | AP2: 678 | AQ2: 3336 | AR2: 2374 | AS2: 8978 | AT2: 108 | AU2: 91 | AV2: 6000 | AW2: 1211 | AX2: 19384 | AY2: 1646 | AZ2: 135 | BA2: 77 | BB2: 418 | BC2: 54000 | BD2: 503 | BE2: 75 | BF2: 15 | BG2: 3687 | BH2: 2677 | BI2: 103105
A3: 철도미디어 | B3: 철도미디어 | E3: 53 | AL3: 53
C4: FALSE | D4: 0 | E4: 53 | F4: 0 | G4: 0 | H4: 0 | I4: 0 | J4: 0 | K4: 0 | L4: 0 | M4: 0 | N4: 0 | O4: 0 | P4: 0 | Q4: 0 | R4: 0 | S4: 0 | T4: 0 | U4: 0 | V4: 0 | W4: 0 | X4: 0 | Y4: 0 | Z4: 0 | AA4: 0 | AB4: 0 | AC4: 0 | AD4: 0 | AE4: 0 | AF4: 0 | AG4: 0 | AH4: 0 | AI4: 0 | AJ4: 0 | AK4: 0 | AL4: 53 | AM4: 0 | AN4: 0 | AO4: 0 | AP4: 0 | AQ4: 0 | AR4: 0 | AS4: 0 | AT4: 0 | AU4: 0 | AV4: 0 | AW4: 0 | AX4: 0 | AY4: 0 | AZ4: 0 | BA4: 0 | BB4: 0 | BC4: 0 | BD4: 0 | BE4: 0 | BF4: 0 | BG4: 0 | BH4: 0 | BI4: 0
A5: 철도소식 | B5: 철도뉴스 | E5: 30941 | F5: 1740 | G5: 3901 | H5: 3830 | I5: 658 | J5: 632 | K5: 234 | L5: 1280 | M5: 833 | N5: 1604 | O5: 1400 | P5: 1485 | Q5: 355 | R5: 1020 | S5: 54 | U5: 16 | V5: 114 | W5: 33 | X5: 1161 | Y5: 22 | Z5: 13 | AA5: 5 | AC5: 3 | AD5: 17 | AF5: 10 | AJ5: 17 | AK5: 8 | AL5: 6 | AQ5: 2558 | AR5: 867 | AS5: 7052 | BI5: 13
B6: 철도칼럼 | E6: 1157 | AQ6: 486 | AR6: 516 | AS6: 110 | BI6: 45
B7: 행사일정 | E7: 5131 | F7: 11 | G7: 4 | H7: 1809 | I7: 40 | L7: 2 | O7: 8 | R7: 1 | AK7: 240 | AL7: 1 | AN7: 6 | AQ7: 1 | AV7: 4 | BD7: 2 | BE7: 4 | BG7: 234 | BI7: 2764
B8: 정보센터소식 | E8: 126 | BI8: 126
B9: 철도산업동향 | E9: 11 | AL9: 11
C10: 1 | D10: 37366 | E10: 37366 | F10: 1751 | G10: 3905 | H10: 5639 | I10: 698 | J10: 632 | K10: 234 | L10: 1282 | M10: 833 | N10: 1604 | O10: 1408 | P10: 1485 | Q10: 355 | R10: 1021 | S10: 54 | T10: 0 | U10: 16 | V10: 114 | W10: 33 | X10: 1161 | Y10: 22 | Z10: 13 | AA10: 5 | AB10: 0 | AC10: 3 | AD10: 17 | AE10: 0 | AF10: 10 | AG10: 0 | AH10: 0 | AI10: 0 | AJ10: 17 | AK10: 248 | AL10: 18 | AM10: 0 | AN10: 6 | AO10: 0 | AP10: 0 | AQ10: 3045 | AR10: 1383 | AS10: 7162 | AT10: 0 | AU10: 0 | AV10: 4 | AW10: 0 | AX10: 0 | AY10: 0 | AZ10: 0 | BA10: 0 | BB10: 0 | BC10: 0 | BD10: 2 | BE10: 4 | BF10: 0 | BG10: 234 | BH10: 0 | BI10: 2948
A11: 전문자료 | B11: 기술자료 | E11: 48633 | F11: 30 | G11: 27632 | H11: 13173 | I11: 2021 | J11: 91 | K11: 0 | L11: 46 | M11: 30 | N11: 1719 | O11: 1543 | P11: 2 | Q11: 0 | R11: 32 | S11: 0 | T11: 1 | U11: 0 | V11: 1 | W11: 0 | X11: 3 | AD11: 4 | AJ11: 12 | AK11: 1607 | AL11: 375 | AM11: 0 | AN11: 1 | AO11: 0 | AP11: 0 | AR11: 0 | AS11: 0 | AT11: 0 | AU11: 0 | AV11: 0 | BI11: 310
B12: 논문 | E12: 24123 | BI12: 24123
B13: 한국철도학회 논문 | E13: 12724 | AK13: 12724
B14: 연구보고서 | E14: 686 | G14: 297 | H14: 11 | I14: 364 | N14: 7 | O14: 5 | AL14: 2
B15: 안전/사고정보 | E15: 589 | AJ15: 589
B16: 관보 | E16: 1643 | AY16: 1643
B17: 건설기준 | E17: 1203 | G17: 1203
B18: 규정 | E18: 8771 | G18: 1013 | H18: 843 | I18: 345 | J18: 222 | L18: 888 | M18: 526 | N18: 618 | O18: 1077 | P18: 956 | R18: 1127 | U18: 13 | V18: 8 | X18: 257 | Y18: 2 | Z18: 113 | AA18: 4 | AD18: 242 | AF18: 2 | AJ18: 515
B19: 용어사전 | E19: 10631 | AL19: 10631
B20: 차량도감 | C20: 고속차량 | E20: 7 | H20: 1 | BI20: 6
C21: 기관차 | E21: 25 | BI21: 25
C22: 동차 | E22: 10 | BI22: 10
C23: 전동차 | E23: 47 | O23: 1 | BI23: 46
C24: 경전철 | E24: 10 | L24: 1 | P24: 2 | U24: 1 | V24: 1 | W24: 1 | AA24: 1 | BI24: 3
B25: 국내철도현황 | E25: 104 | H25: 10 | L25: 15 | M25: 9 | N25: 2 | O25: 17 | R25: 42 | AL25: 9
C26: 1 | D26: 109206 | E26: 109206 | F26: 30 | G26: 30145 | H26: 14038 | I26: 2730 | J26: 313 | K26: 0 | L26: 950 | M26: 565 | N26: 2346 | O26: 2643 | P26: 960 | Q26: 0 | R26: 1201 | S26: 0 | T26: 1 | U26: 14 | V26: 10 | W26: 1 | X26: 260 | Y26: 2 | Z26: 113 | AA26: 5 | AB26: 0 | AC26: 0 | AD26: 246 | AE26: 0 | AF26: 2 | AG26: 0 | AH26: 0 | AI26: 0 | AJ26: 1116 | AK26: 14331 | AL26: 11017 | AM26: 0 | AN26: 1 | AO26: 0 | AP26: 0 | AQ26: 0 | AR26: 0 | AS26: 0 | AT26: 0 | AU26: 0 | AV26: 0 | AW26: 0 | AX26: 0 | AY26: 1643 | AZ26: 0 | BA26: 0 | BB26: 0 | BC26: 0 | BD26: 0 | BE26: 0 | BF26: 0 | BG26: 0 | BH26: 0 | BI26: 24523
A27: 취업정보 | B27: 채용공고 | C27: 공공기관 | E27: 5434 | F27: 362 | G27: 130 | H27: 1279 | I27: 91 | J27: 62 | K27: 214 | L27: 144 | M27: 146 | N27: 135 | O27: 151 | P27: 296 | Q27: 179 | R27: 475 | S27: 93 | T27: 3 | U27: 5 | V27: 54 | W27: 24 | X27: 87 | Y27: 81 | Z27: 32 | AA27: 7 | AC27: 3 | AD27: 31 | AF27: 62 | AI27: 5 | AJ27: 1277 | AK27: 1 | AN27: 2 | BI27: 3
C28: 산업체 회원 | E28: 1 | BI28: 1
C29: 민간기업 | E29: 12 | BI29: 12
B30: 인재정보 | C30: 인재검색 | E30: 0 | BI30: 0
C31: 내이력 등록/수정 | E31: 0
B32: 직업정보 | E32: 52 | BI32: 52
B33: 합격수기 | E33: 92 | AL33: 88 | BI33: 4
B34: 철도관련기관 | E34: 18 | BI34: 18
C35: 1 | D35: 5609 | E35: 5609 | F35: 362 | G35: 130 | H35: 1279 | I35: 91 | J35: 62 | K35: 214 | L35: 144 | M35: 146 | N35: 135 | O35: 151 | P35: 296 | Q35: 179 | R35: 475 | S35: 93 | T35: 3 | U35: 5 | V35: 54 | W35: 24 | X35: 87 | Y35: 81 | Z35: 32 | AA35: 7 | AB35: 0 | AC35: 3 | AD35: 31 | AE35: 0 | AF35: 62 | AG35: 0 | AH35: 0 | AI35: 5 | AJ35: 1277 | AK35: 1 | AL35: 88 | AM35: 0 | AN35: 2 | AO35: 0 | AP35: 0 | AQ35: 0 | AR35: 0 | AS35: 0 | AT35: 0 | AU35: 0 | AV35: 0 | AW35: 0 | AX35: 0 | AY35: 0 | AZ35: 0 | BA35: 0 | BB35: 0 | BC35: 0 | BD35: 0 | BE35: 0 | BF35: 0 | BG35: 0 | BH35: 0 | BI35: 90
A36: 인재개발 | B36: 교육과정안내 | E36: 321 | AM36: 161 | AN36: 160
B37: 자격증정보 | E37: 101 | AJ37: 3 | AU37: 91 | BI37: 7
B38: 전자문제집 CBT | E38: 1 | BI38: 1
B39: 철도관련대학 | E39: 57 | BI39: 57
C40: 1 | D40: 480 | E40: 480 | F40: 0 | G40: 0 | H40: 0 | I40: 0 | J40: 0 | K40: 0 | L40: 0 | M40: 0 | N40: 0 | O40: 0 | P40: 0 | Q40: 0 | R40: 0 | S40: 0 | T40: 0 | U40: 0 | V40: 0 | W40: 0 | X40: 0 | Y40: 0 | Z40: 0 | AA40: 0 | AB40: 0 | AC40: 0 | AD40: 0 | AE40: 0 | AF40: 0 | AG40: 0 | AH40: 0 | AI40: 0 | AJ40: 3 | AK40: 0 | AL40: 0 | AM40: 161 | AN40: 160 | AO40: 0 | AP40: 0 | AQ40: 0 | AR40: 0 | AS40: 0 | AT40: 0 | AU40: 91 | AV40: 0 | AW40: 0 | AX40: 0 | AY40: 0 | AZ40: 0 | BA40: 0 | BB40: 0 | BC40: 0 | BD40: 0 | BE40: 0 | BF40: 0 | BG40: 0 | BH40: 0 | BI40: 65
A41: 레일광장 | B41: 철도여행 | E41: 2216 | H41: 180 | J41: 1 | AR41: 147 | AS41: 322 | BB41: 418 | BI41: 1148
B42: 철도사진 | E42: 9632 | G42: 11 | H42: 94 | AR42: 728 | BI42: 8799
B43: 지식QnA | E43: 1497 | BI43: 1497
B44: 철도상식 | E44: 269 | F44: 3 | I44: 83 | AL44: 179 | AR44: 1 | AS44: 3
B45: 철도역정보 | E45: 689 | BI45: 689
E46: 0
E47: 0
E48: 0
B49: 철도인 찾기 | E49: 23 | F49: 1 | G49: 1 | H49: 1 | I49: 1 | J49: 1 | L49: 1 | M49: 1 | N49: 1 | O49: 1 | P49: 1 | R49: 1 | S49: 1 | U49: 1 | V49: 1 | W49: 1 | X49: 1 | Y49: 1 | Z49: 1 | AD49: 1 | AF49: 2 | AJ49: 1 | BI49: 1
B50: 철도생활 서비스 | E50: 19 | BI50: 19
B51: 자료공유실 | E51: 22 | BI51: 22
B52: 철도지식툰 | E52: 18 | AL52: 18
C53: 1 | D53: 14385 | E53: 14385 | F53: 4 | G53: 12 | H53: 275 | I53: 84 | J53: 2 | K53: 0 | L53: 1 | M53: 1 | N53: 1 | O53: 1 | P53: 1 | Q53: 0 | R53: 1 | S53: 1 | T53: 0 | U53: 1 | V53: 1 | W53: 1 | X53: 1 | Y53: 1 | Z53: 1 | AA53: 0 | AB53: 0 | AC53: 0 | AD53: 1 | AE53: 0 | AF53: 2 | AG53: 0 | AH53: 0 | AI53: 0 | AJ53: 1 | AK53: 0 | AL53: 197 | AM53: 0 | AN53: 0 | AO53: 0 | AP53: 0 | AQ53: 0 | AR53: 876 | AS53: 325 | AT53: 0 | AU53: 0 | AV53: 0 | AW53: 0 | AX53: 0 | AY53: 0 | AZ53: 0 | BA53: 0 | BB53: 418 | BC53: 0 | BD53: 0 | BE53: 0 | BF53: 0 | BG53: 0 | BH53: 0 | BI53: 12175
A54: 철도역사관 | B54: 철도통합연표 | E54: 4706 | F54: 23 | G54: 13 | H54: 11 | J54: 1 | L54: 1 | O54: 1 | P54: 2 | Q54: 1 | R54: 2 | S54: 1 | T54: 1 | AD54: 1 | AL54: 1 | AY54: 3 | BI54: 4644
B55: 철도유물유적 | E55: 63 | H55: 1 | AZ55: 60 | BI55: 2
B56: 역사속철도인 | E56: 10 | BI56: 10
B57: 철도사이야기 | E57: 24 | BI57: 24
B58: 역사자료 | E58: 37 | G58: 8 | AZ58: 29
B59: 철도역사블로그 | E59: 221 | BI59: 221
B60: 철도영상관 | C60: 철도영상 | D60: 공개영상 | E60: 96 | BI60: 96
D61: 철도 유튜브 | E61: 51 | BI61: 51
C62: 철도역사관 | D62: 철도박물관 | E62: 50 | G62: 4 | AZ62: 46
D63: 철도영상관 | E63: 9 | G63: 9
C64: 1 | D64: 5267 | E64: 5267 | F64: 23 | G64: 34 | H64: 12 | I64: 0 | J64: 1 | K64: 0 | L64: 1 | M64: 0 | N64: 0 | O64: 1 | P64: 2 | Q64: 1 | R64: 2 | S64: 1 | T64: 1 | U64: 0 | V64: 0 | W64: 0 | X64: 0 | Y64: 0 | Z64: 0 | AA64: 0 | AB64: 0 | AC64: 0 | AD64: 1 | AE64: 0 | AF64: 0 | AG64: 0 | AH64: 0 | AI64: 0 | AJ64: 0 | AK64: 0 | AL64: 1 | AM64: 0 | AN64: 0 | AO64: 0 | AP64: 0 | AQ64: 0 | AR64: 0 | AS64: 0 | AT64: 0 | AU64: 0 | AV64: 0 | AW64: 0 | AX64: 0 | AY64: 3 | AZ64: 135 | BA64: 0 | BB64: 0 | BC64: 0 | BD64: 0 | BE64: 0 | BF64: 0 | BG64: 0 | BH64: 0 | BI64: 5048
A65: 해외철도정보 | B65: 국가별철도 | C65: 기본정보 | E65: 115 | AV65: 115
C66: 법제도 | E66: 1417 | AM66: 1417
B67: 사업정보 | C67: 사업동향 | E67: 0
C68: 입찰공고 | E68: 60796 | AL68: 712 | AM68: 102 | AN68: 3 | AO68: 5058 | AP68: 113 | AW68: 3 | BC68: 54000 | BG68: 3 | BI68: 802
C69: 연구보고서 | E69: 25 | I69: 25
C70: 사업정보 | D70: 해외사업정보 | E70: 407 | BD70: 407
D71: 철도공단 수주현황 | E71: 0
B72: 자료실 | C72: 기술자료 | E72: 1665 | G72: 864 | H72: 123 | I72: 74 | J72: 24 | M72: 9 | N72: 5 | O72: 28 | AI72: 55 | AK72: 7 | AL72: 92 | AN72: 12 | BD72: 94 | BE72: 71 | BF72: 15 | BI72: 192
C73: 해외철도잡지 | E73: 90 | BI73: 90
B74: 기관/산업체 | C74: 기관 | E74: 3450 | BG74: 3450
C75: 산업체 | E75: 2683 | BH75: 2677 | BI75: 6
B76: 소식/여행 | C76: 철도뉴스 | E76: 13747 | F76: 1 | G76: 1 | H76: 1 | AI76: 37 | AL76: 1405 | AM76: 4226 | AN76: 563 | AP76: 565 | AQ76: 291 | AR76: 115 | AS76: 1490 | AW76: 1208 | BI76: 3844
C77: 철도여행 | E77: 1845 | AS77: 1 | BI77: 1844
B78: 통계 | C78: UIC통계 | E78: 4818 | AV78: 4818
C79: 수출입실적 | E79: 19384 | AX79: 19384
C80: 수주실적 | E80: 703 | AM80: 703
C81: 통계자료 | E81: 34 | AV81: 34
C82: 수주실적추이 | E82: 0
C83: 1 | D83: 111179 | E83: 111179 | F83: 1 | G83: 865 | H83: 124 | I83: 99 | J83: 24 | K83: 0 | L83: 0 | M83: 9 | N83: 5 | O83: 28 | P83: 0 | Q83: 0 | R83: 0 | S83: 0 | T83: 0 | U83: 0 | V83: 0 | W83: 0 | X83: 0 | Y83: 0 | Z83: 0 | AA83: 0 | AB83: 0 | AC83: 0 | AD83: 0 | AE83: 0 | AF83: 0 | AG83: 0 | AH83: 0 | AI83: 92 | AJ83: 0 | AK83: 7 | AL83: 2209 | AM83: 6448 | AN83: 578 | AO83: 5058 | AP83: 678 | AQ83: 291 | AR83: 115 | AS83: 1491 | AT83: 0 | AU83: 0 | AV83: 4967 | AW83: 1211 | AX83: 19384 | AY83: 0 | AZ83: 0 | BA83: 0 | BB83: 0 | BC83: 54000 | BD83: 501 | BE83: 71 | BF83: 15 | BG83: 3453 | BH83: 2677 | BI83: 6778
A84: 철도통계 | B84: 철도운영현황 | E84: 38580 | BI84: 38580
B85: 철도 통계연보 | E85: 1 | AL85: 1
B86: 통계시각화 | C86: 인포그래픽 | E86: 0
C87: 얼마나 많은 사람들이 기차를 탈까? | E87: 0
B88: 통계 자료실 | C88: 철도통계연보 | E88: 83 | F88: 1 | G88: 34 | H88: 48
C89: 철도사고통계현황 | E89: 137 | F89: 65 | G89: 1 | AJ89: 71
C90: 1 | D90: 38801 | E90: 38801 | F90: 66 | G90: 35 | H90: 48 | I90: 0 | J90: 0 | K90: 0 | L90: 0 | M90: 0 | N90: 0 | O90: 0 | P90: 0 | Q90: 0 | R90: 0 | S90: 0 | T90: 0 | U90: 0 | V90: 0 | W90: 0 | X90: 0 | Y90: 0 | Z90: 0 | AA90: 0 | AB90: 0 | AC90: 0 | AD90: 0 | AE90: 0 | AF90: 0 | AG90: 0 | AH90: 0 | AI90: 0 | AJ90: 71 | AK90: 0 | AL90: 1 | AM90: 0 | AN90: 0 | AO90: 0 | AP90: 0 | AQ90: 0 | AR90: 0 | AS90: 0 | AT90: 0 | AU90: 0 | AV90: 0 | AW90: 0 | AX90: 0 | AY90: 0 | AZ90: 0 | BA90: 0 | BB90: 0 | BC90: 0 | BD90: 0 | BE90: 0 | BF90: 0 | BG90: 0 | BH90: 0 | BI90: 38580
A91: 고객센터 | B91: 센터소개 | E91: 1 | AL91: 1
B92: 자주묻는 질문 | E92: 38 | AL92: 38
B93: 고객의 소리 | E93: 469 | AL93: 468 | BI93: 1
B94: KRIC이용정책 | C94: 이용약관 | E94: 1 | AL94: 1
C95: 개인정보처리방침 | E95: 1 | AL95: 1
B96: 공지사항 | E96: 492 | G96: 4 | AL96: 488
B97: 설문조사 | E97: 20 | AL97: 20
B98: 헬프데스크 | E98: 1 | AL98: 1
B99: 사이트맵 | E99: 1 | AL99: 1
C100: 1 | D100: 1024 | E100: 1024 | F100: 0 | G100: 4 | H100: 0 | I100: 0 | J100: 0 | K100: 0 | L100: 0 | M100: 0 | N100: 0 | O100: 0 | P100: 0 | Q100: 0 | R100: 0 | S100: 0 | T100: 0 | U100: 0 | V100: 0 | W100: 0 | X100: 0 | Y100: 0 | Z100: 0 | AA100: 0 | AB100: 0 | AC100: 0 | AD100: 0 | AE100: 0 | AF100: 0 | AG100: 0 | AH100: 0 | AI100: 0 | AJ100: 0 | AK100: 0 | AL100: 1019 | AM100: 0 | AN100: 0 | AO100: 0 | AP100: 0 | AQ100: 0 | AR100: 0 | AS100: 0 | AT100: 0 | AU100: 0 | AV100: 0 | AW100: 0 | AX100: 0 | AY100: 0 | AZ100: 0 | BA100: 0 | BB100: 0 | BC100: 0 | BD100: 0 | BE100: 0 | BF100: 0 | BG100: 0 | BH100: 0 | BI100: 1
...

Sheet 금월
A1: 콘텐츠 | E1: 계 | F1: 국토교통부 | G1: 국가철도공단 | H1: 한국철도공사 | I1: 한국철도 기술연구원 | J1: 공항철도 | K1: 서울교통공사(서울메트로) | L1: 대구 교통공사 | M1: 대전 교통공사 | N1: 광주 교통공사 | O1: 부산 교통공사 | P1: 인천 교통공사 | Q1: 서울교통공사(서울도철) | R1: 서울 교통공사 | S1: 서울시 메트로9호선 | T1: 서울9호선 운영 | U1: 의정부 경전철 | V1: 부산김해 경전철 | W1: 용인 경량전철 | X1: ㈜SR | Y1: 네오트랜스 | Z1: 김포 골드라인㈜ | AA1: 남서울 경전철㈜ | AB1: 새서울 철도㈜ | AC1: 신분당선㈜ | AD1: 서해철도㈜ | AE1: 이레일㈜ | AF1: 우이신설 경전철㈜ | AG1: 에스지레일㈜ | AH1: 지티엑스에이운영㈜ | AI1: KIND | AJ1: 한국교통 안전공단 | AK1: 한국철도학회 | AL1: 철도산업 정보센터 | AM1: 해외건설협회 | AN1: 한국철도산업협회 | AO1: 중소벤처 기업부 | AP1: 외교부 | AQ1: 철도경제 신문 | AR1: 철도신문 | AS1: 레일뉴스 | AT1: 국가법령 정보센터 | AU1: 한국산업 인력공단 | AV1: UIC | AW1: KOTRA | AX1: 관세청 | AY1: 전자관보 | AZ1: 철도박물관 | BA1: 국토교통과학 기술진흥원 | BB1: 한국관광공사 | BC1: TED | BD1: Railway- technology | BE1: Global Railway Review | BF1: Mass Transit | BG1: Railway Gazette | BH1: InnoTrans | BI1: 기타
E2: 371856 | F2: 2298 | G2: 38040 | H2: 35077 | I2: 5295 | J2: 1213 | K2: 448 | L2: 2610 | M2: 1757 | N2: 4215 | O2: 4658 | P2: 3061 | Q2: 535 | R2: 4055 | S2: 211 | T2: 5 | U2: 37 | V2: 240 | W2: 59 | X2: 1577 | Y2: 108 | Z2: 179 | AA2: 26 | AB2: 0 | AC2: 6 | AD2: 354 | AE2: 0 | AF2: 88 | AG2: 0 | AH2: 0 | AI2: 97 | AJ2: 2504 | AK2: 14589 | AL2: 24941 | AM2: 6689 | AN2: 749 | AO2: 5456 | AP2: 707 | AQ2: 3402 | AR2: 2374 | AS2: 8978 | AT2: 108 | AU2: 91 | AV2: 6208 | AW2: 1211 | AX2: 19502 | AY2: 1658 | AZ2: 135 | BA2: 77 | BB2: 418 | BC2: 54974 | BD2: 503 | BE2: 75 | BF2: 15 | BG2: 3687 | BH2: 2677 | BI2: 103879
A3: 철도미디어 | B3: 철도미디어 | E3: 66 | AL3: 66
C4: FALSE | D4: 0 | E4: 66 | F4: 0 | G4: 0 | H4: 0 | I4: 0 | J4: 0 | K4: 0 | L4: 0 | M4: 0 | N4: 0 | O4: 0 | P4: 0 | Q4: 0 | R4: 0 | S4: 0 | T4: 0 | U4: 0 | V4: 0 | W4: 0 | X4: 0 | Y4: 0 | Z4: 0 | AA4: 0 | AB4: 0 | AC4: 0 | AD4: 0 | AE4: 0 | AF4: 0 | AG4: 0 | AH4: 0 | AI4: 0 | AJ4: 0 | AK4: 0 | AL4: 66 | AM4: 0 | AN4: 0 | AO4: 0 | AP4: 0 | AQ4: 0 | AR4: 0 | AS4: 0 | AT4: 0 | AU4: 0 | AV4: 0 | AW4: 0 | AX4: 0 | AY4: 0 | AZ4: 0 | BA4: 0 | BB4: 0 | BC4: 0 | BD4: 0 | BE4: 0 | BF4: 0 | BG4: 0 | BH4: 0 | BI4: 0
A5: 철도소식 | B5: 철도뉴스 | E5: 31119 | F5: 1751 | G5: 3913 | H5: 3856 | I5: 665 | J5: 632 | K5: 234 | L5: 1289 | M5: 842 | N5: 1621 | O5: 1408 | P5: 1502 | Q5: 355 | R5: 1036 | S5: 55 | U5: 16 | V5: 115 | W5: 33 | X5: 1164 | Y5: 22 | Z5: 13 | AA5: 5 | AC5: 3 | AD5: 17 | AF5: 10 | AJ5: 17 | AK5: 8 | AL5: 6 | AQ5: 2599 | AR5: 867 | AS5: 7052 | BI5: 13
B6: 철도칼럼 | E6: 1180 | AQ6: 509 | AR6: 516 | AS6: 110 | BI6: 45
B7: 행사일정 | E7: 5141 | F7: 11 | G7: 4 | H7: 1809 | I7: 40 | L7: 2 | O7: 8 | R7: 1 | AK7: 242 | AL7: 1 | AN7: 6 | AQ7: 1 | AV7: 4 | BD7: 2 | BE7: 4 | BG7: 234 | BI7: 2772
B8: 정보센터소식 | E8: 133 | BI8: 133
B9: 철도산업동향 | E9: 11 | AL9: 11
C10: 1 | D10: 37584 | E10: 37584 | F10: 1762 | G10: 3917 | H10: 5665 | I10: 705 | J10: 632 | K10: 234 | L10: 1291 | M10: 842 | N10: 1621 | O10: 1416 | P10: 1502 | Q10: 355 | R10: 1037 | S10: 55 | T10: 0 | U10: 16 | V10: 115 | W10: 33 | X10: 1164 | Y10: 22 | Z10: 13 | AA10: 5 | AB10: 0 | AC10: 3 | AD10: 17 | AE10: 0 | AF10: 10 | AG10: 0 | AH10: 0 | AI10: 0 | AJ10: 17 | AK10: 250 | AL10: 18 | AM10: 0 | AN10: 6 | AO10: 0 | AP10: 0 | AQ10: 3109 | AR10: 1383 | AS10: 7162 | AT10: 0 | AU10: 0 | AV10: 4 | AW10: 0 | AX10: 0 | AY10: 0 | AZ10: 0 | BA10: 0 | BB10: 0 | BC10: 0 | BD10: 2 | BE10: 4 | BF10: 0 | BG10: 234 | BH10: 0 | BI10: 2963
A11: 전문자료 | B11: 기술자료 | E11: 48856 | F11: 30 | G11: 27650 | H11: 13203 | I11: 2021 | J11: 95 | K11: 0 | L11: 78 | M11: 43 | N11: 1732 | O11: 1564 | P11: 14 | Q11: 0 | R11: 54 | S11: 0 | T11: 1 | U11: 0 | V11: 1 | W11: 0 | X11: 8 | AD11: 43 | AJ11: 26 | AK11: 1607 | AL11: 375 | AM11: 0 | AN11: 1 | AO11: 0 | AP11: 0 | AR11: 0 | AS11: 0 | AT11: 0 | AU11: 0 | AV11: 0 | BI11: 310
B12: 논문 | E12: 24797 | BI12: 24797
B13: 한국철도학회 논문 | E13: 12724 | AK13: 12724
B14: 연구보고서 | E14: 687 | G14: 298 | H14: 11 | I14: 364 | N14: 7 | O14: 5 | AL14: 2
B15: 안전/사고정보 | E15: 589 | AJ15: 589
B16: 관보 | E16: 1655 | AY16: 1655
B17: 건설기준 | E17: 1212 | G17: 1212
B18: 규정 | E18: 8824 | G18: 1013 | H18: 853 | I18: 345 | J18: 228 | L18: 891 | M18: 534 | N18: 618 | O18: 1078 | P18: 970 | R18: 1132 | U18: 13 | V18: 8 | X18: 259 | Y18: 2 | Z18: 113 | AA18: 4 | AD18: 242 | AF18: 2 | AJ18: 519
B19: 용어사전 | E19: 10631 | AL19: 10631
B20: 차량도감 | C20: 고속차량 | E20: 7 | H20: 1 | BI20: 6
C21: 기관차 | E21: 25 | BI21: 25
C22: 동차 | E22: 10 | BI22: 10
C23: 전동차 | E23: 47 | O23: 1 | BI23: 46
C24: 경전철 | E24: 10 | L24: 1 | P24: 2 | U24: 1 | V24: 1 | W24: 1 | AA24: 1 | BI24: 3
B25: 국내철도현황 | E25: 105 | H25: 10 | L25: 15 | M25: 9 | N25: 2 | O25: 17 | R25: 43 | AL25: 9
C26: 1 | D26: 110179 | E26: 110179 | F26: 30 | G26: 30173 | H26: 14078 | I26: 2730 | J26: 323 | K26: 0 | L26: 985 | M26: 586 | N26: 2359 | O26: 2665 | P26: 986 | Q26: 0 | R26: 1229 | S26: 0 | T26: 1 | U26: 14 | V26: 10 | W26: 1 | X26: 267 | Y26: 2 | Z26: 113 | AA26: 5 | AB26: 0 | AC26: 0 | AD26: 285 | AE26: 0 | AF26: 2 | AG26: 0 | AH26: 0 | AI26: 0 | AJ26: 1134 | AK26: 14331 | AL26: 11017 | AM26: 0 | AN26: 1 | AO26: 0 | AP26: 0 | AQ26: 0 | AR26: 0 | AS26: 0 | AT26: 0 | AU26: 0 | AV26: 0 | AW26: 0 | AX26: 0 | AY26: 1655 | AZ26: 0 | BA26: 0 | BB26: 0 | BC26: 0 | BD26: 0 | BE26: 0 | BF26: 0 | BG26: 0 | BH26: 0 | BI26: 25197
A27: 취업정보 | B27: 채용공고 | C27: 공공기관 | E27: 5469 | F27: 365 | G27: 130 | H27: 1283 | I27: 91 | J27: 62 | K27: 214 | L27: 147 | M27: 148 | N27: 135 | O27: 153 | P27: 298 | Q27: 179 | R27: 482 | S27: 94 | T27: 3 | U27: 5 | V27: 54 | W27: 24 | X27: 87 | Y27: 83 | Z27: 33 | AA27: 11 | AC27: 3 | AD27: 31 | AF27: 65 | AI27: 5 | AJ27: 1278 | AK27: 1 | AN27: 2 | BI27: 3
C28: 산업체 회원 | E28: 1 | BI28: 1
C29: 민간기업 | E29: 16 | BI29: 16
B30: 인재정보 | C30: 인재검색 | E30: 0 | BI30: 0
C31: 내이력 등록/수정 | E31: 0
B32: 직업정보 | E32: 52 | BI32: 52
B33: 합격수기 | E33: 92 | AL33: 88 | BI33: 4
B34: 철도관련기관 | E34: 18 | BI34: 18
C35: 1 | D35: 5648 | E35: 5648 | F35: 365 | G35: 130 | H35: 1283 | I35: 91 | J35: 62 | K35: 214 | L35: 147 | M35: 148 | N35: 135 | O35: 153 | P35: 298 | Q35: 179 | R35: 482 | S35: 94 | T35: 3 | U35: 5 | V35: 54 | W35: 24 | X35: 87 | Y35: 83 | Z35: 33 | AA35: 11 | AB35: 0 | AC35: 3 | AD35: 31 | AE35: 0 | AF35: 65 | AG35: 0 | AH35: 0 | AI35: 5 | AJ35: 1278 | AK35: 1 | AL35: 88 | AM35: 0 | AN35: 2 | AO35: 0 | AP35: 0 | AQ35: 0 | AR35: 0 | AS35: 0 | AT35: 0 | AU35: 0 | AV35: 0 | AW35: 0 | AX35: 0 | AY35: 0 | AZ35: 0 | BA35: 0 | BB35: 0 | BC35: 0 | BD35: 0 | BE35: 0 | BF35: 0 | BG35: 0 | BH35: 0 | BI35: 94
A36: 인재개발 | B36: 교육과정안내 | E36: 323 | AM36: 163 | AN36: 160
B37: 자격증정보 | E37: 101 | AJ37: 3 | AU37: 91 | BI37: 7
B38: 전자문제집 CBT | E38: 1 | BI38: 1
B39: 철도관련대학 | E39: 57 | BI39: 57
C40: 1 | D40: 482 | E40: 482 | F40: 0 | G40: 0 | H40: 0 | I40: 0 | J40: 0 | K40: 0 | L40: 0 | M40: 0 | N40: 0 | O40: 0 | P40: 0 | Q40: 0 | R40: 0 | S40: 0 | T40: 0 | U40: 0 | V40: 0 | W40: 0 | X40: 0 | Y40: 0 | Z40: 0 | AA40: 0 | AB40: 0 | AC40: 0 | AD40: 0 | AE40: 0 | AF40: 0 | AG40: 0 | AH40: 0 | AI40: 0 | AJ40: 3 | AK40: 0 | AL40: 0 | AM40: 163 | AN40: 160 | AO40: 0 | AP40: 0 | AQ40: 0 | AR40: 0 | AS40: 0 | AT40: 0 | AU40: 91 | AV40: 0 | AW40: 0 | AX40: 0 | AY40: 0 | AZ40: 0 | BA40: 0 | BB40: 0 | BC40: 0 | BD40: 0 | BE40: 0 | BF40: 0 | BG40: 0 | BH40: 0 | BI40: 65
A41: 레일광장 | B41: 철도여행 | E41: 2221 | H41: 185 | J41: 1 | AR41: 147 | AS41: 322 | BB41: 418 | BI41: 1148
B42: 철도사진 | E42: 9632 | G42: 11 | H42: 94 | AR42: 728 | BI42: 8799
B43: 지식QnA | E43: 1497 | BI43: 1497
B44: 철도상식 | E44: 269 | F44: 3 | I44: 83 | AL44: 179 | AR44: 1 | AS44: 3
B45: 철도역정보 | E45: 689 | BI45: 689
E46: 0
E47: 0
E48: 0
B49: 철도인 찾기 | E49: 23 | F49: 1 | G49: 1 | H49: 1 | I49: 1 | J49: 1 | L49: 1 | M49: 1 | N49: 1 | O49: 1 | P49: 1 | R49: 1 | S49: 1 | U49: 1 | V49: 1 | W49: 1 | X49: 1 | Y49: 1 | Z49: 1 | AD49: 1 | AF49: 2 | AJ49: 1 | BI49: 1
B50: 철도생활 서비스 | E50: 19 | BI50: 19
B51: 자료공유실 | E51: 22 | BI51: 22
B52: 철도지식툰 | E52: 19 | AL52: 19
C53: 1 | D53: 14391 | E53: 14391 | F53: 4 | G53: 12 | H53: 280 | I53: 84 | J53: 2 | K53: 0 | L53: 1 | M53: 1 | N53: 1 | O53: 1 | P53: 1 | Q53: 0 | R53: 1 | S53: 1 | T53: 0 | U53: 1 | V53: 1 | W53: 1 | X53: 1 | Y53: 1 | Z53: 1 | AA53: 0 | AB53: 0 | AC53: 0 | AD53: 1 | AE53: 0 | AF53: 2 | AG53: 0 | AH53: 0 | AI53: 0 | AJ53: 1 | AK53: 0 | AL53: 198 | AM53: 0 | AN53: 0 | AO53: 0 | AP53: 0 | AQ53: 0 | AR53: 876 | AS53: 325 | AT53: 0 | AU53: 0 | AV53: 0 | AW53: 0 | AX53: 0 | AY53: 0 | AZ53: 0 | BA53: 0 | BB53: 418 | BC53: 0 | BD53: 0 | BE53: 0 | BF53: 0 | BG53: 0 | BH53: 0 | BI53: 12175
A54: 철도역사관 | B54: 철도통합연표 | E54: 4706 | F54: 23 | G54: 13 | H54: 11 | J54: 1 | L54: 1 | O54: 1 | P54: 2 | Q54: 1 | R54: 2 | S54: 1 | T54: 1 | AD54: 1 | AL54: 1 | AY54: 3 | BI54: 4644
B55: 철도유물유적 | E55: 63 | H55: 1 | AZ55: 60 | BI55: 2
B56: 역사속철도인 | E56: 10 | BI56: 10
B57: 철도사이야기 | E57: 24 | BI57: 24
B58: 역사자료 | E58: 37 | G58: 8 | AZ58: 29
B59: 철도역사블로그 | E59: 221 | BI59: 221
B60: 철도영상관 | C60: 철도영상 | D60: 공개영상 | E60: 96 | BI60: 96
D61: 철도 유튜브 | E61: 51 | BI61: 51
C62: 철도역사관 | D62: 철도박물관 | E62: 50 | G62: 4 | AZ62: 46
D63: 철도영상관 | E63: 9 | G63: 9
C64: 1 | D64: 5267 | E64: 5267 | F64: 23 | G64: 34 | H64: 12 | I64: 0 | J64: 1 | K64: 0 | L64: 1 | M64: 0 | N64: 0 | O64: 1 | P64: 2 | Q64: 1 | R64: 2 | S64: 1 | T64: 1 | U64: 0 | V64: 0 | W64: 0 | X64: 0 | Y64: 0 | Z64: 0 | AA64: 0 | AB64: 0 | AC64: 0 | AD64: 1 | AE64: 0 | AF64: 0 | AG64: 0 | AH64: 0 | AI64: 0 | AJ64: 0 | AK64: 0 | AL64: 1 | AM64: 0 | AN64: 0 | AO64: 0 | AP64: 0 | AQ64: 0 | AR64: 0 | AS64: 0 | AT64: 0 | AU64: 0 | AV64: 0 | AW64: 0 | AX64: 0 | AY64: 3 | AZ64: 135 | BA64: 0 | BB64: 0 | BC64: 0 | BD64: 0 | BE64: 0 | BF64: 0 | BG64: 0 | BH64: 0 | BI64: 5048
A65: 해외철도정보 | B65: 국가별철도 | C65: 기본정보 | E65: 115 | AV65: 115
C66: 법제도 | E66: 1417 | AM66: 1417
B67: 사업정보 | C67: 사업동향 | E67: 0
C68: 입찰공고 | E68: 61820 | AL68: 712 | AM68: 102 | AN68: 3 | AO68: 5058 | AP68: 113 | AW68: 3 | BC68: 54974 | BG68: 3 | BI68: 852
C69: 연구보고서 | E69: 25 | I69: 25
C70: 사업정보 | D70: 해외사업정보 | E70: 407 | BD70: 407
D71: 철도공단 수주현황 | E71: 0
B72: 자료실 | C72: 기술자료 | E72: 1683 | G72: 864 | H72: 123 | I72: 74 | J72: 24 | M72: 9 | N72: 5 | O72: 28 | AI72: 55 | AK72: 7 | AL72: 92 | AN72: 12 | BD72: 94 | BE72: 71 | BF72: 15 | BI72: 210
C73: 해외철도잡지 | E73: 90 | BI73: 90
B74: 기관/산업체 | C74: 기관 | E74: 3450 | BG74: 3450
C75: 산업체 | E75: 2683 | BH75: 2677 | BI75: 6
B76: 소식/여행 | C76: 철도뉴스 | E76: 13916 | F76: 1 | G76: 1 | H76: 2 | AI76: 37 | AL76: 1509 | AM76: 4259 | AN76: 563 | AP76: 594 | AQ76: 293 | AR76: 115 | AS76: 1490 | AW76: 1208 | BI76: 3844
C77: 철도여행 | E77: 1854 | AS77: 1 | BI77: 1853
B78: 통계 | C78: UIC통계 | E78: 4982 | AV78: 4982
C79: 수출입실적 | E79: 19502 | AX79: 19502
C80: 수주실적 | E80: 711 | AM80: 711
C81: 통계자료 | E81: 35 | AV81: 35
C82: 수주실적추이 | E82: 0
C83: 1 | D83: 112690 | E83: 112690 | F83: 1 | G83: 865 | H83: 125 | I83: 99 | J83: 24 | K83: 0 | L83: 0 | M83: 9 | N83: 5 | O83: 28 | P83: 0 | Q83: 0 | R83: 0 | S83: 0 | T83: 0 | U83: 0 | V83: 0 | W83: 0 | X83: 0 | Y83: 0 | Z83: 0 | AA83: 0 | AB83: 0 | AC83: 0 | AD83: 0 | AE83: 0 | AF83: 0 | AG83: 0 | AH83: 0 | AI83: 92 | AJ83: 0 | AK83: 7 | AL83: 2313 | AM83: 6489 | AN83: 578 | AO83: 5058 | AP83: 707 | AQ83: 293 | AR83: 115 | AS83: 1491 | AT83: 0 | AU83: 0 | AV83: 5132 | AW83: 1211 | AX83: 19502 | AY83: 0 | AZ83: 0 | BA83: 0 | BB83: 0 | BC83: 54974 | BD83: 501 | BE83: 71 | BF83: 15 | BG83: 3453 | BH83: 2677 | BI83: 6855
A84: 철도통계 | B84: 철도운영현황 | E84: 38580 | BI84: 38580
B85: 철도 통계연보 | E85: 1 | AL85: 1
B86: 통계시각화 | C86: 인포그래픽 | E86: 0
C87: 얼마나 많은 사람들이 기차를 탈까? | E87: 0
B88: 통계 자료실 | C88: 철도통계연보 | E88: 83 | F88: 1 | G88: 34 | H88: 48
C89: 철도사고통계현황 | E89: 137 | F89: 65 | G89: 1 | AJ89: 71
C90: 1 | D90: 38801 | E90: 38801 | F90: 66 | G90: 35 | H90: 48 | I90: 0 | J90: 0 | K90: 0 | L90: 0 | M90: 0 | N90: 0 | O90: 0 | P90: 0 | Q90: 0 | R90: 0 | S90: 0 | T90: 0 | U90: 0 | V90: 0 | W90: 0 | X90: 0 | Y90: 0 | Z90: 0 | AA90: 0 | AB90: 0 | AC90: 0 | AD90: 0 | AE90: 0 | AF90: 0 | AG90: 0 | AH90: 0 | AI90: 0 | AJ90: 71 | AK90: 0 | AL90: 1 | AM90: 0 | AN90: 0 | AO90: 0 | AP90: 0 | AQ90: 0 | AR90: 0 | AS90: 0 | AT90: 0 | AU90: 0 | AV90: 0 | AW90: 0 | AX90: 0 | AY90: 0 | AZ90: 0 | BA90: 0 | BB90: 0 | BC90: 0 | BD90: 0 | BE90: 0 | BF90: 0 | BG90: 0 | BH90: 0 | BI90: 38580
A91: 고객센터 | B91: 센터소개 | E91: 1 | AL91: 1
B92: 자주묻는 질문 | E92: 37 | AL92: 37
B93: 고객의 소리 | E93: 472 | AL93: 471 | BI93: 1
B94: KRIC이용정책 | C94: 이용약관 | E94: 1 | AL94: 1
C95: 개인정보처리방침 | E95: 1 | AL95: 1
B96: 공지사항 | E96: 492 | G96: 4 | AL96: 488
B97: 설문조사 | E97: 20 | AL97: 20
B98: 헬프데스크 | E98: 1 | AL98: 1
B99: 사이트맵 | E99: 1 | AL99: 1
C100: 1 | D100: 1026 | E100: 1026 | F100: 0 | G100: 4 | H100: 0 | I100: 0 | J100: 0 | K100: 0 | L100: 0 | M100: 0 | N100: 0 | O100: 0 | P100: 0 | Q100: 0 | R100: 0 | S100: 0 | T100: 0 | U100: 0 | V100: 0 | W100: 0 | X100: 0 | Y100: 0 | Z100: 0 | AA100: 0 | AB100: 0 | AC100: 0 | AD100: 0 | AE100: 0 | AF100: 0 | AG100: 0 | AH100: 0 | AI100: 0 | AJ100: 0 | AK100: 0 | AL100: 1021 | AM100: 0 | AN100: 0 | AO100: 0 | AP100: 0 | AQ100: 0 | AR100: 0 | AS100: 0 | AT100: 0 | AU100: 0 | AV100: 0 | AW100: 0 | AX100: 0 | AY100: 0 | AZ100: 0 | BA100: 0 | BB100: 0 | BC100: 0 | BD100: 0 | BE100: 0 | BF100: 0 | BG100: 0 | BH100: 0 | BI100: 1
...

Sheet 월간수집
A1: 콘텐츠 | E1: 계 | F1: 국토교통부 | G1: 국가철도공단 | H1: 한국철도공사 | I1: 한국철도 기술연구원 | J1: 공항철도 | K1: 서울메트로 | L1: 대구 교통공사 | M1: 대전 교통공사 | N1: 광주도시 철도공사 | O1: 부산 교통공사 | P1: 인천 교통공사 | Q1: 서울도시 철도공사 | R1: 서울 교통공사 | S1: 서울시 메트로9호선 | T1: 서울9호선 운영 | U1: 의정부 경전철 | V1: 부산김해 경전철 | W1: 용인 경량전철 | X1: ㈜SR | Y1: 네오트랜스 | Z1: 김포 골드라인㈜ | AA1: 남서울 경전철㈜ | AB1: 새서울 철도㈜ | AC1: 신분당선㈜ | AD1: 서해철도㈜ | AE1: 이레일㈜ | AF1: 우이신설 경전철㈜ | AG1: 에스지레일㈜ | AH1: 지티엑스에이운영㈜ | AI1: KIND | AJ1: 한국교통 안전공단 | AK1: 한국철도학회 | AL1: 철도산업 정보센터 | AM1: 해외건설협회 | AN1: 한국철도협회 | AO1: 중소벤처 기업부 | AP1: 외교부 | AQ1: 철도경제 신문 | AR1: 철도신문 | AS1: 레일뉴스 | AT1: 국가법령 정보센터 | AU1: 한국산업 인력공단 | AV1: UIC | AW1: KOTRA | AX1: 관세청 | AY1: 전자관보 | AZ1: 철도박물관 | BA1: 국토교통과학 기술진흥원 | BB1: 한국관광공사 | BC1: TED | BD1: Railway- technology | BE1: Global Railway Review | BF1: Mass Transit | BG1: Railway Gazette | BH1: InnoTrans | BI1: 기타
E2: =SUM(E4,E10,E26,E35,E40,E53,E64,E83,E90,E100,E120,E153) -> 3186 | F2: =SUM(F4,F10,F26,F35,F40,F53,F64,F83,F90,F100,F120,F153) -> 12 | G2: =SUM(G4,G10,G26,G35,G40,G53,G64,G83,G90,G100,G120,G153) -> 71 | H2: =SUM(H4,H10,H26,H35,H40,H53,H64,H83,H90,H100,H120,H153) -> 339 | I2: =SUM(I4,I10,I26,I35,I40,I53,I64,I83,I90,I100,I120,I153) -> 22 | J2: =SUM(J4,J10,J26,J35,J40,J53,J64,J83,J90,J100,J120,J153) -> 31 | K2: =SUM(K4,K10,K26,K35,K40,K53,K64,K83,K90,K100,K120,K153) -> 0 | L2: =SUM(L4,L10,L26,L35,L40,L53,L64,L83,L90,L100,L120,L153) -> 47 | ... BI2: =SUM(BI4,BI10,BI26,BI35,BI40,BI53,BI64,BI83,BI90,BI100,BI120,BI153) -> 774
A3: 철도미디어 | B3: 철도미디어 | E3: =SUM(F3:BI3) -> 13 | F3: =금월!F3-전월!F3 -> 0 | G3: =금월!G3-전월!G3 -> 0 | H3: =금월!H3-전월!H3 -> 0 | I3: =금월!I3-전월!I3 -> 0 | J3: =금월!J3-전월!J3 -> 0 | K3: =금월!K3-전월!K3 -> 0 | L3: =금월!L3-전월!L3 -> 0 | M3: =금월!M3-전월!M3 -> 0 | ... BI3: =금월!BI3-전월!BI3 -> 0
E4: =SUM(F4:BI4) -> 13 | F4: =SUM(F3) -> 0 | G4: =SUM(G3) -> 0 | H4: =SUM(H3) -> 0 | I4: =SUM(I3) -> 0 | J4: =SUM(J3) -> 0 | K4: =SUM(K3) -> 0 | L4: =SUM(L3) -> 0 | M4: =SUM(M3) -> 0 | ... BI4: =SUM(BI3) -> 0
A5: 철도소식 | B5: 철도뉴스 | E5: =SUM(F5:BI5) -> 178 | F5: =금월!F5-전월!F5 -> 11 | G5: =금월!G5-전월!G5 -> 12 | H5: =금월!H5-전월!H5 -> 26 | I5: =금월!I5-전월!I5 -> 7 | J5: =금월!J5-전월!J5 -> 0 | K5: =금월!K5-전월!K5 -> 0 | L5: =금월!L5-전월!L5 -> 9 | M5: =금월!M5-전월!M5 -> 9 | ... BI5: =금월!BI5-전월!BI5 -> 0
B6: 철도칼럼 | E6: =SUM(F6:BI6) -> 23 | F6: =금월!F6-전월!F6 -> 0 | G6: =금월!G6-전월!G6 -> 0 | H6: =금월!H6-전월!H6 -> 0 | I6: =금월!I6-전월!I6 -> 0 | J6: =금월!J6-전월!J6 -> 0 | K6: =금월!K6-전월!K6 -> 0 | L6: =금월!L6-전월!L6 -> 0 | M6: =금월!M6-전월!M6 -> 0 | ... BI6: =금월!BI6-전월!BI6 -> 0
B7: 행사일정 | E7: =SUM(F7:BI7) -> 10 | F7: =금월!F7-전월!F7 -> 0 | G7: =금월!G7-전월!G7 -> 0 | H7: =금월!H7-전월!H7 -> 0 | I7: =금월!I7-전월!I7 -> 0 | J7: =금월!J7-전월!J7 -> 0 | K7: =금월!K7-전월!K7 -> 0 | L7: =금월!L7-전월!L7 -> 0 | M7: =금월!M7-전월!M7 -> 0 | ... BI7: =금월!BI7-전월!BI7 -> 8
B8: 정보센터소식 | E8: =SUM(F8:BI8) -> 7 | F8: =금월!F8-전월!F8 -> 0 | G8: =금월!G8-전월!G8 -> 0 | H8: =금월!H8-전월!H8 -> 0 | I8: =금월!I8-전월!I8 -> 0 | J8: =금월!J8-전월!J8 -> 0 | K8: =금월!K8-전월!K8 -> 0 | L8: =금월!L8-전월!L8 -> 0 | M8: =금월!M8-전월!M8 -> 0 | ... BI8: =금월!BI8-전월!BI8 -> 7
B9: 철도산업동향 | E9: =SUM(F9:BI9) -> 0 | F9: =금월!F9-전월!F9 -> 0 | G9: =금월!G9-전월!G9 -> 0 | H9: =금월!H9-전월!H9 -> 0 | I9: =금월!I9-전월!I9 -> 0 | J9: =금월!J9-전월!J9 -> 0 | K9: =금월!K9-전월!K9 -> 0 | L9: =금월!L9-전월!L9 -> 0 | M9: =금월!M9-전월!M9 -> 0 | ... BI9: =금월!BI9-전월!BI9 -> 0
C10: =IF(E10=D10,1) -> 1 | D10: =SUM(E5:E8) -> 218 | E10: =SUM(F10:BI10) -> 218 | F10: =SUM(F5:F9) -> 11 | G10: =SUM(G5:G9) -> 12 | H10: =SUM(H5:H9) -> 26 | I10: =SUM(I5:I9) -> 7 | J10: =SUM(J5:J9) -> 0 | K10: =SUM(K5:K9) -> 0 | L10: =SUM(L5:L9) -> 9 | M10: =SUM(M5:M9) -> 9 | ... BI10: =SUM(BI5:BI9) -> 15
A11: 전문자료 | B11: 기술자료 | E11: =SUM(F11:BI11) -> 223 | F11: =금월!F11-전월!F11 -> 0 | G11: =금월!G11-전월!G11 -> 18 | H11: =금월!H11-전월!H11 -> 30 | I11: =금월!I11-전월!I11 -> 0 | J11: =금월!J11-전월!J11 -> 4 | K11: =금월!K11-전월!K11 -> 0 | L11: =금월!L11-전월!L11 -> 32 | M11: =금월!M11-전월!M11 -> 13 | ... BI11: =금월!BI11-전월!BI11 -> 0
B12: 논문 | E12: =SUM(F12:BI12) -> 674 | F12: =금월!F12-전월!F12 -> 0 | G12: =금월!G12-전월!G12 -> 0 | H12: =금월!H12-전월!H12 -> 0 | I12: =금월!I12-전월!I12 -> 0 | J12: =금월!J12-전월!J12 -> 0 | K12: =금월!K12-전월!K12 -> 0 | L12: =금월!L12-전월!L12 -> 0 | M12: =금월!M12-전월!M12 -> 0 | ... BI12: =금월!BI12-전월!BI12 -> 674
B13: 한국철도학회 논문 | E13: =SUM(F13:BI13) -> 0 | F13: =금월!F13-전월!F13 -> 0 | G13: =금월!G13-전월!G13 -> 0 | H13: =금월!H13-전월!H13 -> 0 | I13: =금월!I13-전월!I13 -> 0 | J13: =금월!J13-전월!J13 -> 0 | K13: =금월!K13-전월!K13 -> 0 | L13: =금월!L13-전월!L13 -> 0 | M13: =금월!M13-전월!M13 -> 0 | ... BI13: =금월!BI13-전월!BI13 -> 0
B14: 연구보고서 | E14: =SUM(F14:BI14) -> 1 | F14: =금월!F14-전월!F14 -> 0 | G14: =금월!G14-전월!G14 -> 1 | H14: =금월!H14-전월!H14 -> 0 | I14: =금월!I14-전월!I14 -> 0 | J14: =금월!J14-전월!J14 -> 0 | K14: =금월!K14-전월!K14 -> 0 | L14: =금월!L14-전월!L14 -> 0 | M14: =금월!M14-전월!M14 -> 0 | ... BI14: =금월!BI14-전월!BI14 -> 0
B15: 안전/사고정보 | E15: =SUM(F15:BI15) -> 0 | F15: =금월!F15-전월!F15 -> 0 | G15: =금월!G15-전월!G15 -> 0 | H15: =금월!H15-전월!H15 -> 0 | I15: =금월!I15-전월!I15 -> 0 | J15: =금월!J15-전월!J15 -> 0 | K15: =금월!K15-전월!K15 -> 0 | L15: =금월!L15-전월!L15 -> 0 | M15: =금월!M15-전월!M15 -> 0 | ... BI15: =금월!BI15-전월!BI15 -> 0
B16: 관보 | E16: =SUM(F16:BI16) -> 12 | F16: =금월!F16-전월!F16 -> 0 | G16: =금월!G16-전월!G16 -> 0 | H16: =금월!H16-전월!H16 -> 0 | I16: =금월!I16-전월!I16 -> 0 | J16: =금월!J16-전월!J16 -> 0 | K16: =금월!K16-전월!K16 -> 0 | L16: =금월!L16-전월!L16 -> 0 | M16: =금월!M16-전월!M16 -> 0 | ... BI16: =금월!BI16-전월!BI16 -> 0
B17: 건설기준 | E17: =SUM(F17:BI17) -> 9 | F17: =금월!F17-전월!F17 -> 0 | G17: =금월!G17-전월!G17 -> 9 | H17: =금월!H17-전월!H17 -> 0 | I17: =금월!I17-전월!I17 -> 0 | J17: =금월!J17-전월!J17 -> 0 | K17: =금월!K17-전월!K17 -> 0 | L17: =금월!L17-전월!L17 -> 0 | M17: =금월!M17-전월!M17 -> 0 | ... BI17: =금월!BI17-전월!BI17 -> 0
B18: 규정 | E18: =SUM(F18:BI18) -> 53 | F18: =금월!F18-전월!F18 -> 0 | G18: =금월!G18-전월!G18 -> 0 | H18: =금월!H18-전월!H18 -> 10 | I18: =금월!I18-전월!I18 -> 0 | J18: =금월!J18-전월!J18 -> 6 | K18: =금월!K18-전월!K18 -> 0 | L18: =금월!L18-전월!L18 -> 3 | M18: =금월!M18-전월!M18 -> 8 | ... BI18: =금월!BI18-전월!BI18 -> 0
B19: 용어사전 | E19: =SUM(F19:BI19) -> 0 | F19: =금월!F19-전월!F19 -> 0 | G19: =금월!G19-전월!G19 -> 0 | H19: =금월!H19-전월!H19 -> 0 | I19: =금월!I19-전월!I19 -> 0 | J19: =금월!J19-전월!J19 -> 0 | K19: =금월!K19-전월!K19 -> 0 | L19: =금월!L19-전월!L19 -> 0 | M19: =금월!M19-전월!M19 -> 0 | ... BI19: =금월!BI19-전월!BI19 -> 0
B20: 차량도감 | C20: 고속차량 | E20: =SUM(F20:BI20) -> 0 | F20: =금월!F20-전월!F20 -> 0 | G20: =금월!G20-전월!G20 -> 0 | H20: =금월!H20-전월!H20 -> 0 | I20: =금월!I20-전월!I20 -> 0 | J20: =금월!J20-전월!J20 -> 0 | K20: =금월!K20-전월!K20 -> 0 | L20: =금월!L20-전월!L20 -> 0 | M20: =금월!M20-전월!M20 -> 0 | ... BI20: =금월!BI20-전월!BI20 -> 0
C21: 기관차 | E21: =SUM(F21:BI21) -> 0 | F21: =금월!F21-전월!F21 -> 0 | G21: =금월!G21-전월!G21 -> 0 | H21: =금월!H21-전월!H21 -> 0 | I21: =금월!I21-전월!I21 -> 0 | J21: =금월!J21-전월!J21 -> 0 | K21: =금월!K21-전월!K21 -> 0 | L21: =금월!L21-전월!L21 -> 0 | M21: =금월!M21-전월!M21 -> 0 | ... BI21: =금월!BI21-전월!BI21 -> 0
C22: 동차 | E22: =SUM(F22:BI22) -> 0 | F22: =금월!F22-전월!F22 -> 0 | G22: =금월!G22-전월!G22 -> 0 | H22: =금월!H22-전월!H22 -> 0 | I22: =금월!I22-전월!I22 -> 0 | J22: =금월!J22-전월!J22 -> 0 | K22: =금월!K22-전월!K22 -> 0 | L22: =금월!L22-전월!L22 -> 0 | M22: =금월!M22-전월!M22 -> 0 | ... BI22: =금월!BI22-전월!BI22 -> 0
C23: 전동차 | E23: =SUM(F23:BI23) -> 0 | F23: =금월!F23-전월!F23 -> 0 | G23: =금월!G23-전월!G23 -> 0 | H23: =금월!H23-전월!H23 -> 0 | I23: =금월!I23-전월!I23 -> 0 | J23: =금월!J23-전월!J23 -> 0 | K23: =금월!K23-전월!K23 -> 0 | L23: =금월!L23-전월!L23 -> 0 | M23: =금월!M23-전월!M23 -> 0 | ... BI23: =금월!BI23-전월!BI23 -> 0
C24: 경전철 | E24: =SUM(F24:BI24) -> 0 | F24: =금월!F24-전월!F24 -> 0 | G24: =금월!G24-전월!G24 -> 0 | H24: =금월!H24-전월!H24 -> 0 | I24: =금월!I24-전월!I24 -> 0 | J24: =금월!J24-전월!J24 -> 0 | K24: =금월!K24-전월!K24 -> 0 | L24: =금월!L24-전월!L24 -> 0 | M24: =금월!M24-전월!M24 -> 0 | ... BI24: =금월!BI24-전월!BI24 -> 0
B25: 국내철도현황 | E25: =SUM(F25:BI25) -> 1 | F25: =금월!F25-전월!F25 -> 0 | G25: =금월!G25-전월!G25 -> 0 | H25: =금월!H25-전월!H25 -> 0 | I25: =금월!I25-전월!I25 -> 0 | J25: =금월!J25-전월!J25 -> 0 | K25: =금월!K25-전월!K25 -> 0 | L25: =금월!L25-전월!L25 -> 0 | M25: =금월!M25-전월!M25 -> 0 | ... BI25: =금월!BI25-전월!BI25 -> 0
C26: =IF(E26=D26,1) -> 1 | D26: =SUM(E11:E25) -> 973 | E26: =SUM(F26:BI26) -> 973 | F26: =SUM(F11:F25) -> 0 | G26: =SUM(G11:G25) -> 28 | H26: =SUM(H11:H25) -> 40 | I26: =SUM(I11:I25) -> 0 | J26: =SUM(J11:J25) -> 10 | K26: =SUM(K11:K25) -> 0 | L26: =SUM(L11:L25) -> 35 | M26: =SUM(M11:M25) -> 21 | ... BI26: =SUM(BI11:BI25) -> 674
A27: 취업정보 | B27: 채용공고 | C27: 공공기관 | E27: =SUM(F27:BI27) -> 35 | F27: =금월!F27-전월!F27 -> 3 | G27: =금월!G27-전월!G27 -> 0 | H27: =금월!H27-전월!H27 -> 4 | I27: =금월!I27-전월!I27 -> 0 | J27: =금월!J27-전월!J27 -> 0 | K27: =금월!K27-전월!K27 -> 0 | L27: =금월!L27-전월!L27 -> 3 | M27: =금월!M27-전월!M27 -> 2 | ... BI27: =금월!BI27-전월!BI27 -> 0
C28: 산업체 회원 | E28: =SUM(F28:BI28) -> 0 | F28: =금월!F28-전월!F28 -> 0 | G28: =금월!G28-전월!G28 -> 0 | H28: =금월!H28-전월!H28 -> 0 | I28: =금월!I28-전월!I28 -> 0 | J28: =금월!J28-전월!J28 -> 0 | K28: =금월!K28-전월!K28 -> 0 | L28: =금월!L28-전월!L28 -> 0 | M28: =금월!M28-전월!M28 -> 0 | ... BI28: =금월!BI28-전월!BI28 -> 0
C29: 민간기업 | E29: =SUM(F29:BI29) -> 4 | F29: =금월!F29-전월!F29 -> 0 | G29: =금월!G29-전월!G29 -> 0 | H29: =금월!H29-전월!H29 -> 0 | I29: =금월!I29-전월!I29 -> 0 | J29: =금월!J29-전월!J29 -> 0 | K29: =금월!K29-전월!K29 -> 0 | L29: =금월!L29-전월!L29 -> 0 | M29: =금월!M29-전월!M29 -> 0 | ... BI29: =금월!BI29-전월!BI29 -> 4
B30: 인재정보 | C30: 인재검색 | E30: =SUM(F30:BI30) -> 0 | F30: =금월!F30-전월!F30 -> 0 | G30: =금월!G30-전월!G30 -> 0 | H30: =금월!H30-전월!H30 -> 0 | I30: =금월!I30-전월!I30 -> 0 | J30: =금월!J30-전월!J30 -> 0 | K30: =금월!K30-전월!K30 -> 0 | L30: =금월!L30-전월!L30 -> 0 | M30: =금월!M30-전월!M30 -> 0 | ... BI30: =금월!BI30-전월!BI30 -> 0
C31: 내이력 등록/수정 | E31: =SUM(F31:BI31) -> 0 | F31: =금월!F31-전월!F31 -> 0 | G31: =금월!G31-전월!G31 -> 0 | H31: =금월!H31-전월!H31 -> 0 | I31: =금월!I31-전월!I31 -> 0 | J31: =금월!J31-전월!J31 -> 0 | K31: =금월!K31-전월!K31 -> 0 | L31: =금월!L31-전월!L31 -> 0 | M31: =금월!M31-전월!M31 -> 0 | ... BI31: =금월!BI31-전월!BI31 -> 0
B32: 직업정보 | E32: =SUM(F32:BI32) -> 0 | F32: =금월!F32-전월!F32 -> 0 | G32: =금월!G32-전월!G32 -> 0 | H32: =금월!H32-전월!H32 -> 0 | I32: =금월!I32-전월!I32 -> 0 | J32: =금월!J32-전월!J32 -> 0 | K32: =금월!K32-전월!K32 -> 0 | L32: =금월!L32-전월!L32 -> 0 | M32: =금월!M32-전월!M32 -> 0 | ... BI32: =금월!BI32-전월!BI32 -> 0
B33: 합격수기 | E33: =SUM(F33:BI33) -> 0 | F33: =금월!F33-전월!F33 -> 0 | G33: =금월!G33-전월!G33 -> 0 | H33: =금월!H33-전월!H33 -> 0 | I33: =금월!I33-전월!I33 -> 0 | J33: =금월!J33-전월!J33 -> 0 | K33: =금월!K33-전월!K33 -> 0 | L33: =금월!L33-전월!L33 -> 0 | M33: =금월!M33-전월!M33 -> 0 | ... BI33: =금월!BI33-전월!BI33 -> 0
B34: 철도관련기관 | E34: =SUM(F34:BI34) -> 0 | F34: =금월!F34-전월!F34 -> 0 | G34: =금월!G34-전월!G34 -> 0 | H34: =금월!H34-전월!H34 -> 0 | I34: =금월!I34-전월!I34 -> 0 | J34: =금월!J34-전월!J34 -> 0 | K34: =금월!K34-전월!K34 -> 0 | L34: =금월!L34-전월!L34 -> 0 | M34: =금월!M34-전월!M34 -> 0 | ... BI34: =금월!BI34-전월!BI34 -> 0
C35: =IF(E35=D35,1) -> 1 | D35: =SUM(E27:E34) -> 39 | E35: =SUM(F35:BI35) -> 39 | F35: =SUM(F27:F34) -> 3 | G35: =SUM(G27:G34) -> 0 | H35: =SUM(H27:H34) -> 4 | I35: =SUM(I27:I34) -> 0 | J35: =SUM(J27:J34) -> 0 | K35: =SUM(K27:K34) -> 0 | L35: =SUM(L27:L34) -> 3 | M35: =SUM(M27:M34) -> 2 | ... BI35: =SUM(BI27:BI34) -> 4
A36: 인재개벌 | B36: 교육과정안내 | E36: =SUM(F36:BI36) -> 2 | F36: =금월!F36-전월!F36 -> 0 | G36: =금월!G36-전월!G36 -> 0 | H36: =금월!H36-전월!H36 -> 0 | I36: =금월!I36-전월!I36 -> 0 | J36: =금월!J36-전월!J36 -> 0 | K36: =금월!K36-전월!K36 -> 0 | L36: =금월!L36-전월!L36 -> 0 | M36: =금월!M36-전월!M36 -> 0 | ... BI36: =금월!BI36-전월!BI36 -> 0
B37: 자격증정보 | E37: =SUM(F37:BI37) -> 0 | F37: =금월!F37-전월!F37 -> 0 | G37: =금월!G37-전월!G37 -> 0 | H37: =금월!H37-전월!H37 -> 0 | I37: =금월!I37-전월!I37 -> 0 | J37: =금월!J37-전월!J37 -> 0 | K37: =금월!K37-전월!K37 -> 0 | L37: =금월!L37-전월!L37 -> 0 | M37: =금월!M37-전월!M37 -> 0 | ... BI37: =금월!BI37-전월!BI37 -> 0
B38: 동영상강의 | E38: =SUM(F38:BI38) -> 0 | F38: =금월!F38-전월!F38 -> 0 | G38: =금월!G38-전월!G38 -> 0 | H38: =금월!H38-전월!H38 -> 0 | I38: =금월!I38-전월!I38 -> 0 | J38: =금월!J38-전월!J38 -> 0 | K38: =금월!K38-전월!K38 -> 0 | L38: =금월!L38-전월!L38 -> 0 | M38: =금월!M38-전월!M38 -> 0 | ... BI38: =금월!BI38-전월!BI38 -> 0
B39: 철도관련대학 | E39: =SUM(F39:BI39) -> 0 | F39: =금월!F39-전월!F39 -> 0 | G39: =금월!G39-전월!G39 -> 0 | H39: =금월!H39-전월!H39 -> 0 | I39: =금월!I39-전월!I39 -> 0 | J39: =금월!J39-전월!J39 -> 0 | K39: =금월!K39-전월!K39 -> 0 | L39: =금월!L39-전월!L39 -> 0 | M39: =금월!M39-전월!M39 -> 0 | ... BI39: =금월!BI39-전월!BI39 -> 0
C40: =IF(E40=D40,1) -> FALSE | D40: =SUM(E37:E39) -> 0 | E40: =SUM(F40:BI40) -> 2 | F40: =SUM(F36:F39) -> 0 | G40: =SUM(G36:G39) -> 0 | H40: =SUM(H36:H39) -> 0 | I40: =SUM(I36:I39) -> 0 | J40: =SUM(J36:J39) -> 0 | K40: =SUM(K36:K39) -> 0 | L40: =SUM(L36:L39) -> 0 | M40: =SUM(M36:M39) -> 0 | ... BI40: =SUM(BI36:BI39) -> 0
A41: 레일광장 | B41: 철도여행 | E41: =SUM(F41:BI41) -> 5 | F41: =금월!F41-전월!F41 -> 0 | G41: =금월!G41-전월!G41 -> 0 | H41: =금월!H41-전월!H41 -> 5 | I41: =금월!I41-전월!I41 -> 0 | J41: =금월!J41-전월!J41 -> 0 | K41: =금월!K41-전월!K41 -> 0 | L41: =금월!L41-전월!L41 -> 0 | M41: =금월!M41-전월!M41 -> 0 | ... BI41: =금월!BI41-전월!BI41 -> 0
B42: 철도사진 | E42: =SUM(F42:BI42) -> 0 | F42: =금월!F42-전월!F42 -> 0 | G42: =금월!G42-전월!G42 -> 0 | H42: =금월!H42-전월!H42 -> 0 | I42: =금월!I42-전월!I42 -> 0 | J42: =금월!J42-전월!J42 -> 0 | K42: =금월!K42-전월!K42 -> 0 | L42: =금월!L42-전월!L42 -> 0 | M42: =금월!M42-전월!M42 -> 0 | ... BI42: =금월!BI42-전월!BI42 -> 0
B43: 지식QnA | E43: =SUM(F43:BI43) -> 0 | F43: =금월!F43-전월!F43 -> 0 | G43: =금월!G43-전월!G43 -> 0 | H43: =금월!H43-전월!H43 -> 0 | I43: =금월!I43-전월!I43 -> 0 | J43: =금월!J43-전월!J43 -> 0 | K43: =금월!K43-전월!K43 -> 0 | L43: =금월!L43-전월!L43 -> 0 | M43: =금월!M43-전월!M43 -> 0 | ... BI43: =금월!BI43-전월!BI43 -> 0
B44: 철도상식 | E44: =SUM(F44:BI44) -> 0 | F44: =금월!F44-전월!F44 -> 0 | G44: =금월!G44-전월!G44 -> 0 | H44: =금월!H44-전월!H44 -> 0 | I44: =금월!I44-전월!I44 -> 0 | J44: =금월!J44-전월!J44 -> 0 | K44: =금월!K44-전월!K44 -> 0 | L44: =금월!L44-전월!L44 -> 0 | M44: =금월!M44-전월!M44 -> 0 | ... BI44: =금월!BI44-전월!BI44 -> 0
B45: 철도역정보 | C45: 역 기본정보 | E45: =SUM(F45:BI45) -> 0 | F45: =금월!F45-전월!F45 -> 0 | G45: =금월!G45-전월!G45 -> 0 | H45: =금월!H45-전월!H45 -> 0 | I45: =금월!I45-전월!I45 -> 0 | J45: =금월!J45-전월!J45 -> 0 | K45: =금월!K45-전월!K45 -> 0 | L45: =금월!L45-전월!L45 -> 0 | M45: =금월!M45-전월!M45 -> 0 | ... BI45: =금월!BI45-전월!BI45 -> 0
C46: 연혁 | E46: =SUM(F46:BI46) -> 0 | F46: =금월!F46-전월!F46 -> 0 | G46: =금월!G46-전월!G46 -> 0 | H46: =금월!H46-전월!H46 -> 0 | I46: =금월!I46-전월!I46 -> 0 | J46: =금월!J46-전월!J46 -> 0 | K46: =금월!K46-전월!K46 -> 0 | L46: =금월!L46-전월!L46 -> 0 | M46: =금월!M46-전월!M46 -> 0 | ... BI46: =금월!BI46-전월!BI46 -> 0
C47: 역주변 및 교통정보 | E47: =SUM(F47:BI47) -> 0 | F47: =금월!F47-전월!F47 -> 0 | G47: =금월!G47-전월!G47 -> 0 | H47: =금월!H47-전월!H47 -> 0 | I47: =금월!I47-전월!I47 -> 0 | J47: =금월!J47-전월!J47 -> 0 | K47: =금월!K47-전월!K47 -> 0 | L47: =금월!L47-전월!L47 -> 0 | M47: =금월!M47-전월!M47 -> 0 | ... BI47: =금월!BI47-전월!BI47 -> 0
C48: 주변관광지 | E48: =SUM(F48:BI48) -> 0 | F48: =금월!F48-전월!F48 -> 0 | G48: =금월!G48-전월!G48 -> 0 | H48: =금월!H48-전월!H48 -> 0 | I48: =금월!I48-전월!I48 -> 0 | J48: =금월!J48-전월!J48 -> 0 | K48: =금월!K48-전월!K48 -> 0 | L48: =금월!L48-전월!L48 -> 0 | M48: =금월!M48-전월!M48 -> 0 | ... BI48: =금월!BI48-전월!BI48 -> 0
B49: 철도인 찾기 | E49: =SUM(F49:BI49) -> 0 | F49: =금월!F49-전월!F49 -> 0 | G49: =금월!G49-전월!G49 -> 0 | H49: =금월!H49-전월!H49 -> 0 | I49: =금월!I49-전월!I49 -> 0 | J49: =금월!J49-전월!J49 -> 0 | K49: =금월!K49-전월!K49 -> 0 | L49: =금월!L49-전월!L49 -> 0 | M49: =금월!M49-전월!M49 -> 0 | ... BI49: =금월!BI49-전월!BI49 -> 0
B50: 철도생활 서비스 | E50: =SUM(F50:BI50) -> 0 | F50: =금월!F50-전월!F50 -> 0 | G50: =금월!G50-전월!G50 -> 0 | H50: =금월!H50-전월!H50 -> 0 | I50: =금월!I50-전월!I50 -> 0 | J50: =금월!J50-전월!J50 -> 0 | K50: =금월!K50-전월!K50 -> 0 | L50: =금월!L50-전월!L50 -> 0 | M50: =금월!M50-전월!M50 -> 0 | ... BI50: =금월!BI50-전월!BI50 -> 0
B51: 자료공유실 | E51: =SUM(F51:BI51) -> 0 | F51: =금월!F51-전월!F51 -> 0 | G51: =금월!G51-전월!G51 -> 0 | H51: =금월!H51-전월!H51 -> 0 | I51: =금월!I51-전월!I51 -> 0 | J51: =금월!J51-전월!J51 -> 0 | K51: =금월!K51-전월!K51 -> 0 | L51: =금월!L51-전월!L51 -> 0 | M51: =금월!M51-전월!M51 -> 0 | ... BI51: =금월!BI51-전월!BI51 -> 0
B52: 철도지식툰 | E52: =SUM(F52:BI52) -> 1 | F52: =금월!F52-전월!F52 -> 0 | G52: =금월!G52-전월!G52 -> 0 | H52: =금월!H52-전월!H52 -> 0 | I52: =금월!I52-전월!I52 -> 0 | J52: =금월!J52-전월!J52 -> 0 | K52: =금월!K52-전월!K52 -> 0 | L52: =금월!L52-전월!L52 -> 0 | M52: =금월!M52-전월!M52 -> 0 | ... BI52: =금월!BI52-전월!BI52 -> 0
C53: =IF(E53=D53,1) -> FALSE | D53: =SUM(E41:E51) -> 5 | E53: =SUM(F53:BI53) -> 6 | F53: =SUM(F41:F52) -> 0 | G53: =SUM(G41:G52) -> 0 | H53: =SUM(H41:H52) -> 5 | I53: =SUM(I41:I52) -> 0 | J53: =SUM(J41:J52) -> 0 | K53: =SUM(K41:K52) -> 0 | L53: =SUM(L41:L52) -> 0 | M53: =SUM(M41:M52) -> 0 | ... BI53: =SUM(BI41:BI52) -> 0
A54: 철도역사관 | B54: 철도통합연표 | E54: =SUM(F54:BI54) -> 0 | F54: =금월!F54-전월!F54 -> 0 | G54: =금월!G54-전월!G54 -> 0 | H54: =금월!H54-전월!H54 -> 0 | I54: =금월!I54-전월!I54 -> 0 | J54: =금월!J54-전월!J54 -> 0 | K54: =금월!K54-전월!K54 -> 0 | L54: =금월!L54-전월!L54 -> 0 | M54: =금월!M54-전월!M54 -> 0 | ... BI54: =금월!BI54-전월!BI54 -> 0
B55: 철도유물유적 | E55: =SUM(F55:BI55) -> 0 | F55: =금월!F55-전월!F55 -> 0 | G55: =금월!G55-전월!G55 -> 0 | H55: =금월!H55-전월!H55 -> 0 | I55: =금월!I55-전월!I55 -> 0 | J55: =금월!J55-전월!J55 -> 0 | K55: =금월!K55-전월!K55 -> 0 | L55: =금월!L55-전월!L55 -> 0 | M55: =금월!M55-전월!M55 -> 0 | ... BI55: =금월!BI55-전월!BI55 -> 0
B56: 역사속철도인 | E56: =SUM(F56:BI56) -> 0 | F56: =금월!F56-전월!F56 -> 0 | G56: =금월!G56-전월!G56 -> 0 | H56: =금월!H56-전월!H56 -> 0 | I56: =금월!I56-전월!I56 -> 0 | J56: =금월!J56-전월!J56 -> 0 | K56: =금월!K56-전월!K56 -> 0 | L56: =금월!L56-전월!L56 -> 0 | M56: =금월!M56-전월!M56 -> 0 | ... BI56: =금월!BI56-전월!BI56 -> 0
B57: 철도사이야기 | E57: =SUM(F57:BI57) -> 0 | F57: =금월!F57-전월!F57 -> 0 | G57: =금월!G57-전월!G57 -> 0 | H57: =금월!H57-전월!H57 -> 0 | I57: =금월!I57-전월!I57 -> 0 | J57: =금월!J57-전월!J57 -> 0 | K57: =금월!K57-전월!K57 -> 0 | L57: =금월!L57-전월!L57 -> 0 | M57: =금월!M57-전월!M57 -> 0 | ... BI57: =금월!BI57-전월!BI57 -> 0
B58: 역사자료 | E58: =SUM(F58:BI58) -> 0 | F58: =금월!F58-전월!F58 -> 0 | G58: =금월!G58-전월!G58 -> 0 | H58: =금월!H58-전월!H58 -> 0 | I58: =금월!I58-전월!I58 -> 0 | J58: =금월!J58-전월!J58 -> 0 | K58: =금월!K58-전월!K58 -> 0 | L58: =금월!L58-전월!L58 -> 0 | M58: =금월!M58-전월!M58 -> 0 | ... BI58: =금월!BI58-전월!BI58 -> 0
B59: 철도역사블로그 | E59: =SUM(F59:BI59) -> 0 | F59: =금월!F59-전월!F59 -> 0 | G59: =금월!G59-전월!G59 -> 0 | H59: =금월!H59-전월!H59 -> 0 | I59: =금월!I59-전월!I59 -> 0 | J59: =금월!J59-전월!J59 -> 0 | K59: =금월!K59-전월!K59 -> 0 | L59: =금월!L59-전월!L59 -> 0 | M59: =금월!M59-전월!M59 -> 0 | ... BI59: =금월!BI59-전월!BI59 -> 0
C60: 철도영상 | D60: 공개영상 | E60: =SUM(F60:BI60) -> 0 | F60: =금월!F60-전월!F60 -> 0 | G60: =금월!G60-전월!G60 -> 0 | H60: =금월!H60-전월!H60 -> 0 | I60: =금월!I60-전월!I60 -> 0 | J60: =금월!J60-전월!J60 -> 0 | K60: =금월!K60-전월!K60 -> 0 | L60: =금월!L60-전월!L60 -> 0 | M60: =금월!M60-전월!M60 -> 0 | ... BI60: =금월!BI60-전월!BI60 -> 0
C61: 철도역사관 | D61: 철도박물관 | E61: =SUM(F61:BI61) -> 0 | F61: =금월!F61-전월!F61 -> 0 | G61: =금월!G61-전월!G61 -> 0 | H61: =금월!H61-전월!H61 -> 0 | I61: =금월!I61-전월!I61 -> 0 | J61: =금월!J61-전월!J61 -> 0 | K61: =금월!K61-전월!K61 -> 0 | L61: =금월!L61-전월!L61 -> 0 | M61: =금월!M61-전월!M61 -> 0 | ... BI61: =금월!BI61-전월!BI61 -> 0
D62: 철도영상관 | E62: =SUM(F62:BI62) -> 0 | F62: =금월!F62-전월!F62 -> 0 | G62: =금월!G62-전월!G62 -> 0 | H62: =금월!H62-전월!H62 -> 0 | I62: =금월!I62-전월!I62 -> 0 | J62: =금월!J62-전월!J62 -> 0 | K62: =금월!K62-전월!K62 -> 0 | L62: =금월!L62-전월!L62 -> 0 | M62: =금월!M62-전월!M62 -> 0 | ... BI62: =금월!BI62-전월!BI62 -> 0
B63: 철도영상관 | C63: 철도기록영상 | E63: =SUM(F63:BI63) -> 0 | F63: =금월!F63-전월!F63 -> 0 | G63: =금월!G63-전월!G63 -> 0 | H63: =금월!H63-전월!H63 -> 0 | I63: =금월!I63-전월!I63 -> 0 | J63: =금월!J63-전월!J63 -> 0 | K63: =금월!K63-전월!K63 -> 0 | L63: =금월!L63-전월!L63 -> 0 | M63: =금월!M63-전월!M63 -> 0 | ... BI63: =금월!BI63-전월!BI63 -> 0
C64: =IF(E64=D64,1) -> 1 | D64: =SUM(E54:E63) -> 0 | E64: =SUM(F64:BI64) -> 0 | F64: =SUM(F54:F63) -> 0 | G64: =SUM(G54:G63) -> 0 | H64: =SUM(H54:H63) -> 0 | I64: =SUM(I54:I63) -> 0 | J64: =SUM(J54:J63) -> 0 | K64: =SUM(K54:K63) -> 0 | L64: =SUM(L54:L63) -> 0 | M64: =SUM(M54:M63) -> 0 | ... BI64: =SUM(BI54:BI63) -> 0
A65: 해외철도정보 | B65: 국가별철도 | C65: 기본정보 | E65: =SUM(F65:BI65) -> 0 | F65: =금월!F65-전월!F65 -> 0 | G65: =금월!G65-전월!G65 -> 0 | H65: =금월!H65-전월!H65 -> 0 | I65: =금월!I65-전월!I65 -> 0 | J65: =금월!J65-전월!J65 -> 0 | K65: =금월!K65-전월!K65 -> 0 | L65: =금월!L65-전월!L65 -> 0 | M65: =금월!M65-전월!M65 -> 0 | ... BI65: =금월!BI65-전월!BI65 -> 0
C66: 법제도 | E66: =SUM(F66:BI66) -> 0 | F66: =금월!F66-전월!F66 -> 0 | G66: =금월!G66-전월!G66 -> 0 | H66: =금월!H66-전월!H66 -> 0 | I66: =금월!I66-전월!I66 -> 0 | J66: =금월!J66-전월!J66 -> 0 | K66: =금월!K66-전월!K66 -> 0 | L66: =금월!L66-전월!L66 -> 0 | M66: =금월!M66-전월!M66 -> 0 | ... BI66: =금월!BI66-전월!BI66 -> 0
B67: 사업정보 | C67: 사업동향 | E67: =SUM(F67:BI67) -> 0 | F67: =금월!F67-전월!F67 -> 0 | G67: =금월!G67-전월!G67 -> 0 | H67: =금월!H67-전월!H67 -> 0 | I67: =금월!I67-전월!I67 -> 0 | J67: =금월!J67-전월!J67 -> 0 | K67: =금월!K67-전월!K67 -> 0 | L67: =금월!L67-전월!L67 -> 0 | M67: =금월!M67-전월!M67 -> 0 | ... BI67: =금월!BI67-전월!BI67 -> 0
C68: 입찰공고 | E68: =SUM(F68:BI68) -> 1024 | F68: =금월!F68-전월!F68 -> 0 | G68: =금월!G68-전월!G68 -> 0 | H68: =금월!H68-전월!H68 -> 0 | I68: =금월!I68-전월!I68 -> 0 | J68: =금월!J68-전월!J68 -> 0 | K68: =금월!K68-전월!K68 -> 0 | L68: =금월!L68-전월!L68 -> 0 | M68: =금월!M68-전월!M68 -> 0 | ... BI68: =금월!BI68-전월!BI68 -> 50
C69: 연구보고서 | E69: =SUM(F69:BI69) -> 0 | F69: =금월!F69-전월!F69 -> 0 | G69: =금월!G69-전월!G69 -> 0 | H69: =금월!H69-전월!H69 -> 0 | I69: =금월!I69-전월!I69 -> 0 | J69: =금월!J69-전월!J69 -> 0 | K69: =금월!K69-전월!K69 -> 0 | L69: =금월!L69-전월!L69 -> 0 | M69: =금월!M69-전월!M69 -> 0 | ... BI69: =금월!BI69-전월!BI69 -> 0
C70: 사업정보 | D70: 해외사업정보 | E70: =SUM(F70:BI70) -> 0 | F70: =금월!F70-전월!F70 -> 0 | G70: =금월!G70-전월!G70 -> 0 | H70: =금월!H70-전월!H70 -> 0 | I70: =금월!I70-전월!I70 -> 0 | J70: =금월!J70-전월!J70 -> 0 | K70: =금월!K70-전월!K70 -> 0 | L70: =금월!L70-전월!L70 -> 0 | M70: =금월!M70-전월!M70 -> 0 | ... BI70: =금월!BI70-전월!BI70 -> 0
D71: 철도공단 수주현황 | E71: =SUM(F71:BI71) -> 0 | F71: =금월!F71-전월!F71 -> 0 | G71: =금월!G71-전월!G71 -> 0 | H71: =금월!H71-전월!H71 -> 0 | I71: =금월!I71-전월!I71 -> 0 | J71: =금월!J71-전월!J71 -> 0 | K71: =금월!K71-전월!K71 -> 0 | L71: =금월!L71-전월!L71 -> 0 | M71: =금월!M71-전월!M71 -> 0 | ... BI71: =금월!BI71-전월!BI71 -> 0
B72: 자료실 | C72: 기술자료 | E72: =SUM(F72:BI72) -> 18 | F72: =금월!F72-전월!F72 -> 0 | G72: =금월!G72-전월!G72 -> 0 | H72: =금월!H72-전월!H72 -> 0 | I72: =금월!I72-전월!I72 -> 0 | J72: =금월!J72-전월!J72 -> 0 | K72: =금월!K72-전월!K72 -> 0 | L72: =금월!L72-전월!L72 -> 0 | M72: =금월!M72-전월!M72 -> 0 | ... BI72: =금월!BI72-전월!BI72 -> 18
C73: 해외철도잡지 | E73: =SUM(F73:BI73) -> 0 | F73: =금월!F73-전월!F73 -> 0 | G73: =금월!G73-전월!G73 -> 0 | H73: =금월!H73-전월!H73 -> 0 | I73: =금월!I73-전월!I73 -> 0 | J73: =금월!J73-전월!J73 -> 0 | K73: =금월!K73-전월!K73 -> 0 | L73: =금월!L73-전월!L73 -> 0 | M73: =금월!M73-전월!M73 -> 0 | ... BI73: =금월!BI73-전월!BI73 -> 0
B74: 기관/산업체 | C74: 기관 | E74: =SUM(F74:BI74) -> 0 | F74: =금월!F74-전월!F74 -> 0 | G74: =금월!G74-전월!G74 -> 0 | H74: =금월!H74-전월!H74 -> 0 | I74: =금월!I74-전월!I74 -> 0 | J74: =금월!J74-전월!J74 -> 0 | K74: =금월!K74-전월!K74 -> 0 | L74: =금월!L74-전월!L74 -> 0 | M74: =금월!M74-전월!M74 -> 0 | ... BI74: =금월!BI74-전월!BI74 -> 0
C75: 산업체 | E75: =SUM(F75:BI75) -> 0 | F75: =금월!F75-전월!F75 -> 0 | G75: =금월!G75-전월!G75 -> 0 | H75: =금월!H75-전월!H75 -> 0 | I75: =금월!I75-전월!I75 -> 0 | J75: =금월!J75-전월!J75 -> 0 | K75: =금월!K75-전월!K75 -> 0 | L75: =금월!L75-전월!L75 -> 0 | M75: =금월!M75-전월!M75 -> 0 | ... BI75: =금월!BI75-전월!BI75 -> 0
B76: 소식/여행 | C76: 철도뉴스 | E76: =SUM(F76:BI76) -> 169 | F76: =금월!F76-전월!F76 -> 0 | G76: =금월!G76-전월!G76 -> 0 | H76: =금월!H76-전월!H76 -> 1 | I76: =금월!I76-전월!I76 -> 0 | J76: =금월!J76-전월!J76 -> 0 | K76: =금월!K76-전월!K76 -> 0 | L76: =금월!L76-전월!L76 -> 0 | M76: =금월!M76-전월!M76 -> 0 | ... BI76: =금월!BI76-전월!BI76 -> 0
C77: 철도여행 | E77: =SUM(F77:BI77) -> 9 | F77: =금월!F77-전월!F77 -> 0 | G77: =금월!G77-전월!G77 -> 0 | H77: =금월!H77-전월!H77 -> 0 | I77: =금월!I77-전월!I77 -> 0 | J77: =금월!J77-전월!J77 -> 0 | K77: =금월!K77-전월!K77 -> 0 | L77: =금월!L77-전월!L77 -> 0 | M77: =금월!M77-전월!M77 -> 0 | ... BI77: =금월!BI77-전월!BI77 -> 9
B78: 통계 | C78: UIC통계 | E78: =SUM(F78:BI78) -> 164 | F78: =금월!F78-전월!F78 -> 0 | G78: =금월!G78-전월!G78 -> 0 | H78: =금월!H78-전월!H78 -> 0 | I78: =금월!I78-전월!I78 -> 0 | J78: =금월!J78-전월!J78 -> 0 | K78: =금월!K78-전월!K78 -> 0 | L78: =금월!L78-전월!L78 -> 0 | M78: =금월!M78-전월!M78 -> 0 | ... BI78: =금월!BI78-전월!BI78 -> 0
C79: 수출입실적 | E79: =SUM(F79:BI79) -> 118 | F79: =금월!F79-전월!F79 -> 0 | G79: =금월!G79-전월!G79 -> 0 | H79: =금월!H79-전월!H79 -> 0 | I79: =금월!I79-전월!I79 -> 0 | J79: =금월!J79-전월!J79 -> 0 | K79: =금월!K79-전월!K79 -> 0 | L79: =금월!L79-전월!L79 -> 0 | M79: =금월!M79-전월!M79 -> 0 | ... BI79: =금월!BI79-전월!BI79 -> 0
C80: 수주실적 | E80: =SUM(F80:BI80) -> 8 | F80: =금월!F80-전월!F80 -> 0 | G80: =금월!G80-전월!G80 -> 0 | H80: =금월!H80-전월!H80 -> 0 | I80: =금월!I80-전월!I80 -> 0 | J80: =금월!J80-전월!J80 -> 0 | K80: =금월!K80-전월!K80 -> 0 | L80: =금월!L80-전월!L80 -> 0 | M80: =금월!M80-전월!M80 -> 0 | ... BI80: =금월!BI80-전월!BI80 -> 0
C81: 통계자료실 | E81: =SUM(F81:BI81) -> 1 | F81: =금월!F81-전월!F81 -> 0 | G81: =금월!G81-전월!G81 -> 0 | H81: =금월!H81-전월!H81 -> 0 | I81: =금월!I81-전월!I81 -> 0 | J81: =금월!J81-전월!J81 -> 0 | K81: =금월!K81-전월!K81 -> 0 | L81: =금월!L81-전월!L81 -> 0 | M81: =금월!M81-전월!M81 -> 0 | ... BI81: =금월!BI81-전월!BI81 -> 0
C82: 수주실적추이 | E82: =SUM(F82:BI82) -> 0 | F82: =금월!F82-전월!F82 -> 0 | G82: =금월!G82-전월!G82 -> 0 | H82: =금월!H82-전월!H82 -> 0 | I82: =금월!I82-전월!I82 -> 0 | J82: =금월!J82-전월!J82 -> 0 | K82: =금월!K82-전월!K82 -> 0 | L82: =금월!L82-전월!L82 -> 0 | M82: =금월!M82-전월!M82 -> 0 | ... BI82: =금월!BI82-전월!BI82 -> 0
C83: =IF(E83=D83,1) -> 1 | D83: =SUM(E65:E82) -> 1511 | E83: =SUM(F83:BI83) -> 1511 | F83: =SUM(F65:F82) -> 0 | G83: =SUM(G65:G82) -> 0 | H83: =SUM(H65:H82) -> 1 | I83: =SUM(I65:I82) -> 0 | J83: =SUM(J65:J82) -> 0 | K83: =SUM(K65:K82) -> 0 | L83: =SUM(L65:L82) -> 0 | M83: =SUM(M65:M82) -> 0 | ... BI83: =SUM(BI65:BI82) -> 77
A84: 철도통계 | B84: 철도운영현황 | E84: =SUM(F84:BI84) -> 0 | F84: =금월!F84-전월!F84 -> 0 | G84: =금월!G84-전월!G84 -> 0 | H84: =금월!H84-전월!H84 -> 0 | I84: =금월!I84-전월!I84 -> 0 | J84: =금월!J84-전월!J84 -> 0 | K84: =금월!K84-전월!K84 -> 0 | L84: =금월!L84-전월!L84 -> 0 | M84: =금월!M84-전월!M84 -> 0 | ... BI84: =금월!BI84-전월!BI84 -> 0
B85: 철도 통계연보 | E85: =SUM(F85:BI85) -> 0 | F85: =금월!F85-전월!F85 -> 0 | G85: =금월!G85-전월!G85 -> 0 | H85: =금월!H85-전월!H85 -> 0 | I85: =금월!I85-전월!I85 -> 0 | J85: =금월!J85-전월!J85 -> 0 | K85: =금월!K85-전월!K85 -> 0 | L85: =금월!L85-전월!L85 -> 0 | M85: =금월!M85-전월!M85 -> 0 | ... BI85: =금월!BI85-전월!BI85 -> 0
B86: 통계시각화 | C86: 인포그래픽 | E86: =SUM(F86:BI86) -> 0 | F86: =금월!F86-전월!F86 -> 0 | G86: =금월!G86-전월!G86 -> 0 | H86: =금월!H86-전월!H86 -> 0 | I86: =금월!I86-전월!I86 -> 0 | J86: =금월!J86-전월!J86 -> 0 | K86: =금월!K86-전월!K86 -> 0 | L86: =금월!L86-전월!L86 -> 0 | M86: =금월!M86-전월!M86 -> 0 | ... BI86: =금월!BI86-전월!BI86 -> 0
C87: 얼마나 많은 사람들이 기차를 탈까? | E87: =SUM(F87:BI87) -> 0 | F87: =금월!F87-전월!F87 -> 0 | G87: =금월!G87-전월!G87 -> 0 | H87: =금월!H87-전월!H87 -> 0 | I87: =금월!I87-전월!I87 -> 0 | J87: =금월!J87-전월!J87 -> 0 | K87: =금월!K87-전월!K87 -> 0 | L87: =금월!L87-전월!L87 -> 0 | M87: =금월!M87-전월!M87 -> 0 | ... BI87: =금월!BI87-전월!BI87 -> 0
B88: 통계 자료실 | C88: 철도통계연보 | E88: =SUM(F88:BI88) -> 0 | F88: =금월!F88-전월!F88 -> 0 | G88: =금월!G88-전월!G88 -> 0 | H88: =금월!H88-전월!H88 -> 0 | I88: =금월!I88-전월!I88 -> 0 | J88: =금월!J88-전월!J88 -> 0 | K88: =금월!K88-전월!K88 -> 0 | L88: =금월!L88-전월!L88 -> 0 | M88: =금월!M88-전월!M88 -> 0 | ... BI88: =금월!BI88-전월!BI88 -> 0
C89: 철도사고통계현황 | E89: =SUM(F89:BI89) -> 0 | F89: =금월!F89-전월!F89 -> 0 | G89: =금월!G89-전월!G89 -> 0 | H89: =금월!H89-전월!H89 -> 0 | I89: =금월!I89-전월!I89 -> 0 | J89: =금월!J89-전월!J89 -> 0 | K89: =금월!K89-전월!K89 -> 0 | L89: =금월!L89-전월!L89 -> 0 | M89: =금월!M89-전월!M89 -> 0 | ... BI89: =금월!BI89-전월!BI89 -> 0
C90: =IF(E90=D90,1) -> 1 | D90: =SUM(E84:E89) -> 0 | E90: =SUM(F90:BI90) -> 0 | F90: =SUM(F84:F89) -> 0 | G90: =SUM(G84:G89) -> 0 | H90: =SUM(H84:H89) -> 0 | I90: =SUM(I84:I89) -> 0 | J90: =SUM(J84:J89) -> 0 | K90: =SUM(K84:K89) -> 0 | L90: =SUM(L84:L89) -> 0 | M90: =SUM(M84:M89) -> 0 | ... BI90: =SUM(BI84:BI89) -> 0
A91: 고객센터 | B91: 센터소개 | E91: =SUM(F91:BI91) -> 0 | F91: =금월!F91-전월!F91 -> 0 | G91: =금월!G91-전월!G91 -> 0 | H91: =금월!H91-전월!H91 -> 0 | I91: =금월!I91-전월!I91 -> 0 | J91: =금월!J91-전월!J91 -> 0 | K91: =금월!K91-전월!K91 -> 0 | L91: =금월!L91-전월!L91 -> 0 | M91: =금월!M91-전월!M91 -> 0 | ... BI91: =금월!BI91-전월!BI91 -> 0
B92: 자주묻는 질문 | E92: =SUM(F92:BI92) -> -1 | F92: =금월!F92-전월!F92 -> 0 | G92: =금월!G92-전월!G92 -> 0 | H92: =금월!H92-전월!H92 -> 0 | I92: =금월!I92-전월!I92 -> 0 | J92: =금월!J92-전월!J92 -> 0 | K92: =금월!K92-전월!K92 -> 0 | L92: =금월!L92-전월!L92 -> 0 | M92: =금월!M92-전월!M92 -> 0 | ... BI92: =금월!BI92-전월!BI92 -> 0
B93: 고객의 소리 | E93: =SUM(F93:BI93) -> 3 | F93: =금월!F93-전월!F93 -> 0 | G93: =금월!G93-전월!G93 -> 0 | H93: =금월!H93-전월!H93 -> 0 | I93: =금월!I93-전월!I93 -> 0 | J93: =금월!J93-전월!J93 -> 0 | K93: =금월!K93-전월!K93 -> 0 | L93: =금월!L93-전월!L93 -> 0 | M93: =금월!M93-전월!M93 -> 0 | ... BI93: =금월!BI93-전월!BI93 -> 0
B94: KRIC이용정책 | C94: 이용약관 | E94: =SUM(F94:BI94) -> 0 | F94: =금월!F94-전월!F94 -> 0 | G94: =금월!G94-전월!G94 -> 0 | H94: =금월!H94-전월!H94 -> 0 | I94: =금월!I94-전월!I94 -> 0 | J94: =금월!J94-전월!J94 -> 0 | K94: =금월!K94-전월!K94 -> 0 | L94: =금월!L94-전월!L94 -> 0 | M94: =금월!M94-전월!M94 -> 0 | ... BI94: =금월!BI94-전월!BI94 -> 0
C95: 개인정보처리방침 | E95: =SUM(F95:BI95) -> 0 | F95: =금월!F95-전월!F95 -> 0 | G95: =금월!G95-전월!G95 -> 0 | H95: =금월!H95-전월!H95 -> 0 | I95: =금월!I95-전월!I95 -> 0 | J95: =금월!J95-전월!J95 -> 0 | K95: =금월!K95-전월!K95 -> 0 | L95: =금월!L95-전월!L95 -> 0 | M95: =금월!M95-전월!M95 -> 0 | ... BI95: =금월!BI95-전월!BI95 -> 0
B96: 공지사항 | E96: =SUM(F96:BI96) -> 0 | F96: =금월!F96-전월!F96 -> 0 | G96: =금월!G96-전월!G96 -> 0 | H96: =금월!H96-전월!H96 -> 0 | I96: =금월!I96-전월!I96 -> 0 | J96: =금월!J96-전월!J96 -> 0 | K96: =금월!K96-전월!K96 -> 0 | L96: =금월!L96-전월!L96 -> 0 | M96: =금월!M96-전월!M96 -> 0 | ... BI96: =금월!BI96-전월!BI96 -> 0
B97: 설문조사 | E97: =SUM(F97:BI97) -> 0 | F97: =금월!F97-전월!F97 -> 0 | G97: =금월!G97-전월!G97 -> 0 | H97: =금월!H97-전월!H97 -> 0 | I97: =금월!I97-전월!I97 -> 0 | J97: =금월!J97-전월!J97 -> 0 | K97: =금월!K97-전월!K97 -> 0 | L97: =금월!L97-전월!L97 -> 0 | M97: =금월!M97-전월!M97 -> 0 | ... BI97: =금월!BI97-전월!BI97 -> 0
B98: 헬프데스크 | E98: =SUM(F98:BI98) -> 0 | F98: =금월!F98-전월!F98 -> 0 | G98: =금월!G98-전월!G98 -> 0 | H98: =금월!H98-전월!H98 -> 0 | I98: =금월!I98-전월!I98 -> 0 | J98: =금월!J98-전월!J98 -> 0 | K98: =금월!K98-전월!K98 -> 0 | L98: =금월!L98-전월!L98 -> 0 | M98: =금월!M98-전월!M98 -> 0 | ... BI98: =금월!BI98-전월!BI98 -> 0
B99: 사이트맵 | E99: =SUM(F99:BI99) -> 0 | F99: =금월!F99-전월!F99 -> 0 | G99: =금월!G99-전월!G99 -> 0 | H99: =금월!H99-전월!H99 -> 0 | I99: =금월!I99-전월!I99 -> 0 | J99: =금월!J99-전월!J99 -> 0 | K99: =금월!K99-전월!K99 -> 0 | L99: =금월!L99-전월!L99 -> 0 | M99: =금월!M99-전월!M99 -> 0 | ... BI99: =금월!BI99-전월!BI99 -> 0
C100: =IF(E100=D100,1) -> 1 | D100: =SUM(E91:E99) -> 2 | E100: =SUM(F100:BI100) -> 2 | F100: =SUM(F91:F99) -> 0 | G100: =SUM(G91:G99) -> 0 | H100: =SUM(H91:H99) -> 0 | I100: =SUM(I91:I99) -> 0 | J100: =SUM(J91:J99) -> 0 | K100: =SUM(K91:K99) -> 0 | L100: =SUM(L91:L99) -> 0 | M100: =SUM(M91:M99) -> 0 | ... BI100: =SUM(BI91:BI99) -> 0
...

Sheet 제공 기관별 콘텐츠 수
A1: 제공기관 | B1: 콘텐츠 수(누적) | D1: 제공기관 | E1: 콘텐츠 수(월간)
A2: 국토교통부 | B2: ='메뉴별 기관수집량(07월31일 기준)'!B3 -> 2298 | D2: 국토교통부 | E2: ='메뉴별 기관수집량(월간)'!B3 -> 12
A3: 국가철도공단 | B3: ='메뉴별 기관수집량(07월31일 기준)'!B4 -> 38040 | D3: 국가철도공단 | E3: ='메뉴별 기관수집량(월간)'!B4 -> 71
A4: 한국철도공사 | B4: ='메뉴별 기관수집량(07월31일 기준)'!B5 -> 35077 | D4: 한국철도공사 | E4: ='메뉴별 기관수집량(월간)'!B5 -> 339
A5: 한국철도기술연구원 | B5: ='메뉴별 기관수집량(07월31일 기준)'!B6 -> 5295 | D5: 한국철도기술연구원 | E5: ='메뉴별 기관수집량(월간)'!B6 -> 22
A6: 공항철도 | B6: ='메뉴별 기관수집량(07월31일 기준)'!B7 -> 1213 | D6: 공항철도 | E6: ='메뉴별 기관수집량(월간)'!B7 -> 31
A7: 서울교통공사(서울메트로) | B7: ='메뉴별 기관수집량(07월31일 기준)'!B8 -> 448 | D7: 서울교통공사(서울메트로) | E7: ='메뉴별 기관수집량(월간)'!B8 -> 0
A8: 대구교통공사 | B8: ='메뉴별 기관수집량(07월31일 기준)'!B9 -> 2610 | D8: 대구교통공사 | E8: ='메뉴별 기관수집량(월간)'!B9 -> 47
A9: 대전교통공사 | B9: ='메뉴별 기관수집량(07월31일 기준)'!B10 -> 1757 | D9: 대전교통공사 | E9: ='메뉴별 기관수집량(월간)'!B10 -> 38
A10: 광주교통공사 | B10: ='메뉴별 기관수집량(07월31일 기준)'!B11 -> 4215 | D10: 광주교통공사 | E10: ='메뉴별 기관수집량(월간)'!B11 -> 26
A11: 부산교통공사 | B11: ='메뉴별 기관수집량(07월31일 기준)'!B12 -> 4658 | D11: 부산교통공사 | E11: ='메뉴별 기관수집량(월간)'!B12 -> 39
A12: 인천교통공사 | B12: ='메뉴별 기관수집량(07월31일 기준)'!B13 -> 3061 | D12: 인천교통공사 | E12: ='메뉴별 기관수집량(월간)'!B13 -> 51
A13: 서울교통공사(서울도시철도공사) | B13: ='메뉴별 기관수집량(07월31일 기준)'!B14 -> 535 | D13: 서울교통공사(서울도시철도공사) | E13: ='메뉴별 기관수집량(월간)'!B14 -> 0
... A16: 서울9호선운영 | B16: ='메뉴별 기관수집량(07월31일 기준)'!B17 -> 5 | D16: 서울9호선운영 | E16: ='메뉴별 기관수집량(월간)'!B17 -> 0
A17: 의정부경전철 | B17: ='메뉴별 기관수집량(07월31일 기준)'!B18 -> 37 | D17: 의정부경전철 | E17: ='메뉴별 기관수집량(월간)'!B18 -> 0 | L17: `
A18: 부산김해경전철 | B18: ='메뉴별 기관수집량(07월31일 기준)'!B19 -> 240 | D18: 부산김해경전철 | E18: ='메뉴별 기관수집량(월간)'!B19 -> 10
A19: 용인경량전철 | B19: ='메뉴별 기관수집량(07월31일 기준)'!B20 -> 59 | D19: 용인경량전철 | E19: ='메뉴별 기관수집량(월간)'!B20 -> 0
A20: ㈜SR | B20: ='메뉴별 기관수집량(07월31일 기준)'!B21 -> 1577 | D20: ㈜SR | E20: ='메뉴별 기관수집량(월간)'!B21 -> 14
A21: 네오트랜스 | B21: ='메뉴별 기관수집량(07월31일 기준)'!B22 -> 108 | D21: 네오트랜스 | E21: ='메뉴별 기관수집량(월간)'!B22 -> 2
A22: 김포골드라인㈜ | B22: ='메뉴별 기관수집량(07월31일 기준)'!B23 -> 179 | D22: 김포골드라인㈜ | E22: ='메뉴별 기관수집량(월간)'!B23 -> 7
A23: 남서울경전철㈜ | B23: ='메뉴별 기관수집량(07월31일 기준)'!B24 -> 26 | D23: 남서울경전철㈜ | E23: ='메뉴별 기관수집량(월간)'!B24 -> 5
A24: 새서울철도㈜ | B24: ='메뉴별 기관수집량(07월31일 기준)'!B25 -> 0 | D24: 새서울철도㈜ | E24: ='메뉴별 기관수집량(월간)'!B25 -> 0
A25: 신분당선㈜ | B25: ='메뉴별 기관수집량(07월31일 기준)'!B26 -> 6 | D25: 신분당선㈜ | E25: ='메뉴별 기관수집량(월간)'!B26 -> 0
A26: 서해철도㈜ | B26: ='메뉴별 기관수집량(07월31일 기준)'!B27 -> 354 | D26: 서해철도㈜ | E26: ='메뉴별 기관수집량(월간)'!B27 -> 41
A27: 이레일㈜ | B27: ='메뉴별 기관수집량(07월31일 기준)'!B28 -> 0 | D27: 이레일㈜ | E27: ='메뉴별 기관수집량(월간)'!B28 -> 0
A28: 우이신설경전철㈜ | B28: ='메뉴별 기관수집량(07월31일 기준)'!B29 -> 88 | D28: 우이신설경전철㈜ | E28: ='메뉴별 기관수집량(월간)'!B29 -> 3
A29: 에스지레일㈜ | B29: ='메뉴별 기관수집량(07월31일 기준)'!B30 -> 0 | D29: 에스지레일㈜ | E29: ='메뉴별 기관수집량(월간)'!B30 -> 0
... A57: 기타 | B57: ='메뉴별 기관수집량(07월31일 기준)'!B58 -> 103879 | D57: 기타 | E57: ='메뉴별 기관수집량(월간)'!B58 -> 774
A58: 총계 | B58: =SUM(B2:B57) -> 371856 | D58: 총계 | E58: =SUM(E2:E57) -> 3186
