Workbook

Sheet 메뉴별 기관수집량(05월31일 기준)
A1: 대메뉴 | B1: 총합 | C1: 철도미디어 | D1: 철도소식 | E1: 전문자료 | F1: 취업정보 | G1: 인재개발 | H1: 레일광장 | I1: 철도역사관 | J1: 해외철도정보 | K1: 철도통계 | L1: 고객센터 | M1: 레일포털 | N1: 철도 Biz
A2: 총계 | B2: =SUM(C2:N2) -> 392174 | C2: =금월!$E4 -> 29 | D2: =금월!$E10 -> 37113 | E2: =금월!$E26 -> 134785 | F2: =금월!$E35 -> 5571 | G2: =금월!$E40 -> 480 | H2: =금월!$E53 -> 14375 | I2: =금월!$E64 -> 5266 | J2: =금월!$E83 -> 109920 | K2: =금월!$E90 -> 38801 | L2: =금월!$E100 -> 1021 | M2: =금월!$E120 -> 10203 | N2: =금월!$E153 -> 34610
A3: 국토교통부 | B3: =SUM(C3:N3) -> 2259 | C3: =금월!$F4 -> 0 | D3: =금월!$F10 -> 1735 | E3: =금월!F26 -> 30 | F3: =금월!F35 -> 351 | G3: =금월!F40 -> 0 | H3: =금월!F53 -> 4 | I3: =금월!F64 -> 23 | J3: =금월!F83 -> 1 | K3: =금월!F90 -> 66 | L3: =금월!F100 -> 0 | M3: =금월!F120 -> 0 | N3: =금월!F153 -> 49
A4: 국가철도공단 | B4: =SUM(C4:N4) -> 37874 | C4: =금월!$G4 -> 0 | D4: =금월!$G10 -> 3891 | E4: =금월!G26 -> 30134 | F4: =금월!G35 -> 129 | G4: =금월!G40 -> 0 | H4: =금월!G53 -> 12 | I4: =금월!G64 -> 34 | J4: =금월!G83 -> 864 | K4: =금월!G90 -> 35 | L4: =금월!G100 -> 4 | M4: =금월!G120 -> 0 | N4: =금월!G153 -> 2771
A5: 한국철도공사 | B5: =SUM(C5:N5) -> 34368 | C5: =금월!$H4 -> 0 | D5: =금월!$H10 -> 5613 | E5: =금월!H26 -> 14017 | F5: =금월!H35 -> 1273 | G5: =금월!H40 -> 0 | H5: =금월!H53 -> 268 | I5: =금월!H64 -> 12 | J5: =금월!H83 -> 123 | K5: =금월!H90 -> 48 | L5: =금월!H100 -> 0 | M5: =금월!H120 -> 0 | N5: =금월!H153 -> 13014
A6: 한국철도기술연구원 | B6: =SUM(C6:N6) -> 5217 | C6: =금월!$I4 -> 0 | D6: =금월!$I10 -> 686 | E6: =금월!I26 -> 2730 | F6: =금월!I35 -> 91 | G6: =금월!I40 -> 0 | H6: =금월!I53 -> 84 | I6: =금월!I64 -> 0 | J6: =금월!I83 -> 99 | K6: =금월!I90 -> 0 | L6: =금월!I100 -> 0 | M6: =금월!I120 -> 0 | N6: =금월!I153 -> 1527
A7: 공항철도 | B7: =SUM(C7:N7) -> 1172 | C7: =금월!$J4 -> 0 | D7: =금월!$J10 -> 629 | E7: =금월!J26 -> 312 | F7: =금월!J35 -> 62 | G7: =금월!J40 -> 0 | H7: =금월!J53 -> 2 | I7: =금월!J64 -> 1 | J7: =금월!J83 -> 24 | K7: =금월!J90 -> 0 | L7: =금월!J100 -> 0 | M7: =금월!J120 -> 0 | N7: =금월!J153 -> 142
A8: 서울교통공사(서울메트로) | B8: =SUM(C8:N8) -> 448 | C8: =금월!$K4 -> 0 | D8: =금월!$K10 -> 234 | E8: =금월!K26 -> 0 | F8: =금월!K35 -> 214 | G8: =금월!K40 -> 0 | H8: =금월!K53 -> 0 | I8: =금월!K64 -> 0 | J8: =금월!K83 -> 0 | K8: =금월!K90 -> 0 | L8: =금월!K100 -> 0 | M8: =금월!K120 -> 0 | N8: =금월!K153 -> 0
A9: 대구교통공사 | B9: =SUM(C9:N9) -> 2540 | C9: =금월!$L4 -> 0 | D9: =금월!$L10 -> 1275 | E9: =금월!L26 -> 937 | F9: =금월!L35 -> 141 | G9: =금월!L40 -> 0 | H9: =금월!L53 -> 1 | I9: =금월!L64 -> 1 | J9: =금월!L83 -> 0 | K9: =금월!L90 -> 0 | L9: =금월!L100 -> 0 | M9: =금월!L120 -> 0 | N9: =금월!L153 -> 185
A10: 대전교통공사 | B10: =SUM(C10:N10) -> 1702 | C10: =금월!$M4 -> 0 | D10: =금월!$M10 -> 826 | E10: =금월!M26 -> 563 | F10: =금월!M35 -> 144 | G10: =금월!M40 -> 0 | H10: =금월!M53 -> 1 | I10: =금월!M64 -> 0 | J10: =금월!M83 -> 9 | K10: =금월!M90 -> 0 | L10: =금월!M100 -> 0 | M10: =금월!M120 -> 0 | N10: =금월!M153 -> 159
A11: 광주교통공사 | B11: =SUM(C11:N11) -> 4166 | C11: =금월!$N4 -> 0 | D11: =금월!$N10 -> 1591 | E11: =금월!N26 -> 2341 | F11: =금월!N35 -> 135 | G11: =금월!N40 -> 0 | H11: =금월!N53 -> 1 | I11: =금월!N64 -> 0 | J11: =금월!N83 -> 5 | K11: =금월!N90 -> 0 | L11: =금월!N100 -> 0 | M11: =금월!N120 -> 0 | N11: =금월!N153 -> 93
A12: 부산교통공사 | B12: =SUM(C12:N12) -> 4615 | C12: =금월!$O4 -> 0 | D12: =금월!$O10 -> 1397 | E12: =금월!O26 -> 2638 | F12: =금월!O35 -> 151 | G12: =금월!O40 -> 0 | H12: =금월!O53 -> 1 | I12: =금월!O64 -> 1 | J12: =금월!O83 -> 28 | K12: =금월!O90 -> 0 | L12: =금월!O100 -> 0 | M12: =금월!O120 -> 0 | N12: =금월!O153 -> 399
A13: 인천교통공사 | B13: =SUM(C13:N13) -> 2999 | C13: =금월!$P4 -> 0 | D13: =금월!$P10 -> 1470 | E13: =금월!P26 -> 960 | F13: =금월!P35 -> 295 | G13: =금월!P40 -> 0 | H13: =금월!P53 -> 1 | I13: =금월!P64 -> 2 | J13: =금월!P83 -> 0 | K13: =금월!P90 -> 0 | L13: =금월!P100 -> 0 | M13: =금월!P120 -> 0 | N13: =금월!P153 -> 271
A14: 서울교통공사(서울도시철도공사) | B14: =SUM(C14:N14) -> 535 | C14: =금월!$Q4 -> 0 | D14: =금월!$Q10 -> 355 | E14: =금월!Q26 -> 0 | F14: =금월!Q35 -> 179 | G14: =금월!Q40 -> 0 | H14: =금월!Q53 -> 0 | I14: =금월!Q64 -> 1 | J14: =금월!Q83 -> 0 | K14: =금월!Q90 -> 0 | L14: =금월!Q100 -> 0 | M14: =금월!Q120 -> 0 | N14: =금월!Q153 -> 0
A15: 서울교통공사 | B15: =SUM(C15:N15) -> 3928 | C15: =금월!$R4 -> 0 | D15: =금월!$R10 -> 1007 | E15: =금월!R26 -> 1167 | F15: =금월!R35 -> 474 | G15: =금월!R40 -> 0 | H15: =금월!R53 -> 1 | I15: =금월!R64 -> 2 | J15: =금월!R83 -> 0 | K15: =금월!R90 -> 0 | L15: =금월!R100 -> 0 | M15: =금월!R120 -> 0 | N15: =금월!R153 -> 1277
A16: 서울시메트로9호선 | B16: =SUM(C16:N16) -> 226 | C16: =금월!$S4 -> 0 | D16: =금월!$S10 -> 52 | E16: =금월!S26 -> 0 | F16: =금월!S35 -> 92 | G16: =금월!S40 -> 0 | H16: =금월!S53 -> 1 | I16: =금월!S64 -> 1 | J16: =금월!S83 -> 0 | K16: =금월!S90 -> 0 | L16: =금월!S100 -> 0 | M16: =금월!S120 -> 0 | N16: =금월!S153 -> 80
A17: 서울9호선운영 | B17: =SUM(C17:N17) -> 5 | C17: =금월!$T4 -> 0 | D17: =금월!$T10 -> 0 | E17: =금월!T26 -> 1 | F17: =금월!T35 -> 3 | G17: =금월!T40 -> 0 | H17: =금월!T53 -> 0 | I17: =금월!T64 -> 1 | J17: =금월!T83 -> 0 | K17: =금월!T90 -> 0 | L17: =금월!T100 -> 0 | M17: =금월!T120 -> 0 | N17: =금월!T153 -> 0
A18: 의정부경전철 | B18: =SUM(C18:N18) -> 37 | C18: =금월!$U4 -> 0 | D18: =금월!$U10 -> 16 | E18: =금월!U26 -> 14 | F18: =금월!U35 -> 5 | G18: =금월!U40 -> 0 | H18: =금월!U53 -> 1 | I18: =금월!U64 -> 0 | J18: =금월!U83 -> 0 | K18: =금월!U90 -> 0 | L18: =금월!U100 -> 0 | M18: =금월!U120 -> 0 | N18: =금월!U153 -> 1
A19: 부산김해경전철 | B19: =SUM(C19:N19) -> 233 | C19: =금월!$V4 -> 0 | D19: =금월!$V10 -> 113 | E19: =금월!V26 -> 10 | F19: =금월!V35 -> 54 | G19: =금월!V40 -> 0 | H19: =금월!V53 -> 1 | I19: =금월!V64 -> 0 | J19: =금월!V83 -> 0 | K19: =금월!V90 -> 0 | L19: =금월!V100 -> 0 | M19: =금월!V120 -> 0 | N19: =금월!V153 -> 55
A20: 용인경량전철 | B20: =SUM(C20:N20) -> 59 | C20: =금월!$W4 -> 0 | D20: =금월!$W10 -> 33 | E20: =금월!W26 -> 1 | F20: =금월!W35 -> 24 | G20: =금월!W40 -> 0 | H20: =금월!W53 -> 1 | I20: =금월!W64 -> 0 | J20: =금월!W83 -> 0 | K20: =금월!W90 -> 0 | L20: =금월!W100 -> 0 | M20: =금월!W120 -> 0 | N20: =금월!W153 -> 0
A21: ㈜SR | B21: =SUM(C21:N21) -> 1529 | C21: =금월!$X4 -> 0 | D21: =금월!$X10 -> 1148 | E21: =금월!X26 -> 240 | F21: =금월!X35 -> 87 | G21: =금월!X40 -> 0 | H21: =금월!X53 -> 1 | I21: =금월!X64 -> 0 | J21: =금월!X83 -> 0 | K21: =금월!X90 -> 0 | L21: =금월!X100 -> 0 | M21: =금월!X120 -> 0 | N21: =금월!X153 -> 53
A22: 네오트랜스 | B22: =SUM(C22:N22) -> 102 | C22: =금월!$Y4 -> 0 | D22: =금월!$Y10 -> 21 | E22: =금월!Y$26 -> 2 | F22: =금월!Y35 -> 78 | G22: =금월!Y40 -> 0 | H22: =금월!Y53 -> 1 | I22: =금월!Y64 -> 0 | J22: =금월!Y83 -> 0 | K22: =금월!Y90 -> 0 | L22: =금월!Y100 -> 0 | M22: =금월!Y120 -> 0 | N22: =금월!Y153 -> 0
A23: 김포골드라인㈜ | B23: =SUM(C23:N23) -> 161 | C23: =금월!$Z4 -> 0 | D23: =금월!$Z10 -> 13 | E23: =금월!$Z$26 -> 113 | F23: =금월!$Z$35 -> 29 | G23: =금월!$Z$40 -> 0 | H23: =금월!$Z$53 -> 1 | I23: =금월!$Z$64 -> 0 | J23: =금월!$Z$83 -> 0 | K23: =금월!$Z$90 -> 0 | L23: =금월!$Z$100 -> 0 | M23: =금월!$Z$120 -> 0 | N23: =금월!$Z$153 -> 5
A24: 남서울경전철㈜ | B24: =SUM(C24:N24) -> 18 | C24: =금월!$AA4 -> 0 | D24: =금월!$AA10 -> 5 | E24: =금월!$AA$26 -> 5 | F24: =금월!$AA$35 -> 4 | G24: =금월!$AA$40 -> 0 | H24: =금월!$AA$53 -> 0 | I24: =금월!$AA$64 -> 0 | J24: =금월!$AA$83 -> 0 | K24: =금월!$AA$90 -> 0 | L24: =금월!$AA$100 -> 0 | M24: =금월!$AA$120 -> 0 | N24: =금월!$AA$153 -> 4
A25: 새서울철도㈜ | B25: =SUM(C25:N25) -> 0 | C25: =금월!$AB4 -> 0 | D25: =금월!$AB10 -> 0 | E25: =금월!$AB$26 -> 0 | F25: =금월!$AB$35 -> 0 | G25: =금월!$AB$40 -> 0 | H25: =금월!$AB$53 -> 0 | I25: =금월!$AB$64 -> 0 | J25: =금월!$AB$83 -> 0 | K25: =금월!$AB$90 -> 0 | L25: =금월!$AB$100 -> 0 | M25: =금월!$AB$120 -> 0 | N25: =금월!$AB$153 -> 0
A26: 신분당선㈜ | B26: =SUM(C26:N26) -> 6 | C26: =금월!$AC4 -> 0 | D26: =금월!$AC10 -> 3 | E26: =금월!$AC$26 -> 0 | F26: =금월!$AC$35 -> 3 | G26: =금월!$AC$40 -> 0 | H26: =금월!$AC$53 -> 0 | I26: =금월!$AC$64 -> 0 | J26: =금월!$AC$83 -> 0 | K26: =금월!$AC$90 -> 0 | L26: =금월!$AC$100 -> 0 | M26: =금월!$AC$120 -> 0 | N26: =금월!$AC$153 -> 0
A27: 서해철도㈜ | B27: =SUM(C27:N27) -> 307 | C27: =금월!$AD4 -> 0 | D27: =금월!$AD10 -> 17 | E27: =금월!$AD$26 -> 241 | F27: =금월!$AD$35 -> 29 | G27: =금월!$AD$40 -> 0 | H27: =금월!$AD$53 -> 1 | I27: =금월!$AD$64 -> 1 | J27: =금월!$AD$83 -> 0 | K27: =금월!$AD$90 -> 0 | L27: =금월!$AD$100 -> 0 | M27: =금월!$AD$120 -> 0 | N27: =금월!$AD$153 -> 18
A28: 이레일㈜ | B28: =SUM(C28:N28) -> 0 | C28: =금월!$AE4 -> 0 | D28: =금월!$AE10 -> 0 | E28: =금월!$AE$26 -> 0 | F28: =금월!$AE$35 -> 0 | G28: =금월!$AE$40 -> 0 | H28: =금월!$AE$53 -> 0 | I28: =금월!$AE$64 -> 0 | J28: =금월!$AE$83 -> 0 | K28: =금월!$AE$90 -> 0 | L28: =금월!$AE$100 -> 0 | M28: =금월!$AE$120 -> 0 | N28: =금월!$AE$153 -> 0
A29: 우이신설경전철㈜ | B29: =SUM(C29:N29) -> 84 | C29: =금월!$AF4 -> 0 | D29: =금월!$AF10 -> 10 | E29: =금월!$AF$26 -> 2 | F29: =금월!$AF$35 -> 61 | G29: =금월!$AF$40 -> 0 | H29: =금월!$AF$53 -> 2 | I29: =금월!$AF$64 -> 0 | J29: =금월!$AF$83 -> 0 | K29: =금월!$AF$90 -> 0 | L29: =금월!$AF$100 -> 0 | M29: =금월!$AF$120 -> 0 | N29: =금월!$AF$153 -> 9
A30: 에스지레일㈜ | B30: =SUM(C30:N30) -> 0 | C30: =금월!$AG4 -> 0 | D30: =금월!$AG10 -> 0 | E30: =금월!$AG$26 -> 0 | F30: =금월!$AG$35 -> 0 | G30: =금월!$AG$40 -> 0 | H30: =금월!$AG$53 -> 0 | I30: =금월!$AG$64 -> 0 | J30: =금월!$AG$83 -> 0 | K30: =금월!$AG$90 -> 0 | L30: =금월!$AG$100 -> 0 | M30: =금월!$AG$120 -> 0 | N30: =금월!$AG$153 -> 0
A31: 지티엑스에이운영㈜ | B31: =SUM(C31:N31) -> 0 | C31: =금월!$AH4 -> 0 | D31: =금월!$AH10 -> 0 | E31: =금월!$AH$26 -> 0 | F31: =금월!$AH$35 -> 0 | G31: =금월!$AH$40 -> 0 | H31: =금월!$AH$53 -> 0 | I31: =금월!$AH$64 -> 0 | J31: =금월!$AH$83 -> 0 | K31: =금월!$AH$90 -> 0 | L31: =금월!$AH$100 -> 0 | M31: =금월!$AH$120 -> 0 | N31: =금월!$AH$153 -> 0
A32: KIND | B32: =SUM(C32:N32) -> 97 | C32: =금월!$AI4 -> 0 | D32: =금월!$AI10 -> 0 | E32: =금월!AI$26 -> 0 | F32: =금월!AI35 -> 5 | G32: =금월!AI40 -> 0 | H32: =금월!AI53 -> 0 | I32: =금월!AI64 -> 0 | J32: =금월!AI83 -> 92 | K32: =금월!AI90 -> 0 | L32: =금월!AI100 -> 0 | M32: =금월!AI120 -> 0 | N32: =금월!AI153 -> 0
A33: 한국교통안전공단 | B33: =SUM(C33:N33) -> 2477 | C33: =금월!$AJ4 -> 0 | D33: =금월!$AJ10 -> 16 | E33: =금월!AJ26 -> 1110 | F33: =금월!AJ35 -> 1276 | G33: =금월!AJ40 -> 3 | H33: =금월!AJ53 -> 1 | I33: =금월!AJ64 -> 0 | J33: =금월!AJ83 -> 0 | K33: =금월!AJ90 -> 71 | L33: =금월!AJ100 -> 0 | M33: =금월!AJ120 -> 0 | N33: =금월!AJ153 -> 0
A34: 한국철도학회 | B34: =SUM(C34:N34) -> 14432 | C34: =금월!$AK4 -> 0 | D34: =금월!$AK10 -> 246 | E34: =금월!AK26 -> 14178 | F34: =금월!AK35 -> 1 | G34: =금월!AK40 -> 0 | H34: =금월!AK53 -> 0 | I34: =금월!AK64 -> 0 | J34: =금월!AK83 -> 7 | K34: =금월!AK90 -> 0 | L34: =금월!AK100 -> 0 | M34: =금월!AK120 -> 0 | N34: =금월!AK153 -> 0
A35: 철도산업정보센터 | B35: =SUM(C35:N35) -> 24818 | C35: =금월!$AL4 -> 29 | D35: =금월!$AL10 -> 17 | E35: =금월!AL26 -> 11017 | F35: =금월!AL35 -> 88 | G35: =금월!AL40 -> 0 | H35: =금월!AL53 -> 195 | I35: =금월!AL64 -> 1 | J35: =금월!AL83 -> 2246 | K35: =금월!AL90 -> 1 | L35: =금월!AL100 -> 1016 | M35: =금월!AL120 -> 10203 | N35: =금월!AL153 -> 5
A36: 해외건설협회 | B36: =SUM(C36:N36) -> 6617 | C36: =금월!$AM4 -> 0 | D36: =금월!$AM10 -> 0 | E36: =금월!AM26 -> 0 | F36: =금월!AM35 -> 0 | G36: =금월!AM40 -> 161 | H36: =금월!AM53 -> 0 | I36: =금월!AM64 -> 0 | J36: =금월!AM83 -> 6419 | K36: =금월!AM90 -> 0 | L36: =금월!AM100 -> 0 | M36: =금월!AM120 -> 0 | N36: =금월!AM153 -> 37
A37: 한국철도협회 | B37: =SUM(C37:N37) -> 748 | C37: =금월!$AN4 -> 0 | D37: =금월!$AN10 -> 5 | E37: =금월!AN26 -> 1 | F37: =금월!AN35 -> 2 | G37: =금월!AN40 -> 160 | H37: =금월!AN53 -> 0 | I37: =금월!AN64 -> 0 | J37: =금월!AN83 -> 578 | K37: =금월!AN90 -> 0 | L37: =금월!AN100 -> 0 | M37: =금월!AN120 -> 0 | N37: =금월!AN153 -> 2
A38: 중소벤처기업부 | B38: =SUM(C38:N38) -> 5449 | C38: =금월!$AO4 -> 0 | D38: =금월!$AO10 -> 0 | E38: =금월!AO26 -> 0 | F38: =금월!AO35 -> 0 | G38: =금월!AO40 -> 0 | H38: =금월!AO53 -> 0 | I38: =금월!AO64 -> 0 | J38: =금월!AO83 -> 5058 | K38: =금월!AO90 -> 0 | L38: =금월!AO100 -> 0 | M38: =금월!AO120 -> 0 | N38: =금월!AO153 -> 391
A39: 외교부 | B39: =SUM(C39:N39) -> 665 | C39: =금월!$AP4 -> 0 | D39: =금월!$AP10 -> 0 | E39: =금월!AP26 -> 0 | F39: =금월!AP35 -> 0 | G39: =금월!AP40 -> 0 | H39: =금월!AP53 -> 0 | I39: =금월!AP64 -> 0 | J39: =금월!AP83 -> 665 | K39: =금월!AP90 -> 0 | L39: =금월!AP100 -> 0 | M39: =금월!AP120 -> 0 | N39: =금월!AP153 -> 0
A40: 철도경제신문 | B40: =SUM(C40:N40) -> 3272 | C40: =금월!$AQ4 -> 0 | D40: =금월!$AQ10 -> 2987 | E40: =금월!AQ26 -> 0 | F40: =금월!AQ35 -> 0 | G40: =금월!AQ40 -> 0 | H40: =금월!AQ53 -> 0 | I40: =금월!AQ64 -> 0 | J40: =금월!AQ83 -> 285 | K40: =금월!AQ90 -> 0 | L40: =금월!AQ100 -> 0 | M40: =금월!AQ120 -> 0 | N40: =금월!AQ153 -> 0
...

Sheet 메뉴별 기관수집량(월간)
A1: 대메뉴 | B1: 총합 | C1: 철도미디어 | D1: 철도소식 | E1: 전문자료 | F1: 취업정보 | G1: 인재개발 | H1: 레일광장 | I1: 철도역사관 | J1: 해외철도정보 | K1: 철도통계 | L1: 고객센터 | M1: 레일포털 | N1: 철도 Biz
A2: 총계 | B2: =SUM(C2:N2) -> 4485 | C2: =월간수집!E4 -> 29 | D2: =월간수집!E10 -> 191 | E2: =월간수집!E26 -> 41 | F2: =월간수집!E35 -> 10 | G2: =월간수집!E40 -> 19 | H2: =월간수집!E53 -> 21 | I2: =월간수집!E64 -> 0 | J2: =월간수집!E83 -> 991 | K2: =월간수집!E90 -> 1 | L2: =월간수집!E100 -> 1 | M2: =월간수집!E120 -> 3 | N2: =월간수집!E153 -> 3178
A3: 국토교통부 | B3: =SUM(C3:N3) -> 22 | C3: =월간수집!$F4 -> 0 | D3: =월간수집!F10 -> 16 | E3: =월간수집!F26 -> 0 | F3: =월간수집!F35 -> 6 | G3: =월간수집!F40 -> 0 | H3: =월간수집!F53 -> 0 | I3: =월간수집!F64 -> 0 | J3: =월간수집!F83 -> 0 | K3: =월간수집!F90 -> 0 | L3: =월간수집!F100 -> 0 | M3: =월간수집!F120 -> 0 | N3: =월간수집!F153 -> 0
A4: 국가철도공단 | B4: =SUM(C4:N4) -> 53 | C4: =월간수집!$G4 -> 0 | D4: =월간수집!G10 -> 17 | E4: =월간수집!G26 -> 6 | F4: =월간수집!G35 -> 0 | G4: =월간수집!G40 -> 0 | H4: =월간수집!G53 -> 0 | I4: =월간수집!G64 -> 0 | J4: =월간수집!G83 -> 0 | K4: =월간수집!G90 -> 0 | L4: =월간수집!G100 -> 0 | M4: =월간수집!G120 -> 0 | N4: =월간수집!G153 -> 30
A5: 한국철도공사 | B5: =SUM(C5:N5) -> 333 | C5: =월간수집!$H4 -> 0 | D5: =월간수집!H10 -> 20 | E5: =월간수집!H26 -> 5 | F5: =월간수집!H35 -> 2 | G5: =월간수집!H40 -> 0 | H5: =월간수집!H53 -> 2 | I5: =월간수집!H64 -> 0 | J5: =월간수집!H83 -> 0 | K5: =월간수집!H90 -> 0 | L5: =월간수집!H100 -> 0 | M5: =월간수집!H120 -> 0 | N5: =월간수집!H153 -> 304
A6: 한국철도기술연구원 | B6: =SUM(C6:N6) -> 19 | C6: =월간수집!$I4 -> 0 | D6: =월간수집!I10 -> 8 | E6: =월간수집!I26 -> 0 | F6: =월간수집!I35 -> 0 | G6: =월간수집!I40 -> 0 | H6: =월간수집!I53 -> 0 | I6: =월간수집!I64 -> 0 | J6: =월간수집!I83 -> 0 | K6: =월간수집!I90 -> 0 | L6: =월간수집!I100 -> 0 | M6: =월간수집!I120 -> 0 | N6: =월간수집!I153 -> 11
A7: 공항철도 | B7: =SUM(C7:N7) -> 10 | C7: =월간수집!$J4 -> 0 | D7: =월간수집!J10 -> 4 | E7: =월간수집!J26 -> 0 | F7: =월간수집!J35 -> 0 | G7: =월간수집!J40 -> 0 | H7: =월간수집!J53 -> 0 | I7: =월간수집!J64 -> 0 | J7: =월간수집!J83 -> 0 | K7: =월간수집!J90 -> 0 | L7: =월간수집!J100 -> 0 | M7: =월간수집!J120 -> 0 | N7: =월간수집!J153 -> 6
A8: 서울메트로 | B8: =SUM(C8:N8) -> 0 | C8: =월간수집!$K4 -> 0 | D8: =월간수집!K10 -> 0 | E8: =월간수집!K26 -> 0 | F8: =월간수집!K35 -> 0 | G8: =월간수집!K40 -> 0 | H8: =월간수집!K53 -> 0 | I8: =월간수집!K64 -> 0 | J8: =월간수집!K83 -> 0 | K8: =월간수집!K90 -> 0 | L8: =월간수집!K100 -> 0 | M8: =월간수집!K120 -> 0 | N8: =월간수집!K153 -> 0
A9: 대구교통공사 | B9: =SUM(C9:N9) -> -2 | C9: =월간수집!$L4 -> 0 | D9: =월간수집!L10 -> 0 | E9: =월간수집!L26 -> 1 | F9: =월간수집!L35 -> 0 | G9: =월간수집!L40 -> 0 | H9: =월간수집!L53 -> 0 | I9: =월간수집!L64 -> 0 | J9: =월간수집!L83 -> 0 | K9: =월간수집!L90 -> 0 | L9: =월간수집!L100 -> 0 | M9: =월간수집!L120 -> 0 | N9: =월간수집!L153 -> -3
A10: 대전교통공사 | B10: =SUM(C10:N10) -> 13 | C10: =월간수집!$M4 -> 0 | D10: =월간수집!M10 -> 7 | E10: =월간수집!M26 -> 1 | F10: =월간수집!M35 -> 0 | G10: =월간수집!M40 -> 0 | H10: =월간수집!M53 -> 0 | I10: =월간수집!M64 -> 0 | J10: =월간수집!M83 -> 0 | K10: =월간수집!M90 -> 0 | L10: =월간수집!M100 -> 0 | M10: =월간수집!M120 -> 0 | N10: =월간수집!M153 -> 5
A11: 광주도시철도공사 | B11: =SUM(C11:N11) -> 3 | C11: =월간수집!$N4 -> 0 | D11: =월간수집!N10 -> 10 | E11: =월간수집!N26 -> 0 | F11: =월간수집!N35 -> 0 | G11: =월간수집!N40 -> 0 | H11: =월간수집!N53 -> 0 | I11: =월간수집!N64 -> 0 | J11: =월간수집!N83 -> 0 | K11: =월간수집!N90 -> 0 | L11: =월간수집!N100 -> 0 | M11: =월간수집!N120 -> 0 | N11: =월간수집!N153 -> -7
A12: 부산교통공사 | B12: =SUM(C12:N12) -> -5 | C12: =월간수집!$O4 -> 0 | D12: =월간수집!O10 -> 9 | E12: =월간수집!O26 -> 0 | F12: =월간수집!O35 -> 1 | G12: =월간수집!O40 -> 0 | H12: =월간수집!O53 -> 0 | I12: =월간수집!O64 -> 0 | J12: =월간수집!O83 -> 0 | K12: =월간수집!O90 -> 0 | L12: =월간수집!O100 -> 0 | M12: =월간수집!O120 -> 0 | N12: =월간수집!O153 -> -15
A13: 인천교통공사 | B13: =SUM(C13:N13) -> 23 | C13: =월간수집!$P4 -> 0 | D13: =월간수집!P10 -> 17 | E13: =월간수집!P26 -> 6 | F13: =월간수집!P35 -> 0 | G13: =월간수집!P40 -> 0 | H13: =월간수집!P53 -> 0 | I13: =월간수집!P64 -> 0 | J13: =월간수집!P83 -> 0 | K13: =월간수집!P90 -> 0 | L13: =월간수집!P100 -> 0 | M13: =월간수집!P120 -> 0 | N13: =월간수집!P153 -> 0
A14: 서울도시철도공사 | B14: =SUM(C14:N14) -> 0 | C14: =월간수집!$Q4 -> 0 | D14: =월간수집!Q10 -> 0 | E14: =월간수집!Q26 -> 0 | F14: =월간수집!Q35 -> 0 | G14: =월간수집!Q40 -> 0 | H14: =월간수집!Q53 -> 0 | I14: =월간수집!Q64 -> 0 | J14: =월간수집!Q83 -> 0 | K14: =월간수집!Q90 -> 0 | L14: =월간수집!Q100 -> 0 | M14: =월간수집!Q120 -> 0 | N14: =월간수집!Q153 -> 0
A15: 서울교통공사 | B15: =SUM(C15:N15) -> 4 | C15: =월간수집!$R4 -> 0 | D15: =월간수집!R10 -> 12 | E15: =월간수집!R26 -> 8 | F15: =월간수집!R35 -> 6 | G15: =월간수집!R40 -> 0 | H15: =월간수집!R53 -> 0 | I15: =월간수집!R64 -> 0 | J15: =월간수집!R83 -> 0 | K15: =월간수집!R90 -> 0 | L15: =월간수집!R100 -> 0 | M15: =월간수집!R120 -> 0 | N15: =월간수집!R153 -> -22
A16: 서울시메트로9호선 | B16: =SUM(C16:N16) -> -5 | C16: =월간수집!$S4 -> 0 | D16: =월간수집!S10 -> 4 | E16: =월간수집!S26 -> 0 | F16: =월간수집!S35 -> 2 | G16: =월간수집!S40 -> 0 | H16: =월간수집!S53 -> 0 | I16: =월간수집!S64 -> 0 | J16: =월간수집!S83 -> 0 | K16: =월간수집!S90 -> 0 | L16: =월간수집!S100 -> 0 | M16: =월간수집!S120 -> 0 | N16: =월간수집!S153 -> -11
A17: 서울9호선운영 | B17: =SUM(C17:N17) -> 0 | C17: =월간수집!$T4 -> 0 | D17: =월간수집!T10 -> 0 | E17: =월간수집!T26 -> 0 | F17: =월간수집!T35 -> 0 | G17: =월간수집!T40 -> 0 | H17: =월간수집!T53 -> 0 | I17: =월간수집!T64 -> 0 | J17: =월간수집!T83 -> 0 | K17: =월간수집!T90 -> 0 | L17: =월간수집!T100 -> 0 | M17: =월간수집!T120 -> 0 | N17: =월간수집!T153 -> 0
A18: 의정부경전철 | B18: =SUM(C18:N18) -> 0 | C18: =월간수집!$U4 -> 0 | D18: =월간수집!U10 -> 0 | E18: =월간수집!U26 -> 0 | F18: =월간수집!U35 -> 0 | G18: =월간수집!U40 -> 0 | H18: =월간수집!U53 -> 0 | I18: =월간수집!U64 -> 0 | J18: =월간수집!U83 -> 0 | K18: =월간수집!U90 -> 0 | L18: =월간수집!U100 -> 0 | M18: =월간수집!U120 -> 0 | N18: =월간수집!U153 -> 0
A19: 부산김해경전철 | B19: =SUM(C19:N19) -> 6 | C19: =월간수집!$V4 -> 0 | D19: =월간수집!V10 -> 3 | E19: =월간수집!V26 -> 0 | F19: =월간수집!V35 -> 1 | G19: =월간수집!V40 -> 0 | H19: =월간수집!V53 -> 0 | I19: =월간수집!V64 -> 0 | J19: =월간수집!V83 -> 0 | K19: =월간수집!V90 -> 0 | L19: =월간수집!V100 -> 0 | M19: =월간수집!V120 -> 0 | N19: =월간수집!V153 -> 2
A20: 용인경량전철 | B20: =SUM(C20:N20) -> 0 | C20: =월간수집!$W4 -> 0 | D20: =월간수집!W10 -> 0 | E20: =월간수집!W26 -> 0 | F20: =월간수집!W35 -> 0 | G20: =월간수집!W40 -> 0 | H20: =월간수집!W53 -> 0 | I20: =월간수집!W64 -> 0 | J20: =월간수집!W83 -> 0 | K20: =월간수집!W90 -> 0 | L20: =월간수집!W100 -> 0 | M20: =월간수집!W120 -> 0 | N20: =월간수집!W153 -> 0
A21: ㈜SR | B21: =SUM(C21:N21) -> 18 | C21: =월간수집!$X4 -> 0 | D21: =월간수집!X10 -> 11 | E21: =월간수집!X26 -> 5 | F21: =월간수집!X35 -> 1 | G21: =월간수집!X40 -> 0 | H21: =월간수집!X53 -> 0 | I21: =월간수집!X64 -> 0 | J21: =월간수집!X83 -> 0 | K21: =월간수집!X90 -> 0 | L21: =월간수집!X100 -> 0 | M21: =월간수집!X120 -> 0 | N21: =월간수집!X153 -> 1
A22: 네오트랜스 | B22: =SUM(C22:N22) -> 1 | C22: =월간수집!$Y4 -> 0 | D22: =월간수집!Y$10 -> 0 | E22: =월간수집!Y$26 -> 0 | F22: =월간수집!Y35 -> 1 | G22: =월간수집!Y40 -> 0 | H22: =월간수집!Y53 -> 0 | I22: =월간수집!Y64 -> 0 | J22: =월간수집!Y83 -> 0 | K22: =월간수집!Y90 -> 0 | L22: =월간수집!Y100 -> 0 | M22: =월간수집!Y120 -> 0 | N22: =월간수집!Y153 -> 0
A23: 김포골드라인㈜ | B23: =SUM(C23:N23) -> 3 | C23: =월간수집!$Z4 -> 0 | D23: =월간수집!Z10 -> 0 | E23: =월간수집!$Z$26 -> 0 | F23: =월간수집!$Z$35 -> 3 | G23: =월간수집!$Z$40 -> 0 | H23: =월간수집!$Z$53 -> 0 | I23: =월간수집!$Z$64 -> 0 | J23: =월간수집!$Z$83 -> 0 | K23: =월간수집!$Z$90 -> 0 | L23: =월간수집!$Z$100 -> 0 | M23: =월간수집!$Z$120 -> 0 | N23: =월간수집!$Z$153 -> 0
A24: 남서울경전철㈜ | B24: =SUM(C24:N24) -> 1 | C24: =월간수집!$AA4 -> 0 | D24: =월간수집!AA10 -> 0 | E24: =월간수집!$AA$26 -> 0 | F24: =월간수집!$AA$35 -> 1 | G24: =월간수집!$AA$40 -> 0 | H24: =월간수집!$AA$53 -> 0 | I24: =월간수집!$AA$64 -> 0 | J24: =월간수집!$AA$83 -> 0 | K24: =월간수집!$AA$90 -> 0 | L24: =월간수집!$AA$100 -> 0 | M24: =월간수집!$AA$120 -> 0 | N24: =월간수집!$AA$153 -> 0
A25: 새서울철도㈜ | B25: =SUM(C25:N25) -> 0 | C25: =월간수집!$AB4 -> 0 | D25: =월간수집!AB$10 -> 0 | E25: =월간수집!$AB$26 -> 0 | F25: =월간수집!$AB$35 -> 0 | G25: =월간수집!$AB$40 -> 0 | H25: =월간수집!$AB$53 -> 0 | I25: =월간수집!$AB$64 -> 0 | J25: =월간수집!$AB$83 -> 0 | K25: =월간수집!$AB$90 -> 0 | L25: =월간수집!$AB$100 -> 0 | M25: =월간수집!$AB$120 -> 0 | N25: =월간수집!$AB$153 -> 0
A26: 신분당선㈜ | B26: =SUM(C26:N26) -> 0 | C26: =월간수집!$AC4 -> 0 | D26: =월간수집!AC$10 -> 0 | E26: =월간수집!$AC$26 -> 0 | F26: =월간수집!$AC$35 -> 0 | G26: =월간수집!$AC$40 -> 0 | H26: =월간수집!$AC$53 -> 0 | I26: =월간수집!$AC$64 -> 0 | J26: =월간수집!$AC$83 -> 0 | K26: =월간수집!$AC$90 -> 0 | L26: =월간수집!$AC$100 -> 0 | M26: =월간수집!$AC$120 -> 0 | N26: =월간수집!$AC$153 -> 0
A27: 서해철도㈜ | B27: =SUM(C27:N27) -> 9 | C27: =월간수집!$AD4 -> 0 | D27: =월간수집!AD$10 -> 0 | E27: =월간수집!$AD$26 -> 2 | F27: =월간수집!$AD$35 -> 2 | G27: =월간수집!$AD$40 -> 0 | H27: =월간수집!$AD$53 -> 0 | I27: =월간수집!$AD$64 -> 0 | J27: =월간수집!$AD$83 -> 0 | K27: =월간수집!$AD$90 -> 0 | L27: =월간수집!$AD$100 -> 0 | M27: =월간수집!$AD$120 -> 0 | N27: =월간수집!$AD$153 -> 5
A28: 이레일㈜ | B28: =SUM(C28:N28) -> 0 | C28: =월간수집!$AE4 -> 0 | D28: =월간수집!AE$10 -> 0 | E28: =월간수집!$AE$26 -> 0 | F28: =월간수집!$AE$35 -> 0 | G28: =월간수집!$AE$40 -> 0 | H28: =월간수집!$AE$53 -> 0 | I28: =월간수집!$AE$64 -> 0 | J28: =월간수집!$AE$83 -> 0 | K28: =월간수집!$AE$90 -> 0 | L28: =월간수집!$AE$100 -> 0 | M28: =월간수집!$AE$120 -> 0 | N28: =월간수집!$AE$153 -> 0
A29: 우이신설경전철㈜ | B29: =SUM(C29:N29) -> 1 | C29: =월간수집!$AF4 -> 0 | D29: =월간수집!AF$10 -> 0 | E29: =월간수집!$AF$26 -> 0 | F29: =월간수집!$AF$35 -> 1 | G29: =월간수집!$AF$40 -> 0 | H29: =월간수집!$AF$53 -> 0 | I29: =월간수집!$AF$64 -> 0 | J29: =월간수집!$AF$83 -> 0 | K29: =월간수집!$AF$90 -> 0 | L29: =월간수집!$AF$100 -> 0 | M29: =월간수집!$AF$120 -> 0 | N29: =월간수집!$AF$153 -> 0
A30: 에스지레일㈜ | B30: =SUM(C30:N30) -> 0 | C30: =월간수집!$AG4 -> 0 | D30: =월간수집!AG$10 -> 0 | E30: =월간수집!$AG$26 -> 0 | F30: =월간수집!$AG$35 -> 0 | G30: =월간수집!$AG$40 -> 0 | H30: =월간수집!$AG$53 -> 0 | I30: =월간수집!$AG$64 -> 0 | J30: =월간수집!$AG$83 -> 0 | K30: =월간수집!$AG$90 -> 0 | L30: =월간수집!$AG$100 -> 0 | M30: =월간수집!$AG$120 -> 0 | N30: =월간수집!$AG$153 -> 0
A31: 지티엑스에이운영㈜ | B31: =SUM(C31:N31) -> 0 | C31: =월간수집!$AH4 -> 0 | D31: =월간수집!AH$10 -> 0 | E31: =월간수집!$AH$26 -> 0 | F31: =월간수집!$AH$35 -> 0 | G31: =월간수집!$AH$40 -> 0 | H31: =월간수집!$AH$53 -> 0 | I31: =월간수집!$AH$64 -> 0 | J31: =월간수집!$AH$83 -> 0 | K31: =월간수집!$AH$90 -> 0 | L31: =월간수집!$AH$100 -> 0 | M31: =월간수집!$AH$120 -> 0 | N31: =월간수집!$AH$153 -> 0
A32: KIND | B32: =SUM(C32:N32) -> 0 | C32: =월간수집!$AI4 -> 0 | D32: =월간수집!AI10 -> 0 | E32: =월간수집!AI$26 -> 0 | F32: =월간수집!AI35 -> 0 | G32: =월간수집!AI40 -> 0 | H32: =월간수집!AI53 -> 0 | I32: =월간수집!AI64 -> 0 | J32: =월간수집!AI83 -> 0 | K32: =월간수집!AI90 -> 0 | L32: =월간수집!AI100 -> 0 | M32: =월간수집!AI120 -> 0 | N32: =월간수집!AI153 -> 0
A33: 한국교통안전공단 | B33: =SUM(C33:N33) -> 1 | C33: =월간수집!$AJ4 -> 0 | D33: =월간수집!AJ10 -> 0 | E33: =월간수집!AJ26 -> 0 | F33: =월간수집!AJ35 -> 0 | G33: =월간수집!AJ40 -> 0 | H33: =월간수집!AJ53 -> 0 | I33: =월간수집!AJ64 -> 0 | J33: =월간수집!AJ83 -> 0 | K33: =월간수집!AJ90 -> 1 | L33: =월간수집!AJ100 -> 0 | M33: =월간수집!AJ120 -> 0 | N33: =월간수집!AJ153 -> 0
A34: 한국철도학회 | B34: =SUM(C34:N34) -> 3 | C34: =월간수집!$AK4 -> 0 | D34: =월간수집!AK10 -> 3 | E34: =월간수집!AK26 -> 0 | F34: =월간수집!AK35 -> 0 | G34: =월간수집!AK40 -> 0 | H34: =월간수집!AK53 -> 0 | I34: =월간수집!AK64 -> 0 | J34: =월간수집!AK83 -> 0 | K34: =월간수집!AK90 -> 0 | L34: =월간수집!AK100 -> 0 | M34: =월간수집!AK120 -> 0 | N34: =월간수집!AK153 -> 0
A35: 철도산업정보센터 | B35: =SUM(C35:N35) -> 202 | C35: =월간수집!$AL4 -> 29 | D35: =월간수집!AL10 -> 2 | E35: =월간수집!AL26 -> 0 | F35: =월간수집!AL35 -> 0 | G35: =월간수집!AL40 -> 0 | H35: =월간수집!AL53 -> 16 | I35: =월간수집!AL64 -> 0 | J35: =월간수집!AL83 -> 151 | K35: =월간수집!AL90 -> 0 | L35: =월간수집!AL100 -> 1 | M35: =월간수집!AL120 -> 3 | N35: =월간수집!AL153 -> 0
A36: 해외건설협회 | B36: =SUM(C36:N36) -> 33 | C36: =월간수집!$AM4 -> 0 | D36: =월간수집!AM10 -> 0 | E36: =월간수집!AM26 -> 0 | F36: =월간수집!AM35 -> 0 | G36: =월간수집!AM40 -> 2 | H36: =월간수집!AM53 -> 0 | I36: =월간수집!AM64 -> 0 | J36: =월간수집!AM83 -> 31 | K36: =월간수집!AM90 -> 0 | L36: =월간수집!AM100 -> 0 | M36: =월간수집!AM120 -> 0 | N36: =월간수집!AM153 -> 0
A37: 한국철도협회 | B37: =SUM(C37:N37) -> 18 | C37: =월간수집!$AN4 -> 0 | D37: =월간수집!AN10 -> 1 | E37: =월간수집!AN26 -> 0 | F37: =월간수집!AN35 -> 0 | G37: =월간수집!AN40 -> 17 | H37: =월간수집!AN53 -> 0 | I37: =월간수집!AN64 -> 0 | J37: =월간수집!AN83 -> 0 | K37: =월간수집!AN90 -> 0 | L37: =월간수집!AN100 -> 0 | M37: =월간수집!AN120 -> 0 | N37: =월간수집!AN153 -> 0
A38: 중소벤처기업부 | B38: =SUM(C38:N38) -> 2 | C38: =월간수집!$AO4 -> 0 | D38: =월간수집!AO10 -> 0 | E38: =월간수집!AO26 -> 0 | F38: =월간수집!AO35 -> 0 | G38: =월간수집!AO40 -> 0 | H38: =월간수집!AO53 -> 0 | I38: =월간수집!AO64 -> 0 | J38: =월간수집!AO83 -> 0 | K38: =월간수집!AO90 -> 0 | L38: =월간수집!AO100 -> 0 | M38: =월간수집!AO120 -> 0 | N38: =월간수집!AO153 -> 2
A39: 외교부 | B39: =SUM(C39:N39) -> 6 | C39: =월간수집!$AP4 -> 0 | D39: =월간수집!AP10 -> 0 | E39: =월간수집!AP26 -> 0 | F39: =월간수집!AP35 -> 0 | G39: =월간수집!AP40 -> 0 | H39: =월간수집!AP53 -> 0 | I39: =월간수집!AP64 -> 0 | J39: =월간수집!AP83 -> 6 | K39: =월간수집!AP90 -> 0 | L39: =월간수집!AP100 -> 0 | M39: =월간수집!AP120 -> 0 | N39: =월간수집!AP153 -> 0
A40: 철도경제신문 | B40: =SUM(C40:N40) -> 48 | C40: =월간수집!$AQ4 -> 0 | D40: =월간수집!AQ10 -> 41 | E40: =월간수집!AQ26 -> 0 | F40: =월간수집!AQ35 -> 0 | G40: =월간수집!AQ40 -> 0 | H40: =월간수집!AQ53 -> 0 | I40: =월간수집!AQ64 -> 0 | J40: =월간수집!AQ83 -> 7 | K40: =월간수집!AQ90 -> 0 | L40: =월간수집!AQ100 -> 0 | M40: =월간수집!AQ120 -> 0 | N40: =월간수집!AQ153 -> 0
...

Sheet 전월
A1: 콘텐츠 | E1: 계 | F1: 국토교통부 | G1: 국가철도공단 | H1: 한국철도공사 | I1: 한국철도 기술연구원 | J1: 공항철도 | K1: 서울교통공사(서울메트로) | L1: 대구 교통공사 | M1: 대전 교통공사 | N1: 광주 교통공사 | O1: 부산 교통공사 | P1: 인천 교통공사 | Q1: 서울교통공사(서울도철) | R1: 서울 교통공사 | S1: 서울시 메트로9호선 | T1: 서울9호선 운영 | U1: 의정부 경전철 | V1: 부산김해 경전철 | W1: 용인 경량전철 | X1: ㈜SR | Y1: 네오트랜스 | Z1: 김포 골드라인㈜ | AA1: 남서울 경전철㈜ | AB1: 새서울 철도㈜ | AC1: 신분당선㈜ | AD1: 서해철도㈜ | AE1: 이레일㈜ | AF1: 우이신설 경전철㈜ | AG1: 에스지레일㈜ | AH1: 지티엑스에이운영㈜ | AI1: KIND | AJ1: 한국교통 안전공단 | AK1: 한국철도학회 | AL1: 철도산업 정보센터 | AM1: 해외건설협회 | AN1: 한국철도산업협회 | AO1: 중소벤처 기업부 | AP1: 외교부 | AQ1: 철도경제 신문 | AR1: 철도신문 | AS1: 레일뉴스 | AT1: 국가법령 정보센터 | AU1: 한국산업 인력공단 | AV1: UIC | AW1: KOTRA | AX1: 관세청 | AY1: 전자관보 | AZ1: 철도박물관 | BA1: 국토교통과학 기술진흥원 | BB1: 한국관광공사 | BC1: TED | BD1: Railway- technology | BE1: Global Railway Review | BF1: Mass Transit | BG1: Railway Gazette | BH1: InnoTrans | BI1: 기타
E2: 387689 | F2: 2237 | G2: 37821 | H2: 34035 | I2: 5198 | J2: 1162 | K2: 448 | L2: 2542 | M2: 1689 | N2: 4163 | O2: 4620 | P2: 2976 | Q2: 535 | R2: 3924 | S2: 231 | T2: 5 | U2: 37 | V2: 227 | W2: 59 | X2: 1511 | Y2: 101 | Z2: 158 | AA2: 17 | AB2: 0 | AC2: 6 | AD2: 298 | AE2: 0 | AF2: 83 | AG2: 0 | AH2: 0 | AI2: 97 | AJ2: 2476 | AK2: 14429 | AL2: 24616 | AM2: 6584 | AN2: 730 | AO2: 5447 | AP2: 659 | AQ2: 3224 | AR2: 2374 | AS2: 8981 | AT2: 108 | AU2: 91 | AV2: 6000 | AW2: 1207 | AX2: 19131 | AY2: 1618 | AZ2: 135 | BA2: 77 | BB2: 418 | BC2: 52492 | BD2: 503 | BE2: 75 | BF2: 15 | BG2: 3671 | BH2: 2677 | BI2: 125771
A5: 철도소식 | B5: 철도뉴스 | E5: 30576 | F5: 1708 | G5: 3870 | H5: 3784 | I5: 638 | J5: 625 | K5: 234 | L5: 1273 | M5: 819 | N5: 1581 | O5: 1380 | P5: 1453 | Q5: 355 | R5: 994 | S5: 48 | U5: 16 | V5: 110 | W5: 33 | X5: 1137 | Y5: 21 | Z5: 13 | AA5: 5 | AC5: 3 | AD5: 17 | AF5: 10 | AJ5: 16 | AK5: 8 | AL5: 4 | AQ5: 2489 | AR5: 867 | AS5: 7052 | BI5: 13
B6: 철도칼럼 | E6: 1127 | AQ6: 456 | AR6: 516 | AS6: 110 | BI6: 45
B7: 행사일정 | E7: 5083 | F7: 11 | G7: 4 | H7: 1809 | I7: 40 | L7: 2 | O7: 8 | R7: 1 | AK7: 235 | AL7: 1 | AN7: 4 | AQ7: 1 | AV7: 4 | BD7: 2 | BE7: 4 | BG7: 234 | BI7: 2723
B8: 정보센터소식 | E8: 126 | BI8: 126
B9: 철도산업동향 | E9: 10 | AL9: 10
C10: 1 | D10: 36922 | E10: 36922 | F10: 1719 | G10: 3874 | H10: 5593 | I10: 678 | J10: 625 | K10: 234 | L10: 1275 | M10: 819 | N10: 1581 | O10: 1388 | P10: 1453 | Q10: 355 | R10: 995 | S10: 48 | T10: 0 | U10: 16 | V10: 110 | W10: 33 | X10: 1137 | Y10: 21 | Z10: 13 | AA10: 5 | AB10: 0 | AC10: 3 | AD10: 17 | AE10: 0 | AF10: 10 | AG10: 0 | AH10: 0 | AI10: 0 | AJ10: 16 | AK10: 243 | AL10: 15 | AM10: 0 | AN10: 4 | AO10: 0 | AP10: 0 | AQ10: 2946 | AR10: 1383 | AS10: 7162 | AT10: 0 | AU10: 0 | AV10: 4 | AW10: 0 | AX10: 0 | AY10: 0 | AZ10: 0 | BA10: 0 | BB10: 0 | BC10: 0 | BD10: 2 | BE10: 4 | BF10: 0 | BG10: 234 | BH10: 0 | BI10: 2907
A11: 전문자료 | B11: 기술자료 | E11: 48569 | F11: 30 | G11: 27624 | H11: 13159 | I11: 2021 | J11: 91 | K11: 0 | L11: 38 | M11: 28 | N11: 1719 | O11: 1540 | P11: 2 | Q11: 0 | R11: 13 | S11: 0 | T11: 1 | U11: 0 | V11: 1 | W11: 0 | AJ11: 9 | AK11: 1607 | AL11: 375 | AM11: 0 | AN11: 1 | AO11: 0 | AP11: 0 | AR11: 0 | AS11: 0 | AT11: 0 | AU11: 0 | AV11: 0 | BI11: 310
B12: 논문 | E12: 49999 | BI12: 49999
B13: 한국철도학회 논문 | E13: 12571 | AK13: 12571
B14: 연구보고서 | E14: 686 | G14: 297 | H14: 11 | I14: 364 | N14: 7 | O14: 5 | AL14: 2
B15: 안전/사고정보 | E15: 588 | AJ15: 588
B16: 관보 | E16: 1615 | AY16: 1615
B17: 건설기준 | E17: 1197 | G17: 1197
B18: 규정 | E18: 8686 | G18: 1010 | H18: 831 | I18: 345 | J18: 221 | L18: 883 | M18: 525 | N18: 613 | O18: 1075 | P18: 950 | R18: 1104 | U18: 13 | V18: 8 | X18: 235 | Y18: 2 | Z18: 113 | AA18: 4 | AD18: 239 | AF18: 2 | AJ18: 513
B19: 용어사전 | E19: 10631 | AL19: 10631
B20: 차량도감 | C20: 고속차량 | E20: 7 | H20: 1 | BI20: 6
C21: 기관차 | E21: 25 | BI21: 25
C22: 동차 | E22: 10 | BI22: 10
C23: 전동차 | E23: 47 | O23: 1 | BI23: 46
C24: 경전철 | E24: 10 | L24: 1 | P24: 2 | U24: 1 | V24: 1 | W24: 1 | AA24: 1 | BI24: 3
B25: 국내철도현황 | E25: 103 | H25: 10 | L25: 14 | M25: 9 | N25: 2 | O25: 17 | R25: 42 | AL25: 9
C26: 1 | D26: 134744 | E26: 134744 | F26: 30 | G26: 30128 | H26: 14012 | I26: 2730 | J26: 312 | K26: 0 | L26: 936 | M26: 562 | N26: 2341 | O26: 2638 | P26: 954 | Q26: 0 | R26: 1159 | S26: 0 | T26: 1 | U26: 14 | V26: 10 | W26: 1 | X26: 235 | Y26: 2 | Z26: 113 | AA26: 5 | AB26: 0 | AC26: 0 | AD26: 239 | AE26: 0 | AF26: 2 | AG26: 0 | AH26: 0 | AI26: 0 | AJ26: 1110 | AK26: 14178 | AL26: 11017 | AM26: 0 | AN26: 1 | AO26: 0 | AP26: 0 | AQ26: 0 | AR26: 0 | AS26: 0 | AT26: 0 | AU26: 0 | AV26: 0 | AW26: 0 | AX26: 0 | AY26: 1615 | AZ26: 0 | BA26: 0 | BB26: 0 | BC26: 0 | BD26: 0 | BE26: 0 | BF26: 0 | BG26: 0 | BH26: 0 | BI26: 50399
A27: 취업정보 | B27: 채용공고 | C27: 공공기관 | E27: 5366 | F27: 345 | G27: 129 | H27: 1271 | I27: 91 | J27: 62 | K27: 214 | L27: 141 | M27: 144 | N27: 135 | O27: 150 | P27: 295 | Q27: 179 | R27: 468 | S27: 90 | T27: 3 | U27: 5 | V27: 53 | W27: 24 | X27: 86 | Y27: 77 | Z27: 26 | AA27: 3 | AC27: 3 | AD27: 27 | AF27: 60 | AI27: 5 | AJ27: 1276 | AK27: 1 | AN27: 2 | BI27: 1
C28: 산업체 회원 | E28: 1 | BI28: 1
C29: 민간기업 | E29: 32 | BI29: 32
B30: 인재정보 | C30: 인재검색 | E30: 0 | BI30: 0
C31: 내이력 등록/수정 | E31: 0
B32: 직업정보 | E32: 52 | BI32: 52
B33: 합격수기 | E33: 92 | AL33: 88 | BI33: 4
B34: 철도관련기관 | E34: 18 | BI34: 18
C35: 1 | D35: 5561 | E35: 5561 | F35: 345 | G35: 129 | H35: 1271 | I35: 91 | J35: 62 | K35: 214 | L35: 141 | M35: 144 | N35: 135 | O35: 150 | P35: 295 | Q35: 179 | R35: 468 | S35: 90 | T35: 3 | U35: 5 | V35: 53 | W35: 24 | X35: 86 | Y35: 77 | Z35: 26 | AA35: 3 | AB35: 0 | AC35: 3 | AD35: 27 | AE35: 0 | AF35: 60 | AG35: 0 | AH35: 0 | AI35: 5 | AJ35: 1276 | AK35: 1 | AL35: 88 | AM35: 0 | AN35: 2 | AO35: 0 | AP35: 0 | AQ35: 0 | AR35: 0 | AS35: 0 | AT35: 0 | AU35: 0 | AV35: 0 | AW35: 0 | AX35: 0 | AY35: 0 | AZ35: 0 | BA35: 0 | BB35: 0 | BC35: 0 | BD35: 0 | BE35: 0 | BF35: 0 | BG35: 0 | BH35: 0 | BI35: 108
A36: 인재개발 | B36: 교육과정안내 | E36: 302 | AM36: 159 | AN36: 143
B37: 자격증정보 | E37: 101 | AJ37: 3 | AU37: 91 | BI37: 7
B38: 전자문제집 CBT | E38: 1 | BI38: 1
B39: 철도관련대학 | E39: 57 | BI39: 57
C40: FALSE | D40: 159 | E40: 461 | F40: 0 | G40: 0 | H40: 0 | I40: 0 | J40: 0 | K40: 0 | L40: 0 | M40: 0 | N40: 0 | O40: 0 | P40: 0 | Q40: 0 | R40: 0 | S40: 0 | T40: 0 | U40: 0 | V40: 0 | W40: 0 | X40: 0 | Y40: 0 | Z40: 0 | AA40: 0 | AB40: 0 | AC40: 0 | AD40: 0 | AE40: 0 | AF40: 0 | AG40: 0 | AH40: 0 | AI40: 0 | AJ40: 3 | AK40: 0 | AL40: 0 | AM40: 159 | AN40: 143 | AO40: 0 | AP40: 0 | AQ40: 0 | AR40: 0 | AS40: 0 | AT40: 0 | AU40: 91 | AV40: 0 | AW40: 0 | AX40: 0 | AY40: 0 | AZ40: 0 | BA40: 0 | BB40: 0 | BC40: 0 | BD40: 0 | BE40: 0 | BF40: 0 | BG40: 0 | BH40: 0 | BI40: 65
A41: 레일광장 | B41: 철도여행 | E41: 2204 | H41: 171 | J41: 1 | AR41: 147 | AS41: 322 | BB41: 418 | BI41: 1145
B42: 철도사진 | E42: 9632 | G42: 11 | H42: 94 | AR42: 728 | BI42: 8799
...

Sheet 금월
A1: 콘텐츠 | E1: 계 | F1: 국토교통부 | G1: 국가철도공단 | H1: 한국철도공사 | I1: 한국철도 기술연구원 | J1: 공항철도 | K1: 서울교통공사(서울메트로) | L1: 대구 교통공사 | M1: 대전 교통공사 | N1: 광주 교통공사 | O1: 부산 교통공사 | P1: 인천 교통공사 | Q1: 서울교통공사(서울도철) | R1: 서울 교통공사 | S1: 서울시 메트로9호선 | T1: 서울9호선 운영 | U1: 의정부 경전철 | V1: 부산김해 경전철 | W1: 용인 경량전철 | X1: ㈜SR | Y1: 네오트랜스 | Z1: 김포 골드라인㈜ | AA1: 남서울 경전철㈜ | AB1: 새서울 철도㈜ | AC1: 신분당선㈜ | AD1: 서해철도㈜ | AE1: 이레일㈜ | AF1: 우이신설 경전철㈜ | AG1: 에스지레일㈜ | AH1: 지티엑스에이운영㈜ | AI1: KIND | AJ1: 한국교통 안전공단 | AK1: 한국철도학회 | AL1: 철도산업 정보센터 | AM1: 해외건설협회 | AN1: 한국철도산업협회 | AO1: 중소벤처 기업부 | AP1: 외교부 | AQ1: 철도경제 신문 | AR1: 철도신문 | AS1: 레일뉴스 | AT1: 국가법령 정보센터 | AU1: 한국산업 인력공단 | AV1: UIC | AW1: KOTRA | AX1: 관세청 | AY1: 전자관보 | AZ1: 철도박물관 | BA1: 국토교통과학 기술진흥원 | BB1: 한국관광공사 | BC1: TED | BD1: Railway- technology | BE1: Global Railway Review | BF1: Mass Transit | BG1: Railway Gazette | BH1: InnoTrans | BI1: 기타
E2: 392174 | F2: 2259 | G2: 37874 | H2: 34368 | I2: 5217 | J2: 1172 | K2: 448 | L2: 2540 | M2: 1702 | N2: 4166 | O2: 4615 | P2: 2999 | Q2: 535 | R2: 3928 | S2: 226 | T2: 5 | U2: 37 | V2: 233 | W2: 59 | X2: 1529 | Y2: 102 | Z2: 161 | AA2: 18 | AB2: 0 | AC2: 6 | AD2: 307 | AE2: 0 | AF2: 84 | AG2: 0 | AH2: 0 | AI2: 97 | AJ2: 2477 | AK2: 14432 | AL2: 24818 | AM2: 6617 | AN2: 748 | AO2: 5449 | AP2: 665 | AQ2: 3272 | AR2: 2374 | AS2: 8978 | AT2: 108 | AU2: 91 | AV2: 6000 | AW2: 1211 | AX2: 19273 | AY2: 1625 | AZ2: 135 | BA2: 77 | BB2: 418 | BC2: 53101 | BD2: 503 | BE2: 75 | BF2: 15 | BG2: 3671 | BH2: 2677 | BI2: 128677
A3: 철도미디어 | B3: 철도미디어 | E3: 29 | AL3: 29
C4: FALSE | D4: 0 | E4: 29 | F4: 0 | G4: 0 | H4: 0 | I4: 0 | J4: 0 | K4: 0 | L4: 0 | M4: 0 | N4: 0 | O4: 0 | P4: 0 | Q4: 0 | R4: 0 | S4: 0 | T4: 0 | U4: 0 | V4: 0 | W4: 0 | X4: 0 | Y4: 0 | Z4: 0 | AA4: 0 | AB4: 0 | AC4: 0 | AD4: 0 | AE4: 0 | AF4: 0 | AG4: 0 | AH4: 0 | AI4: 0 | AJ4: 0 | AK4: 0 | AL4: 29 | AM4: 0 | AN4: 0 | AO4: 0 | AP4: 0 | AQ4: 0 | AR4: 0 | AS4: 0 | AT4: 0 | AU4: 0 | AV4: 0 | AW4: 0 | AX4: 0 | AY4: 0 | AZ4: 0 | BA4: 0 | BB4: 0 | BC4: 0 | BD4: 0 | BE4: 0 | BF4: 0 | BG4: 0 | BH4: 0 | BI4: 0
A5: 철도소식 | B5: 철도뉴스 | E5: 30754 | F5: 1724 | G5: 3887 | H5: 3804 | I5: 646 | J5: 629 | K5: 234 | L5: 1273 | M5: 826 | N5: 1591 | O5: 1389 | P5: 1470 | Q5: 355 | R5: 1006 | S5: 52 | U5: 16 | V5: 113 | W5: 33 | X5: 1148 | Y5: 21 | Z5: 13 | AA5: 5 | AC5: 3 | AD5: 17 | AF5: 10 | AJ5: 16 | AK5: 8 | AL5: 6 | AQ5: 2527 | AR5: 867 | AS5: 7052 | BI5: 13
B6: 철도칼럼 | E6: 1130 | AQ6: 459 | AR6: 516 | AS6: 110 | BI6: 45
B7: 행사일정 | E7: 5093 | F7: 11 | G7: 4 | H7: 1809 | I7: 40 | L7: 2 | O7: 8 | R7: 1 | AK7: 238 | AL7: 1 | AN7: 5 | AQ7: 1 | AV7: 4 | BD7: 2 | BE7: 4 | BG7: 234 | BI7: 2729
B8: 정보센터소식 | E8: 126 | BI8: 126
B9: 철도산업동향 | E9: 10 | AL9: 10
C10: 1 | D10: 37113 | E10: 37113 | F10: 1735 | G10: 3891 | H10: 5613 | I10: 686 | J10: 629 | K10: 234 | L10: 1275 | M10: 826 | N10: 1591 | O10: 1397 | P10: 1470 | Q10: 355 | R10: 1007 | S10: 52 | T10: 0 | U10: 16 | V10: 113 | W10: 33 | X10: 1148 | Y10: 21 | Z10: 13 | AA10: 5 | AB10: 0 | AC10: 3 | AD10: 17 | AE10: 0 | AF10: 10 | AG10: 0 | AH10: 0 | AI10: 0 | AJ10: 16 | AK10: 246 | AL10: 17 | AM10: 0 | AN10: 5 | AO10: 0 | AP10: 0 | AQ10: 2987 | AR10: 1383 | AS10: 7162 | AT10: 0 | AU10: 0 | AV10: 4 | AW10: 0 | AX10: 0 | AY10: 0 | AZ10: 0 | BA10: 0 | BB10: 0 | BC10: 0 | BD10: 2 | BE10: 4 | BF10: 0 | BG10: 234 | BH10: 0 | BI10: 2913
A11: 전문자료 | B11: 기술자료 | E11: 48569 | F11: 30 | G11: 27624 | H11: 13159 | I11: 2021 | J11: 91 | K11: 0 | L11: 38 | M11: 28 | N11: 1719 | O11: 1540 | P11: 2 | Q11: 0 | R11: 13 | S11: 0 | T11: 1 | U11: 0 | V11: 1 | W11: 0 | AJ11: 9 | AK11: 1607 | AL11: 375 | AM11: 0 | AN11: 1 | AO11: 0 | AP11: 0 | AR11: 0 | AS11: 0 | AT11: 0 | AU11: 0 | AV11: 0 | BI11: 310
B12: 논문 | E12: 49999 | BI12: 49999
B13: 한국철도학회 논문 | E13: 12571 | AK13: 12571
B14: 연구보고서 | E14: 686 | G14: 297 | H14: 11 | I14: 364 | N14: 7 | O14: 5 | AL14: 2
B15: 안전/사고정보 | E15: 588 | AJ15: 588
B16: 관보 | E16: 1622 | AY16: 1622
B17: 건설기준 | E17: 1203 | G17: 1203
B18: 규정 | E18: 8713 | G18: 1010 | H18: 836 | I18: 345 | J18: 221 | L18: 883 | M18: 526 | N18: 613 | O18: 1075 | P18: 956 | R18: 1112 | U18: 13 | V18: 8 | X18: 240 | Y18: 2 | Z18: 113 | AA18: 4 | AD18: 241 | AF18: 2 | AJ18: 513
B19: 용어사전 | E19: 10631 | AL19: 10631
B20: 차량도감 | C20: 고속차량 | E20: 7 | H20: 1 | BI20: 6
C21: 기관차 | E21: 25 | BI21: 25
C22: 동차 | E22: 10 | BI22: 10
C23: 전동차 | E23: 47 | O23: 1 | BI23: 46
C24: 경전철 | E24: 10 | L24: 1 | P24: 2 | U24: 1 | V24: 1 | W24: 1 | AA24: 1 | BI24: 3
B25: 국내철도현황 | E25: 104 | H25: 10 | L25: 15 | M25: 9 | N25: 2 | O25: 17 | R25: 42 | AL25: 9
C26: 1 | D26: 134785 | E26: 134785 | F26: 30 | G26: 30134 | H26: 14017 | I26: 2730 | J26: 312 | K26: 0 | L26: 937 | M26: 563 | N26: 2341 | O26: 2638 | P26: 960 | Q26: 0 | R26: 1167 | S26: 0 | T26: 1 | U26: 14 | V26: 10 | W26: 1 | X26: 240 | Y26: 2 | Z26: 113 | AA26: 5 | AB26: 0 | AC26: 0 | AD26: 241 | AE26: 0 | AF26: 2 | AG26: 0 | AH26: 0 | AI26: 0 | AJ26: 1110 | AK26: 14178 | AL26: 11017 | AM26: 0 | AN26: 1 | AO26: 0 | AP26: 0 | AQ26: 0 | AR26: 0 | AS26: 0 | AT26: 0 | AU26: 0 | AV26: 0 | AW26: 0 | AX26: 0 | AY26: 1622 | AZ26: 0 | BA26: 0 | BB26: 0 | BC26: 0 | BD26: 0 | BE26: 0 | BF26: 0 | BG26: 0 | BH26: 0 | BI26: 50399
A27: 취업정보 | B27: 채용공고 | C27: 공공기관 | E27: 5395 | F27: 351 | G27: 129 | H27: 1273 | I27: 91 | J27: 62 | K27: 214 | L27: 141 | M27: 144 | N27: 135 | O27: 151 | P27: 295 | Q27: 179 | R27: 474 | S27: 92 | T27: 3 | U27: 5 | V27: 54 | W27: 24 | X27: 87 | Y27: 78 | Z27: 29 | AA27: 4 | AC27: 3 | AD27: 29 | AF27: 61 | AI27: 5 | AJ27: 1276 | AK27: 1 | AN27: 2 | BI27: 3
C28: 산업체 회원 | E28: 1 | BI28: 1
C29: 민간기업 | E29: 13 | BI29: 13
B30: 인재정보 | C30: 인재검색 | E30: 0 | BI30: 0
C31: 내이력 등록/수정 | E31: 0
B32: 직업정보 | E32: 52 | BI32: 52
B33: 합격수기 | E33: 92 | AL33: 88 | BI33: 4
B34: 철도관련기관 | E34: 18 | BI34: 18
C35: 1 | D35: 5571 | E35: 5571 | F35: 351 | G35: 129 | H35: 1273 | I35: 91 | J35: 62 | K35: 214 | L35: 141 | M35: 144 | N35: 135 | O35: 151 | P35: 295 | Q35: 179 | R35: 474 | S35: 92 | T35: 3 | U35: 5 | V35: 54 | W35: 24 | X35: 87 | Y35: 78 | Z35: 29 | AA35: 4 | AB35: 0 | AC35: 3 | AD35: 29 | AE35: 0 | AF35: 61 | AG35: 0 | AH35: 0 | AI35: 5 | AJ35: 1276 | AK35: 1 | AL35: 88 | AM35: 0 | AN35: 2 | AO35: 0 | AP35: 0 | AQ35: 0 | AR35: 0 | AS35: 0 | AT35: 0 | AU35: 0 | AV35: 0 | AW35: 0 | AX35: 0 | AY35: 0 | AZ35: 0 | BA35: 0 | BB35: 0 | BC35: 0 | BD35: 0 | BE35: 0 | BF35: 0 | BG35: 0 | BH35: 0 | BI35: 91
A36: 인재개발 | B36: 교육과정안내 | E36: 321 | AM36: 161 | AN36: 160
B37: 자격증정보 | E37: 101 | AJ37: 3 | AU37: 91 | BI37: 7
B38: 전자문제집 CBT | E38: 1 | BI38: 1
B39: 철도관련대학 | E39: 57 | BI39: 57
C40: 1 | D40: 480 | E40: 480 | F40: 0 | G40: 0 | H40: 0 | I40: 0 | J40: 0 | K40: 0 | L40: 0 | M40: 0 | N40: 0 | O40: 0 | P40: 0 | Q40: 0 | R40: 0 | S40: 0 | T40: 0 | U40: 0 | V40: 0 | W40: 0 | X40: 0 | Y40: 0 | Z40: 0 | AA40: 0 | AB40: 0 | AC40: 0 | AD40: 0 | AE40: 0 | AF40: 0 | AG40: 0 | AH40: 0 | AI40: 0 | AJ40: 3 | AK40: 0 | AL40: 0 | AM40: 161 | AN40: 160 | AO40: 0 | AP40: 0 | AQ40: 0 | AR40: 0 | AS40: 0 | AT40: 0 | AU40: 91 | AV40: 0 | AW40: 0 | AX40: 0 | AY40: 0 | AZ40: 0 | BA40: 0 | BB40: 0 | BC40: 0 | BD40: 0 | BE40: 0 | BF40: 0 | BG40: 0 | BH40: 0 | BI40: 65
...

Sheet 월간수집
A1: 콘텐츠 | E1: 계 | F1: 국토교통부 | G1: 국가철도공단 | H1: 한국철도공사 | I1: 한국철도 기술연구원 | J1: 공항철도 | K1: 서울메트로 | L1: 대구 교통공사 | M1: 대전 교통공사 | N1: 광주도시 철도공사 | O1: 부산 교통공사 | P1: 인천 교통공사 | Q1: 서울도시 철도공사 | R1: 서울 교통공사 | S1: 서울시 메트로9호선 | T1: 서울9호선 운영 | U1: 의정부 경전철 | V1: 부산김해 경전철 | W1: 용인 경량전철 | X1: ㈜SR | Y1: 네오트랜스 | Z1: 김포 골드라인㈜ | AA1: 남서울 경전철㈜ | AB1: 새서울 철도㈜ | AC1: 신분당선㈜ | AD1: 서해철도㈜ | AE1: 이레일㈜ | AF1: 우이신설 경전철㈜ | AG1: 에스지레일㈜ | AH1: 지티엑스에이운영㈜ | AI1: KIND | AJ1: 한국교통 안전공단 | AK1: 한국철도학회 | AL1: 철도산업 정보센터 | AM1: 해외건설협회 | AN1: 한국철도협회 | AO1: 중소벤처 기업부 | AP1: 외교부 | AQ1: 철도경제 신문 | AR1: 철도신문 | AS1: 레일뉴스 | AT1: 국가법령 정보센터 | AU1: 한국산업 인력공단 | AV1: UIC | AW1: KOTRA | AX1: 관세청 | AY1: 전자관보 | AZ1: 철도박물관 | BA1: 국토교통과학 기술진흥원 | BB1: 한국관광공사 | BC1: TED | BD1: Railway- technology | BE1: Global Railway Review | BF1: Mass Transit | BG1: Railway Gazette | BH1: InnoTrans | BI1: 기타
E2: =SUM(E4,E10,E26,E35,E40,E53,E64,E83,E90,E100,E120,E153) -> 4485 | F2: =SUM(F4,F10,F26,F35,F40,F53,F64,F83,F90,F100,F120,F153) -> 22 | G2: =SUM(G4,G10,G26,G35,G40,G53,G64,G83,G90,G100,G120,G153) -> 53 | H2: =SUM(H4,H10,H26,H35,H40,H53,H64,H83,H90,H100,H120,H153) -> 333 | I2: =SUM(I4,I10,I26,I35,I40,I53,I64,I83,I90,I100,I120,I153) -> 19 | J2: =SUM(J4,J10,J26,J35,J40,J53,J64,J83,J90,J100,J120,J153) -> 10 | K2: =SUM(K4,K10,K26,K35,K40,K53,K64,K83,K90,K100,K120,K153) -> 0 | L2: =SUM(L4,L10,L26,L35,L40,L53,L64,L83,L90,L100,L120,L153) -> -2 | ... BI2: =SUM(BI4,BI10,BI26,BI35,BI40,BI53,BI64,BI83,BI90,BI100,BI120,BI153) -> 2906
A3: 철도미디어 | B3: 철도미디어 | E3: =SUM(F3:BI3) -> 29 | F3: =금월!F3-전월!F3 -> 0 | G3: =금월!G3-전월!G3 -> 0 | H3: =금월!H3-전월!H3 -> 0 | I3: =금월!I3-전월!I3 -> 0 | J3: =금월!J3-전월!J3 -> 0 | K3: =금월!K3-전월!K3 -> 0 | L3: =금월!L3-전월!L3 -> 0 | M3: =금월!M3-전월!M3 -> 0 | ... BI3: =금월!BI3-전월!BI3 -> 0
E4: =SUM(F4:BI4) -> 29 | F4: =SUM(F3) -> 0 | G4: =SUM(G3) -> 0 | H4: =SUM(H3) -> 0 | I4: =SUM(I3) -> 0 | J4: =SUM(J3) -> 0 | K4: =SUM(K3) -> 0 | L4: =SUM(L3) -> 0 | M4: =SUM(M3) -> 0 | ... BI4: =SUM(BI3) -> 0
A5: 철도소식 | B5: 철도뉴스 | E5: =SUM(F5:BI5) -> 178 | F5: =금월!F5-전월!F5 -> 16 | G5: =금월!G5-전월!G5 -> 17 | H5: =금월!H5-전월!H5 -> 20 | I5: =금월!I5-전월!I5 -> 8 | J5: =금월!J5-전월!J5 -> 4 | K5: =금월!K5-전월!K5 -> 0 | L5: =금월!L5-전월!L5 -> 0 | M5: =금월!M5-전월!M5 -> 7 | ... BI5: =금월!BI5-전월!BI5 -> 0
B6: 철도칼럼 | E6: =SUM(F6:BI6) -> 3 | F6: =금월!F6-전월!F6 -> 0 | G6: =금월!G6-전월!G6 -> 0 | H6: =금월!H6-전월!H6 -> 0 | I6: =금월!I6-전월!I6 -> 0 | J6: =금월!J6-전월!J6 -> 0 | K6: =금월!K6-전월!K6 -> 0 | L6: =금월!L6-전월!L6 -> 0 | M6: =금월!M6-전월!M6 -> 0 | ... BI6: =금월!BI6-전월!BI6 -> 0
B7: 행사일정 | E7: =SUM(F7:BI7) -> 10 | F7: =금월!F7-전월!F7 -> 0 | G7: =금월!G7-전월!G7 -> 0 | H7: =금월!H7-전월!H7 -> 0 | I7: =금월!I7-전월!I7 -> 0 | J7: =금월!J7-전월!J7 -> 0 | K7: =금월!K7-전월!K7 -> 0 | L7: =금월!L7-전월!L7 -> 0 | M7: =금월!M7-전월!M7 -> 0 | ... BI7: =금월!BI7-전월!BI7 -> 6
B8: 정보센터소식 | E8: =SUM(F8:BI8) -> 0 | F8: =금월!F8-전월!F8 -> 0 | G8: =금월!G8-전월!G8 -> 0 | H8: =금월!H8-전월!H8 -> 0 | I8: =금월!I8-전월!I8 -> 0 | J8: =금월!J8-전월!J8 -> 0 | K8: =금월!K8-전월!K8 -> 0 | L8: =금월!L8-전월!L8 -> 0 | M8: =금월!M8-전월!M8 -> 0 | ... BI8: =금월!BI8-전월!BI8 -> 0
B9: 철도산업동향 | E9: =SUM(F9:BI9) -> 0 | F9: =금월!F9-전월!F9 -> 0 | G9: =금월!G9-전월!G9 -> 0 | H9: =금월!H9-전월!H9 -> 0 | I9: =금월!I9-전월!I9 -> 0 | J9: =금월!J9-전월!J9 -> 0 | K9: =금월!K9-전월!K9 -> 0 | L9: =금월!L9-전월!L9 -> 0 | M9: =금월!M9-전월!M9 -> 0 | ... BI9: =금월!BI9-전월!BI9 -> 0
C10: =IF(E10=D10,1) -> 1 | D10: =SUM(E5:E8) -> 191 | E10: =SUM(F10:BI10) -> 191 | F10: =SUM(F5:F9) -> 16 | G10: =SUM(G5:G9) -> 17 | H10: =SUM(H5:H9) -> 20 | I10: =SUM(I5:I9) -> 8 | J10: =SUM(J5:J9) -> 4 | K10: =SUM(K5:K9) -> 0 | L10: =SUM(L5:L9) -> 0 | M10: =SUM(M5:M9) -> 7 | ... BI10: =SUM(BI5:BI9) -> 6
A11: 전문자료 | B11: 기술자료 | E11: =SUM(F11:BI11) -> 0 | F11: =금월!F11-전월!F11 -> 0 | G11: =금월!G11-전월!G11 -> 0 | H11: =금월!H11-전월!H11 -> 0 | I11: =금월!I11-전월!I11 -> 0 | J11: =금월!J11-전월!J11 -> 0 | K11: =금월!K11-전월!K11 -> 0 | L11: =금월!L11-전월!L11 -> 0 | M11: =금월!M11-전월!M11 -> 0 | ... BI11: =금월!BI11-전월!BI11 -> 0
B12: 논문 | E12: =SUM(F12:BI12) -> 0 | F12: =금월!F12-전월!F12 -> 0 | G12: =금월!G12-전월!G12 -> 0 | H12: =금월!H12-전월!H12 -> 0 | I12: =금월!I12-전월!I12 -> 0 | J12: =금월!J12-전월!J12 -> 0 | K12: =금월!K12-전월!K12 -> 0 | L12: =금월!L12-전월!L12 -> 0 | M12: =금월!M12-전월!M12 -> 0 | ... BI12: =금월!BI12-전월!BI12 -> 0
B13: 한국철도학회 논문 | E13: =SUM(F13:BI13) -> 0 | F13: =금월!F13-전월!F13 -> 0 | G13: =금월!G13-전월!G13 -> 0 | H13: =금월!H13-전월!H13 -> 0 | I13: =금월!I13-전월!I13 -> 0 | J13: =금월!J13-전월!J13 -> 0 | K13: =금월!K13-전월!K13 -> 0 | L13: =금월!L13-전월!L13 -> 0 | M13: =금월!M13-전월!M13 -> 0 | ... BI13: =금월!BI13-전월!BI13 -> 0
B14: 연구보고서 | E14: =SUM(F14:BI14) -> 0 | F14: =금월!F14-전월!F14 -> 0 | G14: =금월!G14-전월!G14 -> 0 | H14: =금월!H14-전월!H14 -> 0 | I14: =금월!I14-전월!I14 -> 0 | J14: =금월!J14-전월!J14 -> 0 | K14: =금월!K14-전월!K14 -> 0 | L14: =금월!L14-전월!L14 -> 0 | M14: =금월!M14-전월!M14 -> 0 | ... BI14: =금월!BI14-전월!BI14 -> 0
B15: 안전/사고정보 | E15: =SUM(F15:BI15) -> 0 | F15: =금월!F15-전월!F15 -> 0 | G15: =금월!G15-전월!G15 -> 0 | H15: =금월!H15-전월!H15 -> 0 | I15: =금월!I15-전월!I15 -> 0 | J15: =금월!J15-전월!J15 -> 0 | K15: =금월!K15-전월!K15 -> 0 | L15: =금월!L15-전월!L15 -> 0 | M15: =금월!M15-전월!M15 -> 0 | ... BI15: =금월!BI15-전월!BI15 -> 0
B16: 관보 | E16: =SUM(F16:BI16) -> 7 | F16: =금월!F16-전월!F16 -> 0 | G16: =금월!G16-전월!G16 -> 0 | H16: =금월!H16-전월!H16 -> 0 | I16: =금월!I16-전월!I16 -> 0 | J16: =금월!J16-전월!J16 -> 0 | K16: =금월!K16-전월!K16 -> 0 | L16: =금월!L16-전월!L16 -> 0 | M16: =금월!M16-전월!M16 -> 0 | ... BI16: =금월!BI16-전월!BI16 -> 0
B17: 건설기준 | E17: =SUM(F17:BI17) -> 6 | F17: =금월!F17-전월!F17 -> 0 | G17: =금월!G17-전월!G17 -> 6 | H17: =금월!H17-전월!H17 -> 0 | I17: =금월!I17-전월!I17 -> 0 | J17: =금월!J17-전월!J17 -> 0 | K17: =금월!K17-전월!K17 -> 0 | L17: =금월!L17-전월!L17 -> 0 | M17: =금월!M17-전월!M17 -> 0 | ... BI17: =금월!BI17-전월!BI17 -> 0
B18: 규정 | E18: =SUM(F18:BI18) -> 27 | F18: =금월!F18-전월!F18 -> 0 | G18: =금월!G18-전월!G18 -> 0 | H18: =금월!H18-전월!H18 -> 5 | I18: =금월!I18-전월!I18 -> 0 | J18: =금월!J18-전월!J18 -> 0 | K18: =금월!K18-전월!K18 -> 0 | L18: =금월!L18-전월!L18 -> 0 | M18: =금월!M18-전월!M18 -> 1 | ... BI18: =금월!BI18-전월!BI18 -> 0
B19: 용어사전 | E19: =SUM(F19:BI19) -> 0 | F19: =금월!F19-전월!F19 -> 0 | G19: =금월!G19-전월!G19 -> 0 | H19: =금월!H19-전월!H19 -> 0 | I19: =금월!I19-전월!I19 -> 0 | J19: =금월!J19-전월!J19 -> 0 | K19: =금월!K19-전월!K19 -> 0 | L19: =금월!L19-전월!L19 -> 0 | M19: =금월!M19-전월!M19 -> 0 | ... BI19: =금월!BI19-전월!BI19 -> 0
B20: 차량도감 | C20: 고속차량 | E20: =SUM(F20:BI20) -> 0 | F20: =금월!F20-전월!F20 -> 0 | G20: =금월!G20-전월!G20 -> 0 | H20: =금월!H20-전월!H20 -> 0 | I20: =금월!I20-전월!I20 -> 0 | J20: =금월!J20-전월!J20 -> 0 | K20: =금월!K20-전월!K20 -> 0 | L20: =금월!L20-전월!L20 -> 0 | M20: =금월!M20-전월!M20 -> 0 | ... BI20: =금월!BI20-전월!BI20 -> 0
C21: 기관차 | E21: =SUM(F21:BI21) -> 0 | F21: =금월!F21-전월!F21 -> 0 | G21: =금월!G21-전월!G21 -> 0 | H21: =금월!H21-전월!H21 -> 0 | I21: =금월!I21-전월!I21 -> 0 | J21: =금월!J21-전월!J21 -> 0 | K21: =금월!K21-전월!K21 -> 0 | L21: =금월!L21-전월!L21 -> 0 | M21: =금월!M21-전월!M21 -> 0 | ... BI21: =금월!BI21-전월!BI21 -> 0
C22: 동차 | E22: =SUM(F22:BI22) -> 0 | F22: =금월!F22-전월!F22 -> 0 | G22: =금월!G22-전월!G22 -> 0 | H22: =금월!H22-전월!H22 -> 0 | I22: =금월!I22-전월!I22 -> 0 | J22: =금월!J22-전월!J22 -> 0 | K22: =금월!K22-전월!K22 -> 0 | L22: =금월!L22-전월!L22 -> 0 | M22: =금월!M22-전월!M22 -> 0 | ... BI22: =금월!BI22-전월!BI22 -> 0
C23: 전동차 | E23: =SUM(F23:BI23) -> 0 | F23: =금월!F23-전월!F23 -> 0 | G23: =금월!G23-전월!G23 -> 0 | H23: =금월!H23-전월!H23 -> 0 | I23: =금월!I23-전월!I23 -> 0 | J23: =금월!J23-전월!J23 -> 0 | K23: =금월!K23-전월!K23 -> 0 | L23: =금월!L23-전월!L23 -> 0 | M23: =금월!M23-전월!M23 -> 0 | ... BI23: =금월!BI23-전월!BI23 -> 0
C24: 경전철 | E24: =SUM(F24:BI24) -> 0 | F24: =금월!F24-전월!F24 -> 0 | G24: =금월!G24-전월!G24 -> 0 | H24: =금월!H24-전월!H24 -> 0 | I24: =금월!I24-전월!I24 -> 0 | J24: =금월!J24-전월!J24 -> 0 | K24: =금월!K24-전월!K24 -> 0 | L24: =금월!L24-전월!L24 -> 0 | M24: =금월!M24-전월!M24 -> 0 | ... BI24: =금월!BI24-전월!BI24 -> 0
B25: 국내철도현황 | E25: =SUM(F25:BI25) -> 1 | F25: =금월!F25-전월!F25 -> 0 | G25: =금월!G25-전월!G25 -> 0 | H25: =금월!H25-전월!H25 -> 0 | I25: =금월!I25-전월!I25 -> 0 | J25: =금월!J25-전월!J25 -> 0 | K25: =금월!K25-전월!K25 -> 0 | L25: =금월!L25-전월!L25 -> 1 | M25: =금월!M25-전월!M25 -> 0 | ... BI25: =금월!BI25-전월!BI25 -> 0
C26: =IF(E26=D26,1) -> 1 | D26: =SUM(E11:E25) -> 41 | E26: =SUM(F26:BI26) -> 41 | F26: =SUM(F11:F25) -> 0 | G26: =SUM(G11:G25) -> 6 | H26: =SUM(H11:H25) -> 5 | I26: =SUM(I11:I25) -> 0 | J26: =SUM(J11:J25) -> 0 | K26: =SUM(K11:K25) -> 0 | L26: =SUM(L11:L25) -> 1 | M26: =SUM(M11:M25) -> 1 | ... BI26: =SUM(BI11:BI25) -> 0
A27: 취업정보 | B27: 채용공고 | C27: 공공기관 | E27: =SUM(F27:BI27) -> 29 | F27: =금월!F27-전월!F27 -> 6 | G27: =금월!G27-전월!G27 -> 0 | H27: =금월!H27-전월!H27 -> 2 | I27: =금월!I27-전월!I27 -> 0 | J27: =금월!J27-전월!J27 -> 0 | K27: =금월!K27-전월!K27 -> 0 | L27: =금월!L27-전월!L27 -> 0 | M27: =금월!M27-전월!M27 -> 0 | ... BI27: =금월!BI27-전월!BI27 -> 2
C28: 산업체 회원 | E28: =SUM(F28:BI28) -> 0 | F28: =금월!F28-전월!F28 -> 0 | G28: =금월!G28-전월!G28 -> 0 | H28: =금월!H28-전월!H28 -> 0 | I28: =금월!I28-전월!I28 -> 0 | J28: =금월!J28-전월!J28 -> 0 | K28: =금월!K28-전월!K28 -> 0 | L28: =금월!L28-전월!L28 -> 0 | M28: =금월!M28-전월!M28 -> 0 | ... BI28: =금월!BI28-전월!BI28 -> 0
C29: 민간기업 | E29: =SUM(F29:BI29) -> -19 | F29: =금월!F29-전월!F29 -> 0 | G29: =금월!G29-전월!G29 -> 0 | H29: =금월!H29-전월!H29 -> 0 | I29: =금월!I29-전월!I29 -> 0 | J29: =금월!J29-전월!J29 -> 0 | K29: =금월!K29-전월!K29 -> 0 | L29: =금월!L29-전월!L29 -> 0 | M29: =금월!M29-전월!M29 -> 0 | ... BI29: =금월!BI29-전월!BI29 -> -19
B30: 인재정보 | C30: 인재검색 | E30: =SUM(F30:BI30) -> 0 | F30: =금월!F30-전월!F30 -> 0 | G30: =금월!G30-전월!G30 -> 0 | H30: =금월!H30-전월!H30 -> 0 | I30: =금월!I30-전월!I30 -> 0 | J30: =금월!J30-전월!J30 -> 0 | K30: =금월!K30-전월!K30 -> 0 | L30: =금월!L30-전월!L30 -> 0 | M30: =금월!M30-전월!M30 -> 0 | ... BI30: =금월!BI30-전월!BI30 -> 0
C31: 내이력 등록/수정 | E31: =SUM(F31:BI31) -> 0 | F31: =금월!F31-전월!F31 -> 0 | G31: =금월!G31-전월!G31 -> 0 | H31: =금월!H31-전월!H31 -> 0 | I31: =금월!I31-전월!I31 -> 0 | J31: =금월!J31-전월!J31 -> 0 | K31: =금월!K31-전월!K31 -> 0 | L31: =금월!L31-전월!L31 -> 0 | M31: =금월!M31-전월!M31 -> 0 | ... BI31: =금월!BI31-전월!BI31 -> 0
B32: 직업정보 | E32: =SUM(F32:BI32) -> 0 | F32: =금월!F32-전월!F32 -> 0 | G32: =금월!G32-전월!G32 -> 0 | H32: =금월!H32-전월!H32 -> 0 | I32: =금월!I32-전월!I32 -> 0 | J32: =금월!J32-전월!J32 -> 0 | K32: =금월!K32-전월!K32 -> 0 | L32: =금월!L32-전월!L32 -> 0 | M32: =금월!M32-전월!M32 -> 0 | ... BI32: =금월!BI32-전월!BI32 -> 0
B33: 합격수기 | E33: =SUM(F33:BI33) -> 0 | F33: =금월!F33-전월!F33 -> 0 | G33: =금월!G33-전월!G33 -> 0 | H33: =금월!H33-전월!H33 -> 0 | I33: =금월!I33-전월!I33 -> 0 | J33: =금월!J33-전월!J33 -> 0 | K33: =금월!K33-전월!K33 -> 0 | L33: =금월!L33-전월!L33 -> 0 | M33: =금월!M33-전월!M33 -> 0 | ... BI33: =금월!BI33-전월!BI33 -> 0
B34: 철도관련기관 | E34: =SUM(F34:BI34) -> 0 | F34: =금월!F34-전월!F34 -> 0 | G34: =금월!G34-전월!G34 -> 0 | H34: =금월!H34-전월!H34 -> 0 | I34: =금월!I34-전월!I34 -> 0 | J34: =금월!J34-전월!J34 -> 0 | K34: =금월!K34-전월!K34 -> 0 | L34: =금월!L34-전월!L34 -> 0 | M34: =금월!M34-전월!M34 -> 0 | ... BI34: =금월!BI34-전월!BI34 -> 0
C35: =IF(E35=D35,1) -> 1 | D35: =SUM(E27:E34) -> 10 | E35: =SUM(F35:BI35) -> 10 | F35: =SUM(F27:F34) -> 6 | G35: =SUM(G27:G34) -> 0 | H35: =SUM(H27:H34) -> 2 | I35: =SUM(I27:I34) -> 0 | J35: =SUM(J27:J34) -> 0 | K35: =SUM(K27:K34) -> 0 | L35: =SUM(L27:L34) -> 0 | M35: =SUM(M27:M34) -> 0 | ... BI35: =SUM(BI27:BI34) -> -17
A36: 인재개벌 | B36: 교육과정안내 | E36: =SUM(F36:BI36) -> 19 | F36: =금월!F36-전월!F36 -> 0 | G36: =금월!G36-전월!G36 -> 0 | H36: =금월!H36-전월!H36 -> 0 | I36: =금월!I36-전월!I36 -> 0 | J36: =금월!J36-전월!J36 -> 0 | K36: =금월!K36-전월!K36 -> 0 | L36: =금월!L36-전월!L36 -> 0 | M36: =금월!M36-전월!M36 -> 0 | ... BI36: =금월!BI36-전월!BI36 -> 0
B37: 자격증정보 | E37: =SUM(F37:BI37) -> 0 | F37: =금월!F37-전월!F37 -> 0 | G37: =금월!G37-전월!G37 -> 0 | H37: =금월!H37-전월!H37 -> 0 | I37: =금월!I37-전월!I37 -> 0 | J37: =금월!J37-전월!J37 -> 0 | K37: =금월!K37-전월!K37 -> 0 | L37: =금월!L37-전월!L37 -> 0 | M37: =금월!M37-전월!M37 -> 0 | ... BI37: =금월!BI37-전월!BI37 -> 0
B38: 동영상강의 | E38: =SUM(F38:BI38) -> 0 | F38: =금월!F38-전월!F38 -> 0 | G38: =금월!G38-전월!G38 -> 0 | H38: =금월!H38-전월!H38 -> 0 | I38: =금월!I38-전월!I38 -> 0 | J38: =금월!J38-전월!J38 -> 0 | K38: =금월!K38-전월!K38 -> 0 | L38: =금월!L38-전월!L38 -> 0 | M38: =금월!M38-전월!M38 -> 0 | ... BI38: =금월!BI38-전월!BI38 -> 0
B39: 철도관련대학 | E39: =SUM(F39:BI39) -> 0 | F39: =금월!F39-전월!F39 -> 0 | G39: =금월!G39-전월!G39 -> 0 | H39: =금월!H39-전월!H39 -> 0 | I39: =금월!I39-전월!I39 -> 0 | J39: =금월!J39-전월!J39 -> 0 | K39: =금월!K39-전월!K39 -> 0 | L39: =금월!L39-전월!L39 -> 0 | M39: =금월!M39-전월!M39 -> 0 | ... BI39: =금월!BI39-전월!BI39 -> 0
C40: =IF(E40=D40,1) -> FALSE | D40: =SUM(E37:E39) -> 0 | E40: =SUM(F40:BI40) -> 19 | F40: =SUM(F36:F39) -> 0 | G40: =SUM(G36:G39) -> 0 | H40: =SUM(H36:H39) -> 0 | I40: =SUM(I36:I39) -> 0 | J40: =SUM(J36:J39) -> 0 | K40: =SUM(K36:K39) -> 0 | L40: =SUM(L36:L39) -> 0 | M40: =SUM(M36:M39) -> 0 | ... BI40: =SUM(BI36:BI39) -> 0
...

Sheet 제공 기관별 콘텐츠 수
A1: 제공기관 | B1: 콘텐츠 수(누적) | D1: 제공기관 | E1: 콘텐츠 수(월간)
A2: 국토교통부 | B2: ='메뉴별 기관수집량(05월31일 기준)'!B3 -> 2259 | D2: 국토교통부 | E2: ='메뉴별 기관수집량(월간)'!B3 -> 22
A3: 국가철도공단 | B3: ='메뉴별 기관수집량(05월31일 기준)'!B4 -> 37874 | D3: 국가철도공단 | E3: ='메뉴별 기관수집량(월간)'!B4 -> 53
A4: 한국철도공사 | B4: ='메뉴별 기관수집량(05월31일 기준)'!B5 -> 34368 | D4: 한국철도공사 | E4: ='메뉴별 기관수집량(월간)'!B5 -> 333
A5: 한국철도기술연구원 | B5: ='메뉴별 기관수집량(05월31일 기준)'!B6 -> 5217 | D5: 한국철도기술연구원 | E5: ='메뉴별 기관수집량(월간)'!B6 -> 19
A6: 공항철도 | B6: ='메뉴별 기관수집량(05월31일 기준)'!B7 -> 1172 | D6: 공항철도 | E6: ='메뉴별 기관수집량(월간)'!B7 -> 10
A7: 서울교통공사(서울메트로) | B7: ='메뉴별 기관수집량(05월31일 기준)'!B8 -> 448 | D7: 서울교통공사(서울메트로) | E7: ='메뉴별 기관수집량(월간)'!B8 -> 0
A8: 대구교통공사 | B8: ='메뉴별 기관수집량(05월31일 기준)'!B9 -> 2540 | D8: 대구교통공사 | E8: ='메뉴별 기관수집량(월간)'!B9 -> -2
A9: 대전교통공사 | B9: ='메뉴별 기관수집량(05월31일 기준)'!B10 -> 1702 | D9: 대전교통공사 | E9: ='메뉴별 기관수집량(월간)'!B10 -> 13
A10: 광주교통공사 | B10: ='메뉴별 기관수집량(05월31일 기준)'!B11 -> 4166 | D10: 광주교통공사 | E10: ='메뉴별 기관수집량(월간)'!B11 -> 3
A11: 부산교통공사 | B11: ='메뉴별 기관수집량(05월31일 기준)'!B12 -> 4615 | D11: 부산교통공사 | E11: ='메뉴별 기관수집량(월간)'!B12 -> -5
A12: 인천교통공사 | B12: ='메뉴별 기관수집량(05월31일 기준)'!B13 -> 2999 | D12: 인천교통공사 | E12: ='메뉴별 기관수집량(월간)'!B13 -> 23
A13: 서울교통공사(서울도시철도공사) | B13: ='메뉴별 기관수집량(05월31일 기준)'!B14 -> 535 | D13: 서울교통공사(서울도시철도공사) | E13: ='메뉴별 기관수집량(월간)'!B14 -> 0
... A57: 기타 | B57: ='메뉴별 기관수집량(05월31일 기준)'!B58 -> 128677 | D57: 기타 | E57: ='메뉴별 기관수집량(월간)'!B58 -> 2906
A58: 총계 | B58: =SUM(B2:B57) -> 392174 | D58: 총계 | E58: =SUM(E2:E57) -> 4485
